Workbook

Sheet จำนวนผู้สำเร็จ 
A1: รายงานจำนวนนักศึกษาที่สำเร็จการศึกษาระดับปริญญาตรี ปีการศึกษา 2568 จำแนกตามคณะ/สาขาวิชา ระดับการศึกษา และเพศ
A3: คณะ/หน่วยงานเทียบเท่า | C3: ผู้สำเร็จการศึกษา | F3: ผู้สำเร็จการศึกษา | I3: ผู้สำเร็จการศึกษา | L3: รวมผู้สำเร็จการศึกษาทั้งหมด | P3: ผลผลิต
C4: ภาคการศึกษาที่ 1 | F4: ภาคการศึกษาที่ 2 | I4: ภาคการศึกษาฤดูร้อน | P4: ด้านสังคม | S4: ด้านวิทยาศาสตร์ | V4: ด้านวิทยาศาสต์สุขภาพ
C5: ชาย | D5: หญิง | E5: รวม | F5: ชาย | G5: หญิง | H5: รวม | I5: ชาย | J5: หญิง | K5: รวม | L5: ชาย | M5: หญิง | N5: รวม | P5: ชาย | Q5: หญิง | R5: รวม | S5: ชาย | T5: หญิง | U5: รวม | V5: ชาย | W5: หญิง | X5: รวม
A6: คณะ ศิลปศาสตร์
B7: ภาคปกติ
B8: ระดับปริญญาตรี - หลักสูตรศิลปศาสตรบัณฑิต (วุฒิ ปวช./ม.6)
B9: การจัดการการโรงแรม | C9: 0 | D9: 6 | E9: =SUM(C9:D9) -> 6 | F9: 17 | G9: 93 | H9: =F9+G9 -> 110 | I9: 1 | J9: 5 | K9: =I9+J9 -> 6 | L9: =C9+F9+I9 -> 18 | M9: =D9+G9+J9 -> 104 | N9: =L9+M9 -> 122 | O9: 1 | P9: =IF(O9=1,L9,"0") -> 18 | Q9: =IF(O9=1,M9,"0") -> 104 | R9: =IF(O9=1,N9,"0") -> 122 | S9: =IF(O9=2,L9,"0") -> 0 | T9: =IF(O9=2,M9,"0") -> 0 | U9: =IF(O9=2,N9,"0") -> 0 | V9: =IF(O9=3,L9,"0") -> 0 | W9: =IF(O9=3,M9,"0") -> 0 | X9: =IF(O9=3,N9,"0") -> 0
B10: การท่องเที่ยว | C10: 1 | D10: 0 | E10: =SUM(C10:D10) -> 1 | F10: 29 | G10: 79 | H10: =F10+G10 -> 108 | I10: 0 | J10: 2 | K10: =I10+J10 -> 2 | L10: =C10+F10+I10 -> 30 | M10: =D10+G10+J10 -> 81 | N10: =L10+M10 -> 111 | O10: 1 | P10: =IF(O10=1,L10,"0") -> 30 | Q10: =IF(O10=1,M10,"0") -> 81 | R10: =IF(O10=1,N10,"0") -> 111 | S10: =IF(O10=2,L10,"0") -> 0 | T10: =IF(O10=2,M10,"0") -> 0 | U10: =IF(O10=2,N10,"0") -> 0 | V10: =IF(O10=3,L10,"0") -> 0 | W10: =IF(O10=3,M10,"0") -> 0 | X10: =IF(O10=3,N10,"0") -> 0
B11: พลศึกษา | C11: 0 | D11: 0 | E11: =SUM(C11:D11) -> 0 | F11: 39 | G11: 5 | H11: =F11+G11 -> 44 | I11: 1 | J11: 1 | K11: =I11+J11 -> 2 | L11: =C11+F11+I11 -> 40 | M11: =D11+G11+J11 -> 6 | N11: =L11+M11 -> 46 | O11: 1 | P11: =IF(O11=1,L11,"0") -> 40 | Q11: =IF(O11=1,M11,"0") -> 6 | R11: =IF(O11=1,N11,"0") -> 46 | S11: =IF(O11=2,L11,"0") -> 0 | T11: =IF(O11=2,M11,"0") -> 0 | U11: =IF(Q11=2,N11,"0") -> 0 | V11: =IF(O11=3,L11,"0") -> 0 | W11: =IF(O11=3,M11,"0") -> 0 | X11: =IF(O11=3,N11,"0") -> 0
B12: ภาษาอังกฤษเพื่อการสื่อสาร | C12: 2 | D12: 1 | E12: =SUM(C12:D12) -> 3 | F12: 31 | G12: 82 | H12: =F12+G12 -> 113 | I12: 0 | J12: 1 | K12: =I12+J12 -> 1 | L12: =C12+F12+I12 -> 33 | M12: =D12+G12+J12 -> 84 | N12: =L12+M12 -> 117 | O12: 1 | P12: =IF(O12=1,L12,"0") -> 33 | Q12: =IF(O12=1,M12,"0") -> 84 | R12: =IF(O12=1,N12,"0") -> 117 | S12: =IF(O12=2,L12,"0") -> 0 | T12: =IF(O12=2,M12,"0") -> 0 | U12: =IF(Q12=2,N12,"0") -> 0 | V12: =IF(O12=3,L12,"0") -> 0 | W12: =IF(O12=3,M12,"0") -> 0 | X12: =IF(O12=3,N12,"0") -> 0
B13: อุตสาหกรรมการบริการการบิน | C13: 0 | D13: 0 | E13: =SUM(C13:D13) -> 0 | F13: 0 | G13: 26 | H13: =F13+G13 -> 26 | I13: 0 | J13: 0 | K13: =I13+J13 -> 0 | L13: =C13+F13+I13 -> 0 | M13: =D13+G13+J13 -> 26 | N13: =L13+M13 -> 26 | O13: 1 | P13: =IF(O13=1,L13,"0") -> 0 | Q13: =IF(O13=1,M13,"0") -> 26 | R13: =IF(O13=1,N13,"0") -> 26 | S13: =IF(O13=2,L13,"0") -> 0 | T13: =IF(O13=2,M13,"0") -> 0 | U13: =IF(Q13=2,N13,"0") -> 0 | V13: =IF(O13=3,L13,"0") -> 0 | W13: =IF(O13=3,M13,"0") -> 0 | X13: =IF(O13=3,N13,"0") -> 0
B14: รวมในหลักสูตร | C14: =SUM(C9:C13) -> 3 | D14: =SUM(D9:D13) -> 7 | E14: =SUM(E9:E13) -> 10 | F14: =SUM(F9:F13) -> 116 | G14: =SUM(G9:G13) -> 285 | H14: =SUM(H9:H13) -> 401 | I14: =SUM(I9:I13) -> 2 | J14: =SUM(J9:J13) -> 9 | K14: =SUM(K9:K13) -> 11 | L14: =C14+F14+I14 -> 121 | M14: =D14+G14+J14 -> 301 | N14: =L14+M14 -> 422 | P14: =SUM(P9:P13) -> 121 | Q14: =SUM(Q9:Q13) -> 301 | R14: =SUM(R9:R13) -> 422 | S14: =SUM(S9:S13) -> 0 | T14: =SUM(T9:T13) -> 0 | U14: =SUM(U9:U13) -> 0 | V14: =SUM(V9:V13) -> 0 | W14: =SUM(W9:W13) -> 0 | X14: =SUM(X9:X13) -> 0
B15: ระดับปริญญาตรี - หลักสูตรศิลปศาสตรบัณฑิต (วุฒิ ปวส. เทียบโอน)
B16: การจัดการการโรงแรม | C16: 0 | D16: 0 | E16: =C16+D16 -> 0 | F16: 10 | G16: 28 | H16: =F16+G16 -> 38 | I16: 0 | J16: 1 | K16: =I16+J16 -> 1 | L16: =C16+F16+I16 -> 10 | M16: =D16+G16+J16 -> 29 | N16: =L16+M16 -> 39 | O16: 1 | P16: =IF(O16=1,L16,"0") -> 10 | Q16: =IF(O16=1,M16,"0") -> 29 | R16: =IF(O16=1,N16,"0") -> 39 | S16: =IF(O16=2,L16,"0") -> 0 | T16: =IF(O16=2,M16,"0") -> 0 | U16: =IF(Q16=2,N16,"0") -> 0 | V16: =IF(O16=3,L16,"0") -> 0 | W16: =IF(O16=3,M16,"0") -> 0 | X16: =IF(O16=3,N16,"0") -> 0
B17: รวมในหลักสูตร | C17: =SUM(C16:C16) -> 0 | D17: =SUM(D16:D16) -> 0 | E17: =SUM(E16:E16) -> 0 | F17: =SUM(F16:F16) -> 10 | G17: =SUM(G16:G16) -> 28 | H17: =SUM(H16:H16) -> 38 | I17: =SUM(I16:I16) -> 0 | J17: =SUM(J16:J16) -> 1 | K17: =SUM(K16:K16) -> 1 | L17: =C17+F17+I17 -> 10 | M17: =D17+G17+J17 -> 29 | N17: =L17+M17 -> 39 | O17: =SUM(O16:O16) -> 1 | P17: =SUM(P16:P16) -> 10 | Q17: =SUM(Q16:Q16) -> 29 | R17: =SUM(R16:R16) -> 39 | S17: =SUM(S16:S16) -> 0 | T17: =SUM(T16:T16) -> 0 | U17: =SUM(U16:U16) -> 0 | V17: =SUM(V16:V16) -> 0 | ... X17: =SUM(X16:X16) -> 0
B18: รวมภาคปกติ | C18: =C14+C17 -> 3 | D18: =D14+D17 -> 7 | E18: =E14+E17 -> 10 | F18: =F14+F17 -> 126 | G18: =G14+G17 -> 313 | H18: =H14+H17 -> 439 | I18: =I14+I17 -> 2 | J18: =J14+J17 -> 10 | K18: =K14+K17 -> 12 | L18: =C18+F18+I18 -> 131 | M18: =D18+G18+J18 -> 330 | N18: =L18+M18 -> 461 | O18: 1 | P18: =P17+P14 -> 131 | Q18: =Q17+Q14 -> 330 | R18: =R17+R14 -> 461 | S18: =S17+S14 -> 0 | T18: =T17+T14 -> 0 | U18: =U17+U14 -> 0 | V18: =V17+V14 -> 0 | W18: =W17+W14 -> 0 | X18: =X17+X14 -> 0
B19: ภาคพิเศษ
B20: ระดับปริญญาตรี - หลักสูตรศิลปศาสตรบัณฑิต (วุฒิ ปวช./ม.6)
B21: การจัดการการโรงแรม | C21: 0 | D21: 0 | E21: =C21+D21 -> 0 | F21: 10 | G21: 9 | H21: =F21+G21 -> 19 | I21: 2 | J21: 2 | K21: =I21+J21 -> 4 | L21: =C21+F21+I21 -> 12 | M21: =D21+G21+J21 -> 11 | N21: =L21+M21 -> 23 | O21: 1 | P21: =IF(O21=1,L21,"0") -> 12 | Q21: =IF(O21=1,M21,"0") -> 11 | R21: =IF(O21=1,N21,"0") -> 23 | S21: =IF(O21=2,L21,"0") -> 0 | T21: =IF(O21=2,M21,"0") -> 0 | U21: =IF(O21=2,N21,"0") -> 0 | V21: =IF(O21=3,L21,"0") -> 0 | W21: =IF(O21=3,M21,"0") -> 0 | X21: =IF(O21=3,N21,"0") -> 0
B22: ภาษาอังกฤษเพื่อการสื่อสาร | C22: 0 | D22: 4 | E22: =C22+D22 -> 4 | F22: 12 | G22: 18 | H22: =F22+G22 -> 30 | I22: 1 | J22: 2 | K22: =I22+J22 -> 3 | L22: =C22+F22+I22 -> 13 | M22: =D22+G22+J22 -> 24 | N22: =L22+M22 -> 37 | O22: 1 | P22: =IF(O22=1,L22,"0") -> 13 | Q22: =IF(O22=1,M22,"0") -> 24 | R22: =IF(O22=1,N22,"0") -> 37 | S22: =IF(O22=2,L22,"0") -> 0 | T22: =IF(O22=2,M22,"0") -> 0 | U22: =IF(Q22=2,N22,"0") -> 0 | V22: =IF(O22=3,L22,"0") -> 0 | W22: =IF(O22=3,M22,"0") -> 0 | X22: =IF(O22=3,N22,"0") -> 0
B23: รวมในหลักสูตร | C23: =SUM(C21:C22) -> 0 | D23: =SUM(D21:D22) -> 4 | E23: =SUM(E21:E22) -> 4 | F23: =SUM(F21:F22) -> 22 | G23: =SUM(G21:G22) -> 27 | H23: =SUM(H21:H22) -> 49 | I23: =SUM(I21:I22) -> 3 | J23: =SUM(J21:J22) -> 4 | ... N23: =SUM(N21:N22) -> 60 | O23: 1 | P23: =SUM(P21:P22) -> 25 | Q23: =SUM(Q21:Q22) -> 35 | R23: =SUM(R21:R22) -> 60 | S23: =SUM(S21:S22) -> 0 | T23: =SUM(T21:T22) -> 0 | U23: =SUM(U21:U22) -> 0 | V23: =SUM(V21:V22) -> 0 | W23: =SUM(W21:W22) -> 0 | X23: =SUM(X21:X22) -> 0
B24: ระดับปริญญาตรี - หลักสูตรศิลปศาสตรบัณฑิต (วุฒิ ปวส. เทียบโอน)
B25: การจัดการการโรงแรม | C25: 0 | D25: 2 | E25: =C25+D25 -> 2 | F25: 3 | G25: 6 | H25: =F25+G25 -> 9 | I25: 0 | J25: 1 | K25: =I25+J25 -> 1 | L25: =C25+F25+I25 -> 3 | M25: =D25+G25+J25 -> 9 | N25: =L25+M25 -> 12 | O25: 1 | P25: =IF(O25=1,L25,"0") -> 3 | Q25: =IF(O25=1,M25,"0") -> 9 | R25: =IF(O25=1,N25,"0") -> 12 | S25: =IF(O25=2,L25,"0") -> 0 | T25: =IF(O25=2,M25,"0") -> 0 | U25: =IF(Q25=2,N25,"0") -> 0 | V25: =IF(O25=3,L25,"0") -> 0 | W25: =IF(O25=3,M25,"0") -> 0 | X25: =IF(O25=3,N25,"0") -> 0
B26: รวมในหลักสูตร | C26: =C25 -> 0 | D26: =D25 -> 2 | E26: =E25 -> 2 | F26: =F25 -> 3 | G26: =G25 -> 6 | H26: =H25 -> 9 | I26: =I25 -> 0 | J26: =J25 -> 1 | ... N26: =N25 -> 12 | P26: =P25 -> 3 | Q26: =Q25 -> 9 | R26: =R25 -> 12 | S26: =S25 -> 0 | T26: =T25 -> 0 | U26: =U25 -> 0 | V26: =V25 -> 0 | W26: =W25 -> 0 | X26: =X25 -> 0
B27: รวมภาคพิเศษ | C27: =C26+C23 -> 0 | D27: =D26+D23 -> 6 | E27: =E26+E23 -> 6 | F27: =F26+F23 -> 25 | G27: =G26+G23 -> 33 | H27: =H26+H23 -> 58 | I27: =I26+I23 -> 3 | J27: =J26+J23 -> 5 | ... X27: =X26+X23 -> 0
B28: รวมทั้งคณะ | C28: =C18+C27 -> 3 | D28: =D18+D27 -> 13 | E28: =E18+E27 -> 16 | F28: =F18+F27 -> 151 | G28: =G18+G27 -> 346 | H28: =H18+H27 -> 497 | I28: =I18+I27 -> 5 | J28: =J18+J27 -> 15 | K28: =K18+K27 -> 20 | L28: =C28+F28+I28 -> 159 | M28: =D28+G28+J28 -> 374 | N28: =L28+M28 -> 533 | O28: =SUM(O27) -> 1 | P28: =P27+P18 -> 159 | Q28: =Q27+Q18 -> 374 | R28: =R27+R18 -> 533 | S28: =S27+S18 -> 0 | T28: =T27+T18 -> 0 | U28: =U27+U18 -> 0 | V28: =V27+V18 -> 0 | W28: =W27+W18 -> 0 | X28: =X27+X18 -> 0
A29: คณะครุศาสตร์อุตสาหกรรม
B30: ภาคปกติ
B31: ระดับปริญญาตรี - หลักสูตรครุศาสตร์อุตสาหกรรมบัณฑิต (วุฒิ ปวช./ม.6)
B32: วิศวกรรมคอมพิวเตอร์ | C32: 6 | D32: 1 | E32: =C32+D32 -> 7 | F32: 5 | G32: 4 | H32: =F32+G32 -> 9 | I32: 5 | J32: 6 | K32: =I32+J32 -> 11 | L32: =C32+F32+I32 -> 16 | M32: =D32+G32+J32 -> 11 | N32: =L32+M32 -> 27 | O32: 2 | P32: =IF(O32=1,#REF!,"0") -> 0 | Q32: =IF(O32=1,#REF!,"0") -> 0 | R32: =IF(O32=1,#REF!,"0") -> 0 | S32: =IF(O32=2,L32,"0") -> 16 | T32: =IF(O32=2,M32,"0") -> 11 | U32: =IF(O32=2,N32,"0") -> 27 | V32: =IF(O32=3,L32,"0") -> 0 | W32: =IF(O32=3,M32,"0") -> 0 | X32: =IF(O32=3,N32,"0") -> 0
B33: วิศวกรรมเครื่องกล | C33: 0 | D33: 1 | E33: =C33+D33 -> 1 | F33: 15 | G33: 0 | H33: =F33+G33 -> 15 | I33: 10 | J33: 0 | K33: =I33+J33 -> 10 | L33: =C33+F33+I33 -> 25 | M33: =D33+G33+J33 -> 1 | N33: =L33+M33 -> 26 | O33: 2 | P33: =IF(O33=1,#REF!,"0") -> 0 | Q33: =IF(O33=1,#REF!,"0") -> 0 | R33: =IF(O33=1,#REF!,"0") -> 0 | S33: =IF(O33=2,L33,"0") -> 25 | T33: =IF(O33=2,M33,"0") -> 1 | U33: =IF(O33=2,N33,"0") -> 26 | V33: =IF(O33=3,L33,"0") -> 0 | W33: =IF(O33=3,M33,"0") -> 0 | X33: =IF(O33=3,N33,"0") -> 0
B34: วิศวกรรมไฟฟ้า | C34: 6 | D34: 3 | E34: =C34+D34 -> 9 | F34: 3 | G34: 4 | H34: =F34+G34 -> 7 | I34: 0 | J34: 2 | K34: =I34+J34 -> 2 | L34: =C34+F34+I34 -> 9 | M34: =D34+G34+J34 -> 9 | N34: =L34+M34 -> 18 | O34: 2 | P34: =IF(O34=1,#REF!,"0") -> 0 | Q34: =IF(O34=1,#REF!,"0") -> 0 | R34: =IF(O34=1,#REF!,"0") -> 0 | S34: =IF(O34=2,L34,"0") -> 9 | T34: =IF(O34=2,M34,"0") -> 9 | U34: =IF(O34=2,N34,"0") -> 18 | V34: =IF(O34=3,L34,"0") -> 0 | W34: =IF(O34=3,M34,"0") -> 0 | X34: =IF(O34=3,N34,"0") -> 0
B35: วิศวกรรมอิเล็กทรอนิกส์และระบบอัตโนมัติ | C35: 0 | D35: 1 | E35: =C35+D35 -> 1 | F35: 0 | G35: 3 | H35: =F35+G35 -> 3 | I35: 1 | J35: 0 | K35: =I35+J35 -> 1 | L35: =C35+F35+I35 -> 1 | M35: =D35+G35+J35 -> 4 | N35: =L35+M35 -> 5 | O35: 2 | P35: =IF(O35=1,#REF!,"0") -> 0 | Q35: =IF(O35=1,#REF!,"0") -> 0 | R35: =IF(O35=1,#REF!,"0") -> 0 | S35: =IF(O35=2,L35,"0") -> 1 | T35: =IF(O35=2,M35,"0") -> 4 | U35: =IF(O35=2,N35,"0") -> 5 | V35: =IF(O35=3,L35,"0") -> 0 | W35: =IF(O35=3,M35,"0") -> 0 | X35: =IF(O35=3,N35,"0") -> 0
B36: วิศวกรรมอุตสาหการ | C36: 1 | D36: 0 | E36: =C36+D36 -> 1 | F36: 5 | G36: 8 | H36: =F36+G36 -> 13 | I36: 2 | J36: 0 | K36: =I36+J36 -> 2 | L36: =C36+F36+I36 -> 8 | M36: =D36+G36+J36 -> 8 | N36: =L36+M36 -> 16 | O36: 2 | P36: =IF(O36=1,#REF!,"0") -> 0 | Q36: =IF(O36=1,#REF!,"0") -> 0 | R36: =IF(O36=1,#REF!,"0") -> 0 | S36: =IF(O36=2,L36,"0") -> 8 | T36: =IF(O36=2,M36,"0") -> 8 | U36: =IF(O36=2,N36,"0") -> 16 | V36: =IF(O36=3,L36,"0") -> 0 | W36: =IF(O36=3,M36,"0") -> 0 | X36: =IF(O36=3,N36,"0") -> 0
B37: รวมในหลักสูตร | C37: =SUM(C32:C36) -> 13 | D37: =SUM(D32:D36) -> 6 | E37: =SUM(E32:E36) -> 19 | F37: =SUM(F32:F36) -> 28 | G37: =SUM(G32:G36) -> 19 | H37: =SUM(H32:H36) -> 47 | I37: =SUM(I32:I36) -> 18 | J37: =SUM(J32:J36) -> 8 | ... N37: =SUM(N32:N36) -> 92 | O37: 2 | P37: =SUM(P32:P36) -> 0 | Q37: =SUM(Q32:Q36) -> 0 | R37: =SUM(R32:R36) -> 0 | S37: =SUM(S32:S36) -> 59 | T37: =SUM(T32:T36) -> 33 | U37: =SUM(U32:U36) -> 92 | V37: =SUM(V32:V36) -> 0 | W37: =SUM(W32:W36) -> 0 | X37: =SUM(X32:X36) -> 0
B38: ระดับปริญญาตรี - หลักสูตรครุศาสตร์อุตสาหกรรมบัณฑิต (วุฒิ ปวช./ม.6 ได้รับใบประกอบวิชาชีพครู)
B39: วิศวกรรมคอมพิวเตอร์ | C39: 3 | D39: 4 | E39: =SUM(C39:D39) -> 7 | F39: 0 | G39: 0 | H39: =F39+G39 -> 0 | I39: 0 | J39: 0 | K39: =I39+J39 -> 0 | L39: =C39+F39+I39 -> 3 | M39: =D39+G39+J39 -> 4 | N39: =L39+M39 -> 7 | O39: 2 | P39: =IF(O39=1,L39,"0") -> 0 | Q39: =IF(O39=1,M39,"0") -> 0 | R39: =IF(Q39=1,N39,"0") -> 0 | S39: =IF(O39=2,L39,"0") -> 3 | T39: =IF(O39=2,M39,"0") -> 4 | U39: =IF(O39=2,N39,"0") -> 7 | V39: =IF(O39=3,L39,"0") -> 0 | W39: =IF(O39=3,M39,"0") -> 0 | X39: =IF(O39=3,N39,"0") -> 0
B40: วิศวกรรมโยธา | C40: 1 | D40: 0 | E40: =SUM(C40:D40) -> 1 | F40: 0 | G40: 0 | H40: =F40+G40 -> 0 | I40: 0 | J40: 0 | K40: =I40+J40 -> 0 | L40: =C40+F40+I40 -> 1 | M40: =D40+G40+J40 -> 0 | N40: =L40+M40 -> 1 | O40: 2 | P40: =IF(O40=1,L40,"0") -> 0 | Q40: =IF(O40=1,M40,"0") -> 0 | R40: =IF(Q40=1,N40,"0") -> 0 | S40: =IF(O40=2,L40,"0") -> 1 | T40: =IF(O40=2,M40,"0") -> 0 | U40: =IF(O40=2,N40,"0") -> 1 | V40: =IF(O40=3,L40,"0") -> 0 | W40: =IF(O40=3,M40,"0") -> 0 | X40: =IF(O40=3,N40,"0") -> 0
B41: รวมในหลักสูตร | C41: =SUM(C39:C40) -> 4 | D41: =SUM(D39:D40) -> 4 | E41: =SUM(E39:E40) -> 8 | F41: =SUM(F39:F40) -> 0 | G41: =SUM(G39:G40) -> 0 | H41: =SUM(H39:H40) -> 0 | I41: =SUM(I39:I40) -> 0 | J41: =SUM(J39:J40) -> 0 | K41: =SUM(K39:K40) -> 0 | L41: =C41+F41+I41 -> 4 | M41: =D41+G41+J41 -> 4 | N41: =L41+M41 -> 8 | O41: =SUM(O39:O40) -> 4 | P41: =SUM(P39:P40) -> 0 | Q41: =SUM(Q39:Q40) -> 0 | R41: =SUM(R39:R40) -> 0 | S41: =SUM(S39:S40) -> 4 | T41: =SUM(T39:T40) -> 4 | U41: =SUM(U39:U40) -> 8 | V41: =SUM(V39:V40) -> 0 | ... X41: =SUM(X39:X40) -> 0
B42: ระดับปริญญาตรี - หลักสูตรศึกษาศาสตรบัณฑิต (วุฒิ ปวช./ม.6)
B43: เทคโนโลยีดิจิทัลเพื่อการศึกษา | C43: 0 | D43: 0 | E43: =C43+D43 -> 0 | F43: 8 | G43: 3 | H43: =F43+G43 -> 11 | I43: 2 | J43: 3 | K43: =I43+J43 -> 5 | L43: =C43+F43+I43 -> 10 | M43: =D43+G43+J43 -> 6 | N43: =L43+M43 -> 16 | O43: 2 | P43: =IF(O43=1,L43,"0") -> 0 | Q43: =IF(O43=1,M43,"0") -> 0 | R43: =IF(O43=1,N43,"0") -> 0 | S43: =IF(O43=2,L43,"0") -> 10 | T43: =IF(O43=2,M43,"0") -> 6 | U43: =IF(O43=2,N43,"0") -> 16 | V43: =IF(O43=3,L43,"0") -> 0 | W43: =IF(O43=3,M43,"0") -> 0 | X43: =IF(O43=3,N43,"0") -> 0
B44: เทคโนโลยีและสื่อสารการศึกษา | C44: 1 | D44: 1 | E44: =C44+D44 -> 2 | F44: 12 | G44: 21 | H44: =F44+G44 -> 33 | I44: 5 | J44: 0 | K44: =I44+J44 -> 5 | L44: =C44+F44+I44 -> 18 | M44: =D44+G44+J44 -> 22 | N44: =L44+M44 -> 40 | O44: 2 | P44: =IF(O44=1,L44,"0") -> 0 | Q44: =IF(O44=1,M44,"0") -> 0 | R44: =IF(O44=1,N44,"0") -> 0 | S44: =IF(O44=2,L44,"0") -> 18 | T44: =IF(O44=2,M44,"0") -> 22 | U44: =IF(O44=2,N44,"0") -> 40 | V44: =IF(O44=3,L44,"0") -> 0 | W44: =IF(O44=3,M44,"0") -> 0 | X44: =IF(O44=3,N44,"0") -> 0
B45: รวมในหลักสูตร | C45: =SUM(C43:C44) -> 1 | D45: =SUM(D43:D44) -> 1 | E45: =SUM(E43:E44) -> 2 | F45: =SUM(F43:F44) -> 20 | G45: =SUM(G43:G44) -> 24 | H45: =SUM(H43:H44) -> 44 | I45: =SUM(I43:I44) -> 7 | J45: =SUM(J43:J44) -> 3 | K45: =SUM(K43:K44) -> 10 | L45: =C45+F45+I45 -> 28 | M45: =D45+G45+J45 -> 28 | N45: =L45+M45 -> 56 | O45: =SUM(O43:O44) -> 4 | P45: =SUM(P43:P44) -> 0 | Q45: =SUM(Q43:Q44) -> 0 | R45: =SUM(R43:R44) -> 0 | S45: =SUM(S43:S44) -> 28 | T45: =SUM(T43:T44) -> 28 | U45: =SUM(U43:U44) -> 56 | V45: =SUM(V43:V44) -> 0 | ... X45: =SUM(X43:X44) -> 0
B46: ระดับปริญญาตรี - หลักสูตรวิทยาศาสตรบัณฑิต (วุฒิ ปวช./ม.6)
B47: นวัตกรรมการเรียนรู้และเทคโนโลยีสารสนเทศ | C47: 0 | D47: 1 | E47: =C47+D47 -> 1 | F47: 29 | G47: 19 | H47: =F47+G47 -> 48 | I47: 5 | J47: 2 | K47: =I47+J47 -> 7 | L47: =C47+F47+I47 -> 34 | M47: =D47+G47+J47 -> 22 | N47: =L47+M47 -> 56 | O47: 2 | P47: =IF(O47=1,L47,"0") -> 0 | Q47: =IF(O47=1,M47,"0") -> 0 | R47: =IF(O47=1,N47,"0") -> 0 | S47: =IF(O47=2,L47,"0") -> 34 | T47: =IF(O47=2,M47,"0") -> 22 | U47: =IF(O47=2,N47,"0") -> 56 | V47: =IF(O47=3,L47,"0") -> 0 | W47: =IF(O47=3,M47,"0") -> 0 | X47: =IF(O47=3,N47,"0") -> 0
B48: รวมในหลักสูตร | C48: =SUM(C47) -> 0 | D48: =SUM(D47) -> 1 | E48: =SUM(E47) -> 1 | F48: =SUM(F47) -> 29 | G48: =SUM(G47) -> 19 | H48: =SUM(H47) -> 48 | I48: =SUM(I47) -> 5 | J48: =SUM(J47) -> 2 | ... X48: =SUM(X47) -> 0
B49: ระดับปริญญาตรี - หลักสูตรอุตสาหกรรมศาสตรบัณฑิต (วุฒิ ปวช./ม.6)
B50: เทคโนโลยีบริหารงานก่อสร้าง | C50: 2 | D50: 1 | E50: =C50+D50 -> 3 | F50: 3 | G50: 7 | H50: =F50+G50 -> 10 | I50: 0 | J50: 0 | K50: =I50+J50 -> 0 | L50: =C50+F50+I50 -> 5 | M50: =D50+G50+J50 -> 8 | N50: =L50+M50 -> 13 | O50: 2 | P50: =IF(O50=1,L50,"0") -> 0 | Q50: =IF(O50=1,M50,"0") -> 0 | R50: =IF(O50=1,N50,"0") -> 0 | S50: =IF(O50=2,L50,"0") -> 5 | T50: =IF(O50=2,M50,"0") -> 8 | U50: =IF(O50=2,N50,"0") -> 13 | V50: =IF(O50=3,L50,"0") -> 0 | W50: =IF(O50=3,M50,"0") -> 0 | X50: =IF(O50=3,N50,"0") -> 0
B51: รวมในหลักสูตร | C51: =SUM(C50:C50) -> 2 | D51: =SUM(D50:D50) -> 1 | E51: =SUM(E50:E50) -> 3 | F51: =SUM(F50:F50) -> 3 | G51: =SUM(G50:G50) -> 7 | H51: =SUM(H50:H50) -> 10 | I51: =SUM(I50:I50) -> 0 | J51: =SUM(J50:J50) -> 0 | K51: =SUM(K50:K50) -> 0 | L51: =C51+F51+I51 -> 5 | M51: =D51+G51+J51 -> 8 | N51: =L51+M51 -> 13 | O51: =SUM(#REF!) -> #REF! | P51: =SUM(P50:P50) -> 0 | Q51: =SUM(Q50:Q50) -> 0 | R51: =SUM(R50:R50) -> 0 | S51: =SUM(S50:S50) -> 5 | T51: =SUM(T50:T50) -> 8 | U51: =SUM(U50:U50) -> 13 | V51: =SUM(V50:V50) -> 0 | W51: =SUM(W50:W50) -> 0 | X51: =SUM(X50:X50) -> 0
B52: ระดับปริญญาตรี - วิศวกรรมศาสตรบัณฑิต (วุฒิ ปวช./ม.6)
B53: วิศวกรรมเมคคาทรอนิกส์ | C53: 11 | D53: 4 | E53: =SUM(C53:D53) -> 15 | F53: 11 | G53: 6 | H53: =SUM(F53:G53) -> 17 | I53: 1 | J53: 0 | K53: =SUM(I53:J53) -> 1 | L53: =C53+F53+I53 -> 23 | M53: =D53+G53+J53 -> 10 | N53: =L53+M53 -> 33 | O53: 2 | P53: =IF(O53=1,L53,"0") -> 0 | Q53: =IF(O53=1,M53,"0") -> 0 | R53: =IF(O53=1,N53,"0") -> 0 | S53: =IF(O53=2,L53,"0") -> 23 | T53: =IF(O53=2,M53,"0") -> 10 | U53: =IF(O53=2,N53,"0") -> 33 | V53: =IF(O53=3,L53,"0") -> 0 | W53: =IF(O53=3,M53,"0") -> 0 | X53: =IF(O53=3,N53,"0") -> 0
B54: รวมในหลักสูตร | C54: =SUM(C53) -> 11 | D54: =SUM(D53) -> 4 | E54: =SUM(E53) -> 15 | F54: =SUM(F53) -> 11 | G54: =SUM(G53) -> 6 | H54: =SUM(H53) -> 17 | I54: =SUM(I53) -> 1 | J54: =SUM(J53) -> 0 | K54: =SUM(K53) -> 1 | L54: =C54+F54+I54 -> 23 | M54: =D54+G54+J54 -> 10 | N54: =L54+M54 -> 33 | O54: =SUM(O53) -> 2 | P54: =SUM(P53) -> 0 | Q54: =SUM(Q53) -> 0 | R54: =SUM(R53) -> 0 | S54: =SUM(S53) -> 23 | T54: =SUM(T53) -> 10 | U54: =SUM(U53) -> 33 | V54: =SUM(V53) -> 0 | ... X54: =SUM(X53) -> 0
B55: ระดับปริญญาตรี - หลักสูตรอุตสาหกรรมศาสตรบัณฑิต (วุฒิ ปวส. ต่อเนื่อง)
B56: เทคโนโลยีการผลิต | C56: 14 | D56: 2 | E56: =SUM(C56:D56) -> 16 | F56: 3 | G56: 3 | H56: =SUM(F56:G56) -> 6 | I56: 12 | J56: 3 | K56: =SUM(I56:J56) -> 15 | L56: =C56+F56+I56 -> 29 | M56: =D56+G56+J56 -> 8 | N56: =L56+M56 -> 37 | O56: 2 | P56: =IF(O56=1,L56,"0") -> 0 | Q56: =IF(O56=1,M56,"0") -> 0 | R56: =IF(O56=1,N56,"0") -> 0 | S56: =IF(O56=2,L56,"0") -> 29 | T56: =IF(O56=2,M56,"0") -> 8 | U56: =IF(O56=2,N56,"0") -> 37 | V56: =IF(O56=3,L56,"0") -> 0 | W56: =IF(O56=3,M56,"0") -> 0 | X56: =IF(O56=3,N56,"0") -> 0
B57: รวมในหลักสูตร | C57: =SUM(C56:C56) -> 14 | D57: =SUM(D56:D56) -> 2 | E57: =SUM(E56:E56) -> 16 | F57: =SUM(F56:F56) -> 3 | G57: =SUM(G56:G56) -> 3 | H57: =SUM(H56:H56) -> 6 | I57: =SUM(I56:I56) -> 12 | J57: =SUM(J56:J56) -> 3 | K57: =SUM(K56:K56) -> 15 | L57: =C57+F57+I57 -> 29 | M57: =D57+G57+J57 -> 8 | N57: =L57+M57 -> 37 | O57: =SUM(O56) -> 2 | P57: =SUM(P56) -> 0 | Q57: =SUM(Q56) -> 0 | R57: =SUM(R56) -> 0 | S57: =SUM(S56:S56) -> 29 | T57: =SUM(T56:T56) -> 8 | U57: =SUM(U56:U56) -> 37 | V57: =SUM(V56:V56) -> 0 | W57: =SUM(W56:W56) -> 0 | X57: =SUM(X56:X56) -> 0
B58: ระดับปริญญาตรี - หลักสูตรวิศวกรรมศาสตรบัณฑิต (วุฒิ ปวส. เทียบโอน)
B59: วิศวกรรมเมคคาทรอนิกส์ | C59: 31 | D59: 7 | E59: =SUM(C59:D59) -> 38 | F59: 8 | G59: 2 | H59: =SUM(F59:G59) -> 10 | I59: 10 | J59: 0 | K59: =SUM(I59:J59) -> 10 | L59: =C59+F59+I59 -> 49 | M59: =D59+G59+J59 -> 9 | N59: =L59+M59 -> 58 | O59: 2 | P59: =IF(O59=1,L59,"0") -> 0 | Q59: =IF(O59=1,M59,"0") -> 0 | R59: =IF(O59=1,N59,"0") -> 0 | S59: =IF(O59=2,L59,"0") -> 49 | T59: =IF(O59=2,M59,"0") -> 9 | U59: =IF(O59=2,N59,"0") -> 58 | V59: =IF(O59=3,L59,"0") -> 0 | W59: =IF(O59=3,M59,"0") -> 0 | X59: =IF(O59=3,N59,"0") -> 0
B60: รวมในหลักสูตร | C60: =SUM(C59) -> 31 | D60: =SUM(D59) -> 7 | E60: =SUM(E59) -> 38 | F60: =SUM(F59) -> 8 | G60: =SUM(G59) -> 2 | H60: =SUM(H59) -> 10 | I60: =SUM(I59) -> 10 | J60: =SUM(J59) -> 0 | K60: =SUM(K59) -> 10 | L60: =C60+F60+I60 -> 49 | M60: =D60+G60+J60 -> 9 | N60: =L60+M60 -> 58 | O60: =SUM(O59) -> 2 | P60: =SUM(P59) -> 0 | Q60: =SUM(Q59) -> 0 | R60: =SUM(R59) -> 0 | S60: =SUM(S59) -> 49 | T60: =SUM(T59) -> 9 | U60: =SUM(U59) -> 58 | V60: =SUM(V59) -> 0 | ... X60: =SUM(X59) -> 0
B61: รวมภาคปกติ | C61: =C60+C57+C54+C51+C48+C45+C41+C37 -> 76 | D61: =D60+D57+D54+D51+D48+D45+D41+D37 -> 26 | E61: =E60+E57+E54+E51+E48+E45+E41+E37 -> 102 | F61: =F60+F57+F54+F51+F48+F45+F41+F37 -> 102 | G61: =G60+G57+G54+G51+G48+G45+G41+G37 -> 80 | H61: =H60+H57+H54+H51+H48+H45+H41+H37 -> 182 | I61: =I60+I57+I54+I51+I48+I45+I41+I37 -> 53 | J61: =J60+J57+J54+J51+J48+J45+J41+J37 -> 16 | ... X61: =X60+X57+X54+X51+X48+X45+X41+X37 -> 0
B62: ภาคพิเศษ
B63: ระดับปริญญาตรี - หลักสูตรอุตสาหกรรมศาสตรบัณฑิต (วุฒิ ปวส. ต่อเนื่อง)
B64: เทคโนโลยีการผลิต | C64: 2 | D64: 0 | E64: =C64+D64 -> 2 | F64: 12 | G64: 1 | H64: =F64+G64 -> 13 | I64: 1 | J64: 1 | K64: =I64+J64 -> 2 | L64: =C64+F64+I64 -> 15 | M64: =D64+G64+J64 -> 2 | N64: =L64+M64 -> 17 | O64: 2 | P64: =IF(O64=1,L64,"0") -> 0 | Q64: =IF(O64=1,M64,"0") -> 0 | R64: =IF(O64=1,N64,"0") -> 0 | S64: =IF(O64=2,L64,"0") -> 15 | T64: =IF(O64=2,M64,"0") -> 2 | U64: =IF(O64=2,N64,"0") -> 17 | V64: =IF(O64=3,L64,"0") -> 0 | W64: =IF(O64=3,M64,"0") -> 0 | X64: =IF(O64=3,N64,"0") -> 0
B65: รวมในหลักสูตร | C65: =SUM(C64:C64) -> 2 | D65: =SUM(D64:D64) -> 0 | E65: =SUM(E64:E64) -> 2 | F65: =SUM(F64:F64) -> 12 | G65: =SUM(G64:G64) -> 1 | H65: =SUM(H64:H64) -> 13 | I65: =SUM(I64:I64) -> 1 | J65: =SUM(J64:J64) -> 1 | K65: =SUM(K64:K64) -> 2 | L65: =C65+F65+I65 -> 15 | M65: =D65+G65+J65 -> 2 | N65: =L65+M65 -> 17 | O65: =SUM(O64:O64) -> 2 | P65: =SUM(P64:P64) -> 0 | Q65: =SUM(Q64:Q64) -> 0 | R65: =SUM(R64:R64) -> 0 | S65: =SUM(S64:S64) -> 15 | T65: =SUM(T64:T64) -> 2 | U65: =SUM(U64:U64) -> 17 | V65: =SUM(V64:V64) -> 0 | ... X65: =SUM(X64:X64) -> 0
B66: ระดับปริญญาตรี - หลักสูตรวิศวกรรมศาสตรบัณฑิต (วุฒิ ปวส. เทียบโอน)
B67: วิศวกรรมเมคคาทรอนิกส์ | C67: 9 | D67: 4 | E67: =C67+D67 -> 13 | F67: 1 | G67: 0 | H67: =F67+G67 -> 1 | I67: 1 | J67: 0 | K67: =I67+J67 -> 1 | L67: =C67+F67+I67 -> 11 | M67: =D67+G67+J67 -> 4 | N67: =L67+M67 -> 15 | O67: 2 | P67: =IF(O67=1,L67,"0") -> 0 | Q67: =IF(O67=1,M67,"0") -> 0 | R67: =IF(O67=1,N67,"0") -> 0 | S67: =IF(O67=2,L67,"0") -> 11 | T67: =IF(O67=2,M67,"0") -> 4 | U67: =IF(O67=2,N67,"0") -> 15 | V67: =IF(O67=3,L67,"0") -> 0 | W67: =IF(O67=3,M67,"0") -> 0 | X67: =IF(O67=3,N67,"0") -> 0
B68: รวมในหลักสูตร | C68: =SUM(C67) -> 9 | D68: =SUM(D67) -> 4 | E68: =SUM(E67) -> 13 | F68: =SUM(F67) -> 1 | G68: =SUM(G67) -> 0 | H68: =SUM(H67) -> 1 | I68: =SUM(I67) -> 1 | J68: =SUM(J67) -> 0 | ... N68: =SUM(N67) -> 15 | O68: 2 | P68: =P67 -> 0 | Q68: =Q67 -> 0 | R68: =R67 -> 0 | S68: =S67 -> 11 | T68: =T67 -> 4 | U68: =U67 -> 15 | V68: =V67 -> 0 | W68: =W67 -> 0 | X68: =X67 -> 0
B69: รวมภาคพิเศษ | C69: =C68+C65 -> 11 | D69: =D68+D65 -> 4 | E69: =E68+E65 -> 15 | F69: =F68+F65 -> 13 | G69: =G68+G65 -> 1 | H69: =H68+H65 -> 14 | I69: =I68+I65 -> 2 | J69: =J68+J65 -> 1 | ... N69: =N68+N65 -> 32 | O69: 2 | P69: =+P68+P65 -> 0 | Q69: =+Q68+Q65 -> 0 | R69: =+R68+R65 -> 0 | S69: =+S68+S65 -> 26 | T69: =+T68+T65 -> 6 | U69: =+U68+U65 -> 32 | V69: =+V68+V65 -> 0 | W69: =+W68+W65 -> 0 | X69: =+X68+X65 -> 0
B70: รวมทั้งคณะ | C70: =C61+C69 -> 87 | D70: =D61+D69 -> 30 | E70: =E61+E69 -> 117 | F70: =F61+F69 -> 115 | G70: =G61+G69 -> 81 | H70: =H61+H69 -> 196 | I70: =I61+I69 -> 55 | J70: =J61+J69 -> 17 | ... X70: =X61+X69 -> 0
A71: คณะเทคโนโลยีการเกษตร
B72: ภาคปกติ
B73: ระดับปริญญาตรี - หลักสูตรวิทยาศาสตรบัณฑิต (วุฒิ ปวช./ม.6)
B74: การผลิตพืช | C74: 1 | D74: 0 | E74: =C74+D74 -> 1 | F74: 17 | G74: 23 | H74: =F74+G74 -> 40 | I74: 4 | J74: 1 | K74: =I74+J74 -> 5 | L74: =C74+F74+I74 -> 22 | M74: =D74+G74+J74 -> 24 | N74: =L74+M74 -> 46 | O74: 2 | P74: =IF(O74=1,L74,"0") -> 0 | Q74: =IF(O74=1,M74,"0") -> 0 | R74: =IF(O74=1,N74,"0") -> 0 | S74: =IF(O74=2,L74,"0") -> 22 | T74: =IF(O74=2,M74,"0") -> 24 | U74: =IF(O74=2,N74,"0") -> 46 | V74: =IF(O74=3,L74,"0") -> 0 | W74: =IF(O74=3,M74,"0") -> 0 | X74: =IF(O74=3,N74,"0") -> 0
B75: เทคโนโลยีภูมิทัศน์ | C75: 0 | D75: 0 | E75: =C75+D75 -> 0 | F75: 7 | G75: 1 | H75: =F75+G75 -> 8 | I75: 5 | J75: 7 | K75: =I75+J75 -> 12 | L75: =C75+F75+I75 -> 12 | M75: =D75+G75+J75 -> 8 | N75: =L75+M75 -> 20 | O75: 2 | P75: =IF(O75=1,L75,"0") -> 0 | Q75: =IF(O75=1,M75,"0") -> 0 | R75: =IF(O75=1,N75,"0") -> 0 | S75: =IF(O75=2,L75,"0") -> 12 | T75: =IF(O75=2,M75,"0") -> 8 | U75: =IF(O75=2,N75,"0") -> 20 | V75: =IF(O75=3,L75,"0") -> 0 | W75: =IF(O75=3,M75,"0") -> 0 | X75: =IF(O75=3,N75,"0") -> 0
B76: ประมง | C76: 0 | D76: 0 | E76: =C76+D76 -> 0 | F76: 3 | G76: 7 | H76: =F76+G76 -> 10 | I76: 4 | J76: 1 | K76: =I76+J76 -> 5 | L76: =C76+F76+I76 -> 7 | M76: =D76+G76+J76 -> 8 | N76: =L76+M76 -> 15 | O76: 2 | P76: =IF(O76=1,L76,"0") -> 0 | Q76: =IF(O76=1,M76,"0") -> 0 | R76: =IF(O76=1,N76,"0") -> 0 | S76: =IF(O76=2,L76,"0") -> 7 | T76: =IF(O76=2,M76,"0") -> 8 | U76: =IF(O76=2,N76,"0") -> 15 | V76: =IF(O76=3,L76,"0") -> 0 | W76: =IF(O76=3,M76,"0") -> 0 | X76: =IF(O76=3,N76,"0") -> 0
B77: วิทยาศาสตร์และเทคโนโลยีการอาหาร | C77: 0 | D77: 2 | E77: =C77+D77 -> 2 | F77: 3 | G77: 17 | H77: =F77+G77 -> 20 | I77: 2 | J77: 4 | K77: =I77+J77 -> 6 | L77: =C77+F77+I77 -> 5 | M77: =D77+G77+J77 -> 23 | N77: =L77+M77 -> 28 | O77: 2 | P77: =IF(O77=1,L77,"0") -> 0 | Q77: =IF(O77=1,M77,"0") -> 0 | R77: =IF(O77=1,N77,"0") -> 0 | S77: =IF(O77=2,L77,"0") -> 5 | T77: =IF(O77=2,M77,"0") -> 23 | U77: =IF(O77=2,N77,"0") -> 28 | V77: =IF(O77=3,L77,"0") -> 0 | W77: =IF(O77=3,M77,"0") -> 0 | X77: =IF(O77=3,N77,"0") -> 0
B78: สัตวศาสตร์ | C78: 5 | D78: 12 | E78: =C78+D78 -> 17 | F78: 4 | G78: 19 | H78: =F78+G78 -> 23 | I78: 2 | J78: 3 | K78: =I78+J78 -> 5 | L78: =C78+F78+I78 -> 11 | M78: =D78+G78+J78 -> 34 | N78: =L78+M78 -> 45 | O78: 2 | P78: =IF(O78=1,L78,"0") -> 0 | Q78: =IF(O78=1,M78,"0") -> 0 | R78: =IF(O78=1,N78,"0") -> 0 | S78: =IF(O78=2,L78,"0") -> 11 | T78: =IF(O78=2,M78,"0") -> 34 | U78: =IF(O78=2,N78,"0") -> 45 | V78: =IF(O78=3,L78,"0") -> 0 | W78: =IF(O78=3,M78,"0") -> 0 | X78: =IF(O78=3,N78,"0") -> 0
B79: รวมในหลักสูตร | C79: =SUM(C74:C78) -> 6 | D79: =SUM(D74:D78) -> 14 | E79: =SUM(E74:E78) -> 20 | F79: =SUM(F74:F78) -> 34 | G79: =SUM(G74:G78) -> 67 | H79: =SUM(H74:H78) -> 101 | I79: =SUM(I74:I78) -> 17 | J79: =SUM(J74:J78) -> 16 | K79: =SUM(K74:K78) -> 33 | L79: =C79+F79+I79 -> 57 | M79: =D79+G79+J79 -> 97 | N79: =L79+M79 -> 154 | O79: =SUM(O74:O78) -> 10 | P79: =SUM(P74:P78) -> 0 | Q79: =SUM(Q74:Q78) -> 0 | R79: =SUM(R74:R78) -> 0 | S79: =SUM(S74:S78) -> 57 | T79: =SUM(T74:T78) -> 97 | U79: =SUM(U74:U78) -> 154 | V79: =SUM(V74:V78) -> 0 | ... X79: =SUM(X74:X78) -> 0
B80: รวมภาคปกติ | C80: =C79 -> 6 | D80: =D79 -> 14 | E80: =E79 -> 20 | F80: =F79 -> 34 | G80: =G79 -> 67 | H80: =H79 -> 101 | I80: =I79 -> 17 | J80: =J79 -> 16 | K80: =K79 -> 33 | L80: =C80+F80+I80 -> 57 | M80: =D80+G80+J80 -> 97 | N80: =L80+M80 -> 154 | O80: =O79 -> 10 | P80: =SUM(P75:P79) -> 0 | Q80: =SUM(Q75:Q79) -> 0 | R80: =SUM(R75:R79) -> 0 | S80: =S79 -> 57 | T80: =T79 -> 97 | U80: =U79 -> 154 | V80: =V79 -> 0 | W80: =W79 -> 0 | X80: =X79 -> 0
B81: รวมทั้งคณะ | C81: =C80 -> 6 | D81: =D80 -> 14 | E81: =E80 -> 20 | F81: =F80 -> 34 | G81: =G80 -> 67 | H81: =H80 -> 101 | I81: =I80 -> 17 | J81: =J80 -> 16 | K81: =K80 -> 33 | L81: =C81+F81+I81 -> 57 | M81: =D81+G81+J81 -> 97 | N81: =L81+M81 -> 154 | O81: =O80 -> 10 | P81: =SUM(P76:P80) -> 0 | Q81: =SUM(Q76:Q80) -> 0 | R81: =SUM(R76:R80) -> 0 | S81: =S80 -> 57 | T81: =T80 -> 97 | U81: =U80 -> 154 | V81: =V80 -> 0 | W81: =W80 -> 0 | X81: =X80 -> 0
A82: คณะวิศวกรรมศาสตร์
B83: ภาคปกติ
B84: ระดับปริญญาตรี - หลักสูตรวิศวกรรมศาสตรบัณฑิต (วุฒิ ปวช./ม.6)
B85: วิศวกรรมคอมพิวเตอร์ | C85: 0 | D85: 0 | E85: =C85+D85 -> 0 | F85: 39 | G85: 11 | H85: =F85+G85 -> 50 | I85: 2 | J85: 0 | K85: =I85+J85 -> 2 | L85: =C85+F85+I85 -> 41 | M85: =D85+G85+J85 -> 11 | N85: =L85+M85 -> 52 | O85: 2 | P85: =IF(O85=1,L85,"0") -> 0 | Q85: =IF(O85=1,M85,"0") -> 0 | R85: =IF(O85=1,N85,"0") -> 0 | S85: =IF(O85=2,L85,"0") -> 41 | T85: =IF(O85=2,M85,"0") -> 11 | U85: =IF(O85=2,N85,"0") -> 52 | V85: =IF(O85=3,L85,"0") -> 0 | W85: =IF(O85=3,M85,"0") -> 0 | X85: =IF(O85=3,N85,"0") -> 0
B86: วิศวกรรมเกษตรอุตสาหกรรม | C86: 0 | D86: 0 | E86: =C86+D86 -> 0 | F86: 9 | G86: 1 | H86: =F86+G86 -> 10 | I86: 12 | J86: 1 | K86: =I86+J86 -> 13 | L86: =C86+F86+I86 -> 21 | M86: =D86+G86+J86 -> 2 | N86: =L86+M86 -> 23 | O86: 2 | P86: =IF(O86=1,L86,"0") -> 0 | Q86: =IF(O86=1,M86,"0") -> 0 | R86: =IF(O86=1,N86,"0") -> 0 | S86: =IF(O86=2,L86,"0") -> 21 | T86: =IF(O86=2,M86,"0") -> 2 | U86: =IF(O86=2,N86,"0") -> 23 | V86: =IF(O86=3,L86,"0") -> 0 | W86: =IF(O86=3,M86,"0") -> 0 | X86: =IF(O86=3,N86,"0") -> 0
B87: วิศวกรรมเคมี | C87: 1 | D87: 0 | E87: =C87+D87 -> 1 | F87: 25 | G87: 30 | H87: =F87+G87 -> 55 | I87: 0 | J87: 1 | K87: =I87+J87 -> 1 | L87: =C87+F87+I87 -> 26 | M87: =D87+G87+J87 -> 31 | N87: =L87+M87 -> 57 | O87: 2 | P87: =IF(O87=1,L87,"0") -> 0 | Q87: =IF(O87=1,M87,"0") -> 0 | R87: =IF(O87=1,N87,"0") -> 0 | S87: =IF(O87=2,L87,"0") -> 26 | T87: =IF(O87=2,M87,"0") -> 31 | U87: =IF(O87=2,N87,"0") -> 57 | V87: =IF(O87=3,L87,"0") -> 0 | W87: =IF(O87=3,M87,"0") -> 0 | X87: =IF(O87=3,N87,"0") -> 0
B88: วิศวกรรมเครื่องกล | C88: 6 | D88: 0 | E88: =C88+D88 -> 6 | F88: 28 | G88: 7 | H88: =F88+G88 -> 35 | I88: 3 | J88: 1 | K88: =I88+J88 -> 4 | L88: =C88+F88+I88 -> 37 | M88: =D88+G88+J88 -> 8 | N88: =L88+M88 -> 45 | O88: 2 | P88: =IF(O88=1,L88,"0") -> 0 | Q88: =IF(O88=1,M88,"0") -> 0 | R88: =IF(O88=1,N88,"0") -> 0 | S88: =IF(O88=2,L88,"0") -> 37 | T88: =IF(O88=2,M88,"0") -> 8 | U88: =IF(O88=2,N88,"0") -> 45 | V88: =IF(O88=3,L88,"0") -> 0 | W88: =IF(O88=3,M88,"0") -> 0 | X88: =IF(O88=3,N88,"0") -> 0
B89: วิศวกรรมชลประทานและการจัดการน้ำ | C89: 1 | D89: 2 | E89: =C89+D89 -> 3 | F89: 6 | G89: 5 | H89: =F89+G89 -> 11 | I89: 2 | J89: 3 | K89: =I89+J89 -> 5 | L89: =C89+F89+I89 -> 9 | M89: =D89+G89+J89 -> 10 | N89: =L89+M89 -> 19 | O89: 2 | P89: =IF(O89=1,L89,"0") -> 0 | Q89: =IF(O89=1,M89,"0") -> 0 | R89: =IF(O89=1,N89,"0") -> 0 | S89: =IF(O89=2,L89,"0") -> 9 | T89: =IF(O89=2,M89,"0") -> 10 | U89: =IF(O89=2,N89,"0") -> 19 | V89: =IF(O89=3,L89,"0") -> 0 | W89: =IF(O89=3,M89,"0") -> 0 | X89: =IF(O89=3,N89,"0") -> 0
B90: วิศวกรรมนวัตกรรมสิ่งทอ | C90: 3 | D90: 0 | E90: =C90+D90 -> 3 | F90: 3 | G90: 5 | H90: =F90+G90 -> 8 | I90: 7 | J90: 1 | K90: =I90+J90 -> 8 | L90: =C90+F90+I90 -> 13 | M90: =D90+G90+J90 -> 6 | N90: =L90+M90 -> 19 | O90: 2 | P90: =IF(O90=1,L90,"0") -> 0 | Q90: =IF(O90=1,M90,"0") -> 0 | R90: =IF(O90=1,N90,"0") -> 0 | S90: =IF(O90=2,L90,"0") -> 13 | T90: =IF(O90=2,M90,"0") -> 6 | U90: =IF(O90=2,N90,"0") -> 19 | V90: =IF(O90=3,L90,"0") -> 0 | W90: =IF(O90=3,M90,"0") -> 0 | X90: =IF(O90=3,N90,"0") -> 0
B91: วิศวกรรมไฟฟ้า | C91: 2 | D91: 0 | E91: =C91+D91 -> 2 | F91: 34 | G91: 11 | H91: =F91+G91 -> 45 | I91: 2 | J91: 0 | K91: =I91+J91 -> 2 | L91: =C91+F91+I91 -> 38 | M91: =D91+G91+J91 -> 11 | N91: =L91+M91 -> 49 | O91: 2 | P91: =IF(O91=1,L91,"0") -> 0 | Q91: =IF(O91=1,M91,"0") -> 0 | R91: =IF(O91=1,N91,"0") -> 0 | S91: =IF(O91=2,L91,"0") -> 38 | T91: =IF(O91=2,M91,"0") -> 11 | U91: =IF(O91=2,N91,"0") -> 49 | V91: =IF(O91=3,L91,"0") -> 0 | W91: =IF(O91=3,M91,"0") -> 0 | X91: =IF(O91=3,N91,"0") -> 0
B92: วิศวกรรมโยธา | C92: 1 | D92: 0 | E92: =C92+D92 -> 1 | F92: 30 | G92: 14 | H92: =F92+G92 -> 44 | I92: 6 | J92: 0 | K92: =I92+J92 -> 6 | L92: =C92+F92+I92 -> 37 | M92: =D92+G92+J92 -> 14 | N92: =L92+M92 -> 51 | O92: 2 | P92: =IF(O92=1,L92,"0") -> 0 | Q92: =IF(O92=1,M92,"0") -> 0 | R92: =IF(O92=1,N92,"0") -> 0 | S92: =IF(O92=2,L92,"0") -> 37 | T92: =IF(O92=2,M92,"0") -> 14 | U92: =IF(O92=2,N92,"0") -> 51 | V92: =IF(O92=3,L92,"0") -> 0 | W92: =IF(O92=3,M92,"0") -> 0 | X92: =IF(O92=3,N92,"0") -> 0
B93: วิศวกรรมวัสดุ-วิศวกรรมพอลิเมอร์ | C93: 0 | D93: 1 | E93: =C93+D93 -> 1 | F93: 8 | G93: 2 | H93: =F93+G93 -> 10 | I93: 10 | J93: 8 | K93: =I93+J93 -> 18 | L93: =C93+F93+I93 -> 18 | M93: =D93+G93+J93 -> 11 | N93: =L93+M93 -> 29 | O93: 2 | P93: =IF(O93=1,L93,"0") -> 0 | Q93: =IF(O93=1,M93,"0") -> 0 | R93: =IF(O93=1,N93,"0") -> 0 | S93: =IF(O93=2,L93,"0") -> 18 | T93: =IF(O93=2,M93,"0") -> 11 | U93: =IF(O93=2,N93,"0") -> 29 | V93: =IF(O93=3,L93,"0") -> 0 | W93: =IF(O93=3,M93,"0") -> 0 | X93: =IF(O93=3,N93,"0") -> 0
B94: วิศวกรรมสิ่งแวดล้อม | C94: 0 | D94: 0 | E94: =C94+D94 -> 0 | F94: 21 | G94: 31 | H94: =F94+G94 -> 52 | I94: 2 | J94: 2 | K94: =I94+J94 -> 4 | L94: =C94+F94+I94 -> 23 | M94: =D94+G94+J94 -> 33 | N94: =L94+M94 -> 56 | O94: 2 | P94: =IF(O94=1,L94,"0") -> 0 | Q94: =IF(O94=1,M94,"0") -> 0 | R94: =IF(O94=1,N94,"0") -> 0 | S94: =IF(O94=2,L94,"0") -> 23 | T94: =IF(O94=2,M94,"0") -> 33 | U94: =IF(O94=2,N94,"0") -> 56 | V94: =IF(O94=3,L94,"0") -> 0 | W94: =IF(O94=3,M94,"0") -> 0 | X94: =IF(O94=3,N94,"0") -> 0
B95: วิศวกรรมอาหาร | C95: 6 | D95: 1 | E95: =C95+D95 -> 7 | F95: 14 | G95: 15 | H95: =F95+G95 -> 29 | I95: 4 | J95: 2 | K95: =I95+J95 -> 6 | L95: =C95+F95+I95 -> 24 | M95: =D95+G95+J95 -> 18 | N95: =L95+M95 -> 42 | O95: 2 | P95: =IF(O95=1,L95,"0") -> 0 | Q95: =IF(O95=1,M95,"0") -> 0 | R95: =IF(O95=1,N95,"0") -> 0 | S95: =IF(O95=2,L95,"0") -> 24 | T95: =IF(O95=2,M95,"0") -> 18 | U95: =IF(O95=2,N95,"0") -> 42 | V95: =IF(O95=3,L95,"0") -> 0 | W95: =IF(O95=3,M95,"0") -> 0 | X95: =IF(O95=3,N95,"0") -> 0
B96: วิศวกรรมอิเล็กทรอนิกส์และโทรคมนาคม | C96: 1 | D96: 0 | E96: =C96+D96 -> 1 | F96: 29 | G96: 9 | H96: =F96+G96 -> 38 | I96: 7 | J96: 0 | K96: =I96+J96 -> 7 | L96: =C96+F96+I96 -> 37 | M96: =D96+G96+J96 -> 9 | N96: =L96+M96 -> 46 | O96: 2 | P96: =IF(O96=1,L96,"0") -> 0 | Q96: =IF(O96=1,M96,"0") -> 0 | R96: =IF(O96=1,N96,"0") -> 0 | S96: =IF(O96=2,L96,"0") -> 37 | T96: =IF(O96=2,M96,"0") -> 9 | U96: =IF(O96=2,N96,"0") -> 46 | V96: =IF(O96=3,L96,"0") -> 0 | W96: =IF(O96=3,M96,"0") -> 0 | X96: =IF(O96=3,N96,"0") -> 0
... B100: วิศวกรรมอุตสาหการ-วิศวกรรมระบบการผลิตอัตโนมัติ | C100: 5 | D100: 0 | E100: =C100+D100 -> 5 | F100: 7 | G100: 3 | H100: =F100+G100 -> 10 | I100: 14 | J100: 4 | K100: =I100+J100 -> 18 | L100: =C100+F100+I100 -> 26 | M100: =D100+G100+J100 -> 7 | N100: =L100+M100 -> 33 | O100: 2 | P100: =IF(O100=1,L100,"0") -> 0 | Q100: =IF(O100=1,M100,"0") -> 0 | R100: =IF(O100=1,N100,"0") -> 0 | S100: =IF(O100=2,L100,"0") -> 26 | T100: =IF(O100=2,M100,"0") -> 7 | U100: =IF(O100=2,N100,"0") -> 33 | V100: =IF(O100=3,L100,"0") -> 0 | W100: =IF(O100=3,M100,"0") -> 0 | X100: =IF(O100=3,N100,"0") -> 0
B101: รวมในหลักสูตร | C101: =SUM(C85:C100) -> 29 | D101: =SUM(D85:D100) -> 5 | E101: =SUM(E85:E100) -> 34 | F101: =SUM(F85:F100) -> 266 | G101: =SUM(G85:G100) -> 154 | H101: =SUM(H85:H100) -> 420 | I101: =SUM(I85:I100) -> 82 | J101: =SUM(J85:J100) -> 29 | K101: =SUM(K85:K100) -> 111 | L101: =C101+F101+I101 -> 377 | M101: =D101+G101+J101 -> 188 | N101: =L101+M101 -> 565 | O101: =SUM(O85:O100) -> 32 | P101: =SUM(P85:P100) -> 0 | Q101: =SUM(Q85:Q100) -> 0 | R101: =SUM(R85:R100) -> 0 | S101: =SUM(S85:S100) -> 377 | T101: =SUM(T85:T100) -> 188 | U101: =SUM(U85:U100) -> 565 | V101: =SUM(V85:V100) -> 0 | ... X101: =SUM(X85:X100) -> 0
B102: ระดับปริญญาตรี - หลักสูตรวิศวกรรมศาสตรบัณฑิต (วุฒิ ปวส. ต่อเนื่อง)
B103: วิศวกรรมระบบราง | C103: 25 | D103: 4 | E103: =C103+D103 -> 29 | F103: 3 | G103: 0 | H103: =F103+G103 -> 3 | I103: 8 | J103: 0 | K103: =I103+J103 -> 8 | L103: =C103+F103+I103 -> 36 | M103: =D103+G103+J103 -> 4 | N103: =L103+M103 -> 40 | O103: 2 | P103: =IF(O103=1,L103,"0") -> 0 | Q103: =IF(O103=1,M103,"0") -> 0 | R103: =IF(O103=1,N103,"0") -> 0 | S103: =IF(O103=2,L103,"0") -> 36 | T103: =IF(O103=2,M103,"0") -> 4 | U103: =IF(O103=2,N103,"0") -> 40 | V103: =IF(O103=3,L103,"0") -> 0 | W103: =IF(O103=3,M103,"0") -> 0 | X103: =IF(O103=3,N103,"0") -> 0
B104: วิศวกรรมยานยนต์ไฟฟ้า | C104: 11 | D104: 0 | E104: =C104+D104 -> 11 | F104: 1 | G104: 0 | H104: =F104+G104 -> 1 | I104: 23 | J104: 2 | K104: =I104+J104 -> 25 | L104: =C104+F104+I104 -> 35 | M104: =D104+G104+J104 -> 2 | N104: =L104+M104 -> 37 | O104: 2 | P104: =IF(O104=1,L104,"0") -> 0 | Q104: =IF(O104=1,M104,"0") -> 0 | R104: =IF(O104=1,N104,"0") -> 0 | S104: =IF(O104=2,L104,"0") -> 35 | T104: =IF(O104=2,M104,"0") -> 2 | U104: =IF(O104=2,N104,"0") -> 37 | V104: =IF(O104=3,L104,"0") -> 0 | W104: =IF(O104=3,M104,"0") -> 0 | X104: =IF(O104=3,N104,"0") -> 0
...

Sheet Sheet1
A1: คณะศิลปศาสตร์ | B1: ='จำนวนผู้สำเร็จ '!N28 -> 533
A2: คณะครุศาสตร์อุตสาหกรรม | B2: ='จำนวนผู้สำเร็จ '!N70 -> 385
A3: คณะเทคโนโลยีการเกษตร | B3: ='จำนวนผู้สำเร็จ '!N81 -> 154
A4: คณะวิศวกรรมศาสตร์ | B4: ='จำนวนผู้สำเร็จ '!N129 -> 1148
A5: คณะบริหารธุรกิจ | B5: ='จำนวนผู้สำเร็จ '!N171 -> 1374
A6: คณะเทคโนโลยีคหกรรมศาสตร์ | B6: ='จำนวนผู้สำเร็จ '!N191 -> 428
A7: คณะศิลปกรรมศาสตร์ | B7: ='จำนวนผู้สำเร็จ '!N213 -> 287
A8: คณะเทคโนโลยีสื่อสารมวลชน | B8: ='จำนวนผู้สำเร็จ '!N236 -> 424
A9: คณะวิทยาศาสตร์และเทคโนโลยี | B9: ='จำนวนผู้สำเร็จ '!N258 -> 288
A10: คณะสถาปัตยกรรมศาสตร์ | B10: ='จำนวนผู้สำเร็จ '!N266 -> 141
A11: วิทยาลัยการแพทย์แผนไทย | B11: ='จำนวนผู้สำเร็จ '!N277 -> 97
A12: คณะพยาบาลศาสตร์ | B12: ='จำนวนผู้สำเร็จ '!N284 -> 87
B13: =SUM(B1:B12) -> 5346
