Workbook

Sheet จำนวนผู้สำเร็จ 
A1: รายงานจำนวนนักศึกษาที่สำเร็จการศึกษาระดับปริญญาตรี ปีการศึกษา 2568 จำแนกตามคณะ/สาขาวิชา ระดับการศึกษา และเพศ
A3: คณะ/หน่วยงานเทียบเท่า | C3: ผู้สำเร็จการศึกษา | F3: ผู้สำเร็จการศึกษา | I3: ผู้สำเร็จการศึกษา | L3: รวมผู้สำเร็จการศึกษาทั้งหมด | P3: ผลผลิต
C4: ภาคการศึกษาที่ 1 | F4: ภาคการศึกษาที่ 2 | I4: ภาคการศึกษาฤดูร้อน | P4: ด้านสังคม | S4: ด้านวิทยาศาสตร์ | V4: ด้านวิทยาศาสต์สุขภาพ
C5: ชาย | D5: หญิง | E5: รวม | F5: ชาย | G5: หญิง | H5: รวม | I5: ชาย | J5: หญิง | K5: รวม | L5: ชาย | M5: หญิง | N5: รวม | P5: ชาย | Q5: หญิง | R5: รวม | S5: ชาย | T5: หญิง | U5: รวม | V5: ชาย | W5: หญิง | X5: รวม
A6: คณะ ศิลปศาสตร์
B7: ภาคปกติ
B8: ระดับปริญญาตรี - หลักสูตรศิลปศาสตรบัณฑิต (วุฒิ ปวช./ม.6)
B9: การจัดการการโรงแรม | C9: 0 | D9: 6 | E9: =SUM(C9:D9) -> 6 | F9: 17 | G9: 93 | H9: =F9+G9 -> 110 | I9: 1 | J9: 5 | K9: =I9+J9 -> 6 | L9: =C9+F9+I9 -> 18 | M9: =D9+G9+J9 -> 104 | N9: =L9+M9 -> 122 | O9: 1 | P9: =IF(O9=1,L9,"0") -> 18 | Q9: =IF(O9=1,M9,"0") -> 104 | R9: =IF(O9=1,N9,"0") -> 122 | S9: =IF(O9=2,L9,"0") -> 0 | T9: =IF(O9=2,M9,"0") -> 0 | U9: =IF(O9=2,N9,"0") -> 0 | V9: =IF(O9=3,L9,"0") -> 0 | W9: =IF(O9=3,M9,"0") -> 0 | X9: =IF(O9=3,N9,"0") -> 0
B10: การท่องเที่ยว | C10: 1 | D10: 0 | E10: =SUM(C10:D10) -> 1 | F10: 29 | G10: 79 | H10: =F10+G10 -> 108 | I10: 0 | J10: 2 | K10: =I10+J10 -> 2 | L10: =C10+F10+I10 -> 30 | M10: =D10+G10+J10 -> 81 | N10: =L10+M10 -> 111 | O10: 1 | P10: =IF(O10=1,L10,"0") -> 30 | Q10: =IF(O10=1,M10,"0") -> 81 | R10: =IF(O10=1,N10,"0") -> 111 | S10: =IF(O10=2,L10,"0") -> 0 | T10: =IF(O10=2,M10,"0") -> 0 | U10: =IF(O10=2,N10,"0") -> 0 | V10: =IF(O10=3,L10,"0") -> 0 | W10: =IF(O10=3,M10,"0") -> 0 | X10: =IF(O10=3,N10,"0") -> 0
B11: พลศึกษา | C11: 0 | D11: 0 | E11: =SUM(C11:D11) -> 0 | F11: 39 | G11: 5 | H11: =F11+G11 -> 44 | I11: 1 | J11: 1 | K11: =I11+J11 -> 2 | L11: =C11+F11+I11 -> 40 | M11: =D11+G11+J11 -> 6 | N11: =L11+M11 -> 46 | O11: 1 | P11: =IF(O11=1,L11,"0") -> 40 | Q11: =IF(O11=1,M11,"0") -> 6 | R11: =IF(O11=1,N11,"0") -> 46 | S11: =IF(O11=2,L11,"0") -> 0 | T11: =IF(O11=2,M11,"0") -> 0 | U11: =IF(Q11=2,N11,"0") -> 0 | V11: =IF(O11=3,L11,"0") -> 0 | W11: =IF(O11=3,M11,"0") -> 0 | X11: =IF(O11=3,N11,"0") -> 0
B12: ภาษาอังกฤษเพื่อการสื่อสาร | C12: 2 | D12: 1 | E12: =SUM(C12:D12) -> 3 | F12: 31 | G12: 82 | H12: =F12+G12 -> 113 | I12: 0 | J12: 1 | K12: =I12+J12 -> 1 | L12: =C12+F12+I12 -> 33 | M12: =D12+G12+J12 -> 84 | N12: =L12+M12 -> 117 | O12: 1 | P12: =IF(O12=1,L12,"0") -> 33 | Q12: =IF(O12=1,M12,"0") -> 84 | R12: =IF(O12=1,N12,"0") -> 117 | S12: =IF(O12=2,L12,"0") -> 0 | T12: =IF(O12=2,M12,"0") -> 0 | U12: =IF(Q12=2,N12,"0") -> 0 | V12: =IF(O12=3,L12,"0") -> 0 | W12: =IF(O12=3,M12,"0") -> 0 | X12: =IF(O12=3,N12,"0") -> 0
B13: อุตสาหกรรมการบริการการบิน | C13: 0 | D13: 0 | E13: =SUM(C13:D13) -> 0 | F13: 0 | G13: 26 | H13: =F13+G13 -> 26 | I13: 0 | J13: 0 | K13: =I13+J13 -> 0 | L13: =C13+F13+I13 -> 0 | M13: =D13+G13+J13 -> 26 | N13: =L13+M13 -> 26 | O13: 1 | P13: =IF(O13=1,L13,"0") -> 0 | Q13: =IF(O13=1,M13,"0") -> 26 | R13: =IF(O13=1,N13,"0") -> 26 | S13: =IF(O13=2,L13,"0") -> 0 | T13: =IF(O13=2,M13,"0") -> 0 | U13: =IF(Q13=2,N13,"0") -> 0 | V13: =IF(O13=3,L13,"0") -> 0 | W13: =IF(O13=3,M13,"0") -> 0 | X13: =IF(O13=3,N13,"0") -> 0
B14: รวมในหลักสูตร | C14: =SUM(C9:C13) -> 3 | D14: =SUM(D9:D13) -> 7 | E14: =SUM(E9:E13) -> 10 | F14: =SUM(F9:F13) -> 116 | G14: =SUM(G9:G13) -> 285 | H14: =SUM(H9:H13) -> 401 | I14: =SUM(I9:I13) -> 2 | J14: =SUM(J9:J13) -> 9 | K14: =SUM(K9:K13) -> 11 | L14: =C14+F14+I14 -> 121 | M14: =D14+G14+J14 -> 301 | N14: =L14+M14 -> 422 | P14: =SUM(P9:P13) -> 121 | Q14: =SUM(Q9:Q13) -> 301 | R14: =SUM(R9:R13) -> 422 | S14: =SUM(S9:S13) -> 0 | T14: =SUM(T9:T13) -> 0 | U14: =SUM(U9:U13) -> 0 | V14: =SUM(V9:V13) -> 0 | W14: =SUM(W9:W13) -> 0 | X14: =SUM(X9:X13) -> 0
B15: ระดับปริญญาตรี - หลักสูตรศิลปศาสตรบัณฑิต (วุฒิ ปวส. เทียบโอน)
B16: การจัดการการโรงแรม | C16: 0 | D16: 0 | E16: =C16+D16 -> 0 | F16: 10 | G16: 28 | H16: =F16+G16 -> 38 | I16: 0 | J16: 1 | K16: =I16+J16 -> 1 | L16: =C16+F16+I16 -> 10 | M16: =D16+G16+J16 -> 29 | N16: =L16+M16 -> 39 | O16: 1 | P16: =IF(O16=1,L16,"0") -> 10 | Q16: =IF(O16=1,M16,"0") -> 29 | R16: =IF(O16=1,N16,"0") -> 39 | S16: =IF(O16=2,L16,"0") -> 0 | T16: =IF(O16=2,M16,"0") -> 0 | U16: =IF(Q16=2,N16,"0") -> 0 | V16: =IF(O16=3,L16,"0") -> 0 | W16: =IF(O16=3,M16,"0") -> 0 | X16: =IF(O16=3,N16,"0") -> 0
B17: รวมในหลักสูตร | C17: =SUM(C16:C16) -> 0 | D17: =SUM(D16:D16) -> 0 | E17: =SUM(E16:E16) -> 0 | F17: =SUM(F16:F16) -> 10 | G17: =SUM(G16:G16) -> 28 | H17: =SUM(H16:H16) -> 38 | I17: =SUM(I16:I16) -> 0 | J17: =SUM(J16:J16) -> 1 | K17: =SUM(K16:K16) -> 1 | L17: =C17+F17+I17 -> 10 | M17: =D17+G17+J17 -> 29 | N17: =L17+M17 -> 39 | O17: =SUM(O16:O16) -> 1 | P17: =SUM(P16:P16) -> 10 | Q17: =SUM(Q16:Q16) -> 29 | R17: =SUM(R16:R16) -> 39 | S17: =SUM(S16:S16) -> 0 | T17: =SUM(T16:T16) -> 0 | U17: =SUM(U16:U16) -> 0 | V17: =SUM(V16:V16) -> 0 | ... X17: =SUM(X16:X16) -> 0
B18: รวมภาคปกติ | C18: =C14+C17 -> 3 | D18: =D14+D17 -> 7 | E18: =E14+E17 -> 10 | F18: =F14+F17 -> 126 | G18: =G14+G17 -> 313 | H18: =H14+H17 -> 439 | I18: =I14+I17 -> 2 | J18: =J14+J17 -> 10 | K18: =K14+K17 -> 12 | L18: =C18+F18+I18 -> 131 | M18: =D18+G18+J18 -> 330 | N18: =L18+M18 -> 461 | O18: 1 | P18: =P17+P14 -> 131 | Q18: =Q17+Q14 -> 330 | R18: =R17+R14 -> 461 | S18: =S17+S14 -> 0 | T18: =T17+T14 -> 0 | U18: =U17+U14 -> 0 | V18: =V17+V14 -> 0 | W18: =W17+W14 -> 0 | X18: =X17+X14 -> 0
B19: ภาคพิเศษ
B20: ระดับปริญญาตรี - หลักสูตรศิลปศาสตรบัณฑิต (วุฒิ ปวช./ม.6)
B21: การจัดการการโรงแรม | C21: 0 | D21: 0 | E21: =C21+D21 -> 0 | F21: 10 | G21: 9 | H21: =F21+G21 -> 19 | I21: 2 | J21: 2 | K21: =I21+J21 -> 4 | L21: =C21+F21+I21 -> 12 | M21: =D21+G21+J21 -> 11 | N21: =L21+M21 -> 23 | O21: 1 | P21: =IF(O21=1,L21,"0") -> 12 | Q21: =IF(O21=1,M21,"0") -> 11 | R21: =IF(O21=1,N21,"0") -> 23 | S21: =IF(O21=2,L21,"0") -> 0 | T21: =IF(O21=2,M21,"0") -> 0 | U21: =IF(O21=2,N21,"0") -> 0 | V21: =IF(O21=3,L21,"0") -> 0 | W21: =IF(O21=3,M21,"0") -> 0 | X21: =IF(O21=3,N21,"0") -> 0
B22: ภาษาอังกฤษเพื่อการสื่อสาร | C22: 0 | D22: 4 | E22: =C22+D22 -> 4 | F22: 12 | G22: 18 | H22: =F22+G22 -> 30 | I22: 1 | J22: 2 | K22: =I22+J22 -> 3 | L22: =C22+F22+I22 -> 13 | M22: =D22+G22+J22 -> 24 | N22: =L22+M22 -> 37 | O22: 1 | P22: =IF(O22=1,L22,"0") -> 13 | Q22: =IF(O22=1,M22,"0") -> 24 | R22: =IF(O22=1,N22,"0") -> 37 | S22: =IF(O22=2,L22,"0") -> 0 | T22: =IF(O22=2,M22,"0") -> 0 | U22: =IF(Q22=2,N22,"0") -> 0 | V22: =IF(O22=3,L22,"0") -> 0 | W22: =IF(O22=3,M22,"0") -> 0 | X22: =IF(O22=3,N22,"0") -> 0
B23: รวมในหลักสูตร | C23: =SUM(C21:C22) -> 0 | D23: =SUM(D21:D22) -> 4 | E23: =SUM(E21:E22) -> 4 | F23: =SUM(F21:F22) -> 22 | G23: =SUM(G21:G22) -> 27 | H23: =SUM(H21:H22) -> 49 | I23: =SUM(I21:I22) -> 3 | J23: =SUM(J21:J22) -> 4 | ... N23: =SUM(N21:N22) -> 60 | O23: 1 | P23: =SUM(P21:P22) -> 25 | Q23: =SUM(Q21:Q22) -> 35 | R23: =SUM(R21:R22) -> 60 | S23: =SUM(S21:S22) -> 0 | T23: =SUM(T21:T22) -> 0 | U23: =SUM(U21:U22) -> 0 | V23: =SUM(V21:V22) -> 0 | W23: =SUM(W21:W22) -> 0 | X23: =SUM(X21:X22) -> 0
B24: ระดับปริญญาตรี - หลักสูตรศิลปศาสตรบัณฑิต (วุฒิ ปวส. เทียบโอน)
B25: การจัดการการโรงแรม | C25: 0 | D25: 2 | E25: =C25+D25 -> 2 | F25: 3 | G25: 6 | H25: =F25+G25 -> 9 | I25: 0 | J25: 1 | K25: =I25+J25 -> 1 | L25: =C25+F25+I25 -> 3 | M25: =D25+G25+J25 -> 9 | N25: =L25+M25 -> 12 | O25: 1 | P25: =IF(O25=1,L25,"0") -> 3 | Q25: =IF(O25=1,M25,"0") -> 9 | R25: =IF(O25=1,N25,"0") -> 12 | S25: =IF(O25=2,L25,"0") -> 0 | T25: =IF(O25=2,M25,"0") -> 0 | U25: =IF(Q25=2,N25,"0") -> 0 | V25: =IF(O25=3,L25,"0") -> 0 | W25: =IF(O25=3,M25,"0") -> 0 | X25: =IF(O25=3,N25,"0") -> 0
B26: รวมในหลักสูตร | C26: =C25 -> 0 | D26: =D25 -> 2 | E26: =E25 -> 2 | F26: =F25 -> 3 | G26: =G25 -> 6 | H26: =H25 -> 9 | I26: =I25 -> 0 | J26: =J25 -> 1 | ... N26: =N25 -> 12 | P26: =P25 -> 3 | Q26: =Q25 -> 9 | R26: =R25 -> 12 | S26: =S25 -> 0 | T26: =T25 -> 0 | U26: =U25 -> 0 | V26: =V25 -> 0 | W26: =W25 -> 0 | X26: =X25 -> 0
B27: รวมภาคพิเศษ | C27: =C26+C23 -> 0 | D27: =D26+D23 -> 6 | E27: =E26+E23 -> 6 | F27: =F26+F23 -> 25 | G27: =G26+G23 -> 33 | H27: =H26+H23 -> 58 | I27: =I26+I23 -> 3 | J27: =J26+J23 -> 5 | ... X27: =X26+X23 -> 0
B28: รวมทั้งคณะ | C28: =C18+C27 -> 3 | D28: =D18+D27 -> 13 | E28: =E18+E27 -> 16 | F28: =F18+F27 -> 151 | G28: =G18+G27 -> 346 | H28: =H18+H27 -> 497 | I28: =I18+I27 -> 5 | J28: =J18+J27 -> 15 | K28: =K18+K27 -> 20 | L28: =C28+F28+I28 -> 159 | M28: =D28+G28+J28 -> 374 | N28: =L28+M28 -> 533 | O28: =SUM(O27) -> 1 | P28: =P27+P18 -> 159 | Q28: =Q27+Q18 -> 374 | R28: =R27+R18 -> 533 | S28: =S27+S18 -> 0 | T28: =T27+T18 -> 0 | U28: =U27+U18 -> 0 | V28: =V27+V18 -> 0 | W28: =W27+W18 -> 0 | X28: =X27+X18 -> 0
A29: คณะครุศาสตร์อุตสาหกรรม
B30: ภาคปกติ
B31: ระดับปริญญาตรี - หลักสูตรครุศาสตร์อุตสาหกรรมบัณฑิต (วุฒิ ปวช./ม.6)
B32: วิศวกรรมคอมพิวเตอร์ | C32: 6 | D32: 1 | E32: =C32+D32 -> 7 | F32: 5 | G32: 4 | H32: =F32+G32 -> 9 | I32: 5 | J32: 6 | K32: =I32+J32 -> 11 | L32: =C32+F32+I32 -> 16 | M32: =D32+G32+J32 -> 11 | N32: =L32+M32 -> 27 | O32: 2 | P32: =IF(O32=1,#REF!,"0") -> 0 | Q32: =IF(O32=1,#REF!,"0") -> 0 | R32: =IF(O32=1,#REF!,"0") -> 0 | S32: =IF(O32=2,L32,"0") -> 16 | T32: =IF(O32=2,M32,"0") -> 11 | U32: =IF(O32=2,N32,"0") -> 27 | V32: =IF(O32=3,L32,"0") -> 0 | W32: =IF(O32=3,M32,"0") -> 0 | X32: =IF(O32=3,N32,"0") -> 0
B33: วิศวกรรมเครื่องกล | C33: 0 | D33: 1 | E33: =C33+D33 -> 1 | F33: 15 | G33: 0 | H33: =F33+G33 -> 15 | I33: 10 | J33: 0 | K33: =I33+J33 -> 10 | L33: =C33+F33+I33 -> 25 | M33: =D33+G33+J33 -> 1 | N33: =L33+M33 -> 26 | O33: 2 | P33: =IF(O33=1,#REF!,"0") -> 0 | Q33: =IF(O33=1,#REF!,"0") -> 0 | R33: =IF(O33=1,#REF!,"0") -> 0 | S33: =IF(O33=2,L33,"0") -> 25 | T33: =IF(O33=2,M33,"0") -> 1 | U33: =IF(O33=2,N33,"0") -> 26 | V33: =IF(O33=3,L33,"0") -> 0 | W33: =IF(O33=3,M33,"0") -> 0 | X33: =IF(O33=3,N33,"0") -> 0
B34: วิศวกรรมไฟฟ้า | C34: 6 | D34: 3 | E34: =C34+D34 -> 9 | F34: 3 | G34: 4 | H34: =F34+G34 -> 7 | I34: 0 | J34: 2 | K34: =I34+J34 -> 2 | L34: =C34+F34+I34 -> 9 | M34: =D34+G34+J34 -> 9 | N34: =L34+M34 -> 18 | O34: 2 | P34: =IF(O34=1,#REF!,"0") -> 0 | Q34: =IF(O34=1,#REF!,"0") -> 0 | R34: =IF(O34=1,#REF!,"0") -> 0 | S34: =IF(O34=2,L34,"0") -> 9 | T34: =IF(O34=2,M34,"0") -> 9 | U34: =IF(O34=2,N34,"0") -> 18 | V34: =IF(O34=3,L34,"0") -> 0 | W34: =IF(O34=3,M34,"0") -> 0 | X34: =IF(O34=3,N34,"0") -> 0
B35: วิศวกรรมอิเล็กทรอนิกส์และระบบอัตโนมัติ | C35: 0 | D35: 1 | E35: =C35+D35 -> 1 | F35: 0 | G35: 3 | H35: =F35+G35 -> 3 | I35: 1 | J35: 0 | K35: =I35+J35 -> 1 | L35: =C35+F35+I35 -> 1 | M35: =D35+G35+J35 -> 4 | N35: =L35+M35 -> 5 | O35: 2 | P35: =IF(O35=1,#REF!,"0") -> 0 | Q35: =IF(O35=1,#REF!,"0") -> 0 | R35: =IF(O35=1,#REF!,"0") -> 0 | S35: =IF(O35=2,L35,"0") -> 1 | T35: =IF(O35=2,M35,"0") -> 4 | U35: =IF(O35=2,N35,"0") -> 5 | V35: =IF(O35=3,L35,"0") -> 0 | W35: =IF(O35=3,M35,"0") -> 0 | X35: =IF(O35=3,N35,"0") -> 0
B36: วิศวกรรมอุตสาหการ | C36: 1 | D36: 0 | E36: =C36+D36 -> 1 | F36: 5 | G36: 8 | H36: =F36+G36 -> 13 | I36: 2 | J36: 0 | K36: =I36+J36 -> 2 | L36: =C36+F36+I36 -> 8 | M36: =D36+G36+J36 -> 8 | N36: =L36+M36 -> 16 | O36: 2 | P36: =IF(O36=1,#REF!,"0") -> 0 | Q36: =IF(O36=1,#REF!,"0") -> 0 | R36: =IF(O36=1,#REF!,"0") -> 0 | S36: =IF(O36=2,L36,"0") -> 8 | T36: =IF(O36=2,M36,"0") -> 8 | U36: =IF(O36=2,N36,"0") -> 16 | V36: =IF(O36=3,L36,"0") -> 0 | W36: =IF(O36=3,M36,"0") -> 0 | X36: =IF(O36=3,N36,"0") -> 0
B37: รวมในหลักสูตร | C37: =SUM(C32:C36) -> 13 | D37: =SUM(D32:D36) -> 6 | E37: =SUM(E32:E36) -> 19 | F37: =SUM(F32:F36) -> 28 | G37: =SUM(G32:G36) -> 19 | H37: =SUM(H32:H36) -> 47 | I37: =SUM(I32:I36) -> 18 | J37: =SUM(J32:J36) -> 8 | ... N37: =SUM(N32:N36) -> 92 | O37: 2 | P37: =SUM(P32:P36) -> 0 | Q37: =SUM(Q32:Q36) -> 0 | R37: =SUM(R32:R36) -> 0 | S37: =SUM(S32:S36) -> 59 | T37: =SUM(T32:T36) -> 33 | U37: =SUM(U32:U36) -> 92 | V37: =SUM(V32:V36) -> 0 | W37: =SUM(W32:W36) -> 0 | X37: =SUM(X32:X36) -> 0
B38: ระดับปริญญาตรี - หลักสูตรครุศาสตร์อุตสาหกรรมบัณฑิต (วุฒิ ปวช./ม.6 ได้รับใบประกอบวิชาชีพครู)
B39: วิศวกรรมคอมพิวเตอร์ | C39: 3 | D39: 4 | E39: =SUM(C39:D39) -> 7 | F39: 0 | G39: 0 | H39: =F39+G39 -> 0 | I39: 0 | J39: 0 | K39: =I39+J39 -> 0 | L39: =C39+F39+I39 -> 3 | M39: =D39+G39+J39 -> 4 | N39: =L39+M39 -> 7 | O39: 2 | P39: =IF(O39=1,L39,"0") -> 0 | Q39: =IF(O39=1,M39,"0") -> 0 | R39: =IF(Q39=1,N39,"0") -> 0 | S39: =IF(O39=2,L39,"0") -> 3 | T39: =IF(O39=2,M39,"0") -> 4 | U39: =IF(O39=2,N39,"0") -> 7 | V39: =IF(O39=3,L39,"0") -> 0 | W39: =IF(O39=3,M39,"0") -> 0 | X39: =IF(O39=3,N39,"0") -> 0
B40: วิศวกรรมโยธา | C40: 1 | D40: 0 | E40: =SUM(C40:D40) -> 1 | F40: 0 | G40: 0 | H40: =F40+G40 -> 0 | I40: 0 | J40: 0 | K40: =I40+J40 -> 0 | L40: =C40+F40+I40 -> 1 | M40: =D40+G40+J40 -> 0 | N40: =L40+M40 -> 1 | O40: 2 | P40: =IF(O40=1,L40,"0") -> 0 | Q40: =IF(O40=1,M40,"0") -> 0 | R40: =IF(Q40=1,N40,"0") -> 0 | S40: =IF(O40=2,L40,"0") -> 1 | T40: =IF(O40=2,M40,"0") -> 0 | U40: =IF(O40=2,N40,"0") -> 1 | V40: =IF(O40=3,L40,"0") -> 0 | W40: =IF(O40=3,M40,"0") -> 0 | X40: =IF(O40=3,N40,"0") -> 0
B41: รวมในหลักสูตร | C41: =SUM(C39:C40) -> 4 | D41: =SUM(D39:D40) -> 4 | E41: =SUM(E39:E40) -> 8 | F41: =SUM(F39:F40) -> 0 | G41: =SUM(G39:G40) -> 0 | H41: =SUM(H39:H40) -> 0 | I41: =SUM(I39:I40) -> 0 | J41: =SUM(J39:J40) -> 0 | K41: =SUM(K39:K40) -> 0 | L41: =C41+F41+I41 -> 4 | M41: =D41+G41+J41 -> 4 | N41: =L41+M41 -> 8 | O41: =SUM(O39:O40) -> 4 | P41: =SUM(P39:P40) -> 0 | Q41: =SUM(Q39:Q40) -> 0 | R41: =SUM(R39:R40) -> 0 | S41: =SUM(S39:S40) -> 4 | T41: =SUM(T39:T40) -> 4 | U41: =SUM(U39:U40) -> 8 | V41: =SUM(V39:V40) -> 0 | ... X41: =SUM(X39:X40) -> 0
...

Sheet Sheet1
A1: คณะศิลปศาสตร์ | B1: ='จำนวนผู้สำเร็จ '!N28 -> 533
A2: คณะครุศาสตร์อุตสาหกรรม | B2: ='จำนวนผู้สำเร็จ '!N70 -> 385
A3: คณะเทคโนโลยีการเกษตร | B3: ='จำนวนผู้สำเร็จ '!N81 -> 154
A4: คณะวิศวกรรมศาสตร์ | B4: ='จำนวนผู้สำเร็จ '!N129 -> 1148
A5: คณะบริหารธุรกิจ | B5: ='จำนวนผู้สำเร็จ '!N171 -> 1374
A6: คณะเทคโนโลยีคหกรรมศาสตร์ | B6: ='จำนวนผู้สำเร็จ '!N191 -> 428
A7: คณะศิลปกรรมศาสตร์ | B7: ='จำนวนผู้สำเร็จ '!N213 -> 287
A8: คณะเทคโนโลยีสื่อสารมวลชน | B8: ='จำนวนผู้สำเร็จ '!N236 -> 424
A9: คณะวิทยาศาสตร์และเทคโนโลยี | B9: ='จำนวนผู้สำเร็จ '!N258 -> 288
A10: คณะสถาปัตยกรรมศาสตร์ | B10: ='จำนวนผู้สำเร็จ '!N266 -> 141
A11: วิทยาลัยการแพทย์แผนไทย | B11: ='จำนวนผู้สำเร็จ '!N277 -> 97
A12: คณะพยาบาลศาสตร์ | B12: ='จำนวนผู้สำเร็จ '!N284 -> 87
B13: =SUM(B1:B12) -> 5346
