Workbook

Sheet นักศึกษาเข้าใหม่
A2: คณะ/สาขาวิชา | C2: นักศึกษาเข้าใหม่ ปีการศึกษา 2569
C3: ระดับปริญญาตรี
C4: โควตา (ม.6/ปวช./ปวส.) | H4: MOU (ม.6/ปวช./ปวส.) | M4: สอบตรง (ปวช./ปวส./กศน.) | R4: รับตรง (ปวช./ปวส./กศน.) | W4: รับตรงรวม | AB4: TCAS 1 | AG4: TCAS 2 | AL4: TCAS 3 | AQ4: TCAS 4 | AV4: โครงการแลกเปลี่ยน | BA4: โควตาคณะ | BF4: โควตาคณะ | BK4: โควตาผู้มีความบกพร่อง | BP4: รับกลับเข้าศึกษา (Re รหัส) | BU4: รวมทั้งหมด | CA4: ผลผลิต
C5: แผนรับ | D5: ผู้สมัคร (ชำระค่าสมัครสอบ) | E5: รับไว้ | H5: แผนรับ | I5: ผู้สมัคร (ชำระค่าสมัครสอบ) | J5: รับไว้ | M5: แผนรับ | N5: ผู้สมัคร (ชำระค่าสมัครสอบ) | O5: รับไว้ | R5: แผนรับ | S5: ผู้สมัคร (ชำระค่าสมัครสอบ) | T5: รับไว้ | W5: แผนรับ | X5: ผู้สมัคร (ชำระค่าสมัครสอบ) | Y5: รับไว้ | AB5: แผนรับ | AC5: ผู้สมัคร (ชำระค่าสมัครสอบ) | AD5: รับไว้ | AG5: แผนรับ | AH5: ผู้สมัคร (ชำระค่าสมัครสอบ) | AI5: รับไว้ | AL5: แผนรับ | AM5: ผู้สมัคร (ชำระค่าสมัครสอบ) | AN5: รับไว้ | AQ5: แผนรับ | AR5: ผู้สมัคร (ชำระค่าสมัครสอบ) | AS5: รับไว้ | AV5: แผนรับ | AW5: ผู้สมัคร (ชำระค่าสมัครสอบ) | AX5: รับไว้ | BA5: แผนรับ | BB5: ผู้สมัคร (ชำระค่าสมัครสอบ) | BC5: รับไว้ | BF5: แผนรับ | BG5: ผู้สมัคร (ชำระค่าสมัครสอบ) | BH5: รับไว้ | BK5: แผนรับ | BL5: ผู้สมัคร (ชำระค่าสมัครสอบ) | BM5: รับไว้ | BP5: แผนรับ | BQ5: ผู้สมัคร (ชำระค่าสมัครสอบ) | BR5: รับไว้ | BU5: แผนรับ | BV5: ผู้สมัคร (ชำระค่าสมัครสอบ) | BW5: รับไว้ | CA5: ด้านสังคม | CD5: ด้านวิทยาศสตร์ | CG5: ด้านวิทยาศสตร์สุขภาพ
E6: ชาย | F6: หญิง | G6: รวม | J6: ชาย | K6: หญิง | L6: รวม | O6: ชาย | P6: หญิง | Q6: รวม | T6: ชาย | U6: หญิง | V6: รวม | Y6: ชาย | Z6: หญิง | AA6: รวม | AD6: ชาย | AE6: หญิง | AF6: รวม | AI6: ชาย | AJ6: หญิง | AK6: รวม | AN6: ชาย | AO6: หญิง | AP6: รวม | AS6: ชาย | AT6: หญิง | AU6: รวม | AX6: ชาย | AY6: หญิง | AZ6: รวม | BC6: ชาย | BD6: หญิง | BE6: รวม | BH6: ชาย | BI6: หญิง | BJ6: รวม | BM6: ชาย | BN6: หญิง | BO6: รวม | BR6: ชาย | BS6: หญิง | BT6: รวม | BW6: ชาย | BX6: หญิง | BY6: รวม | CA6: ชาย | CB6: หญิง | CC6: รวม | CD6: ชาย | CE6: หญิง | CF6: รวม | CG6: ชาย | CH6: หญิง | CI6: รวม
A7: คณะศิลปศาสตร์
B8: ภาคปกติ
B9: ระดับปริญญาตรี - หลักสูตรศิลปศาสตรบัณฑิต (วุฒิ ปวช./ม.6)
B10: การจัดการการโรงแรม | C10: 5 | D10: 9 | E10: 1 | F10: 3 | G10: =E10+F10 -> 4 | H10: 0 | I10: 36 | J10: 1 | K10: 26 | L10: =SUM(J10:K10) -> 27 | M10: 10 | N10: 7 | O10: 2 | P10: 2 | Q10: =SUM(O10:P10) -> 4 | R10: 0 | S10: 3 | T10: 0 | U10: 3 | V10: =SUM(T10:U10) -> 3 | W10: 0 | X10: 0 | Y10: 0 | Z10: 0 | AA10: =Y10+Z10 -> 0 | AB10: 40 | AC10: 64 | AD10: 13 | AE10: 21 | AF10: =AD10+AE10 -> 34 | AG10: 45 | AH10: 22 | AI10: 7 | AJ10: 6 | AK10: =AI10+AJ10 -> 13 | AL10: 15 | AM10: 88 | AN10: 5 | AO10: 7 | AP10: =AN10+AO10 -> 12 | AQ10: 5 | AR10: 9 | AS10: 5 | AT10: 1 | AU10: =AS10+AT10 -> 6 | AV10: 0 | AW10: 0 | AX10: 0 | AY10: 0 | AZ10: =AX10+AY10 -> 0 | BA10: 0 | BB10: 0 | BC10: 0 | BD10: 0 | BE10: =BC10+BD10 -> 0 | BF10: 0 | BG10: 1 | BH10: 1 | BI10: 0 | BJ10: =BH10+BI10 -> 1 | BK10: 0 | BL10: 0 | BM10: 0 | BN10: 0 | BO10: =BM10+BN10 -> 0 | BP10: 0 | BQ10: 0 | BR10: 0 | BS10: 1 | BT10: =BR10+BS10 -> 1 | BU10: =C10+M10+AB10+AG10+AL10+AQ10+AV10+BA10+BF10+BP10+H10+BK10+R10 -> 120 | BV10: =D10+N10+AC10+AH10+AM10+AR10+AW10+BB10+BG10+BQ10+I10+BL10+S10+X10 -> 239 | BW10: =E10+O10+AD10+AI10+AN10+AS10+AX10+BC10+BH10+BR10+J10+BM10+T10 -> 35 | BX10: =F10+P10+AE10+AJ10+AO10+AT10+AY10+BD10+BI10+BS10+K10+BN10+U10 -> 70 | BY10: =G10+Q10+AF10+AK10+AP10+AU10+AZ10+BE10+BJ10+BT10+L10+BO10+V10 -> 105 | BZ10: 1 | CA10: =IF(BZ10=1,BW10,"0") -> 35 | CB10: =IF(BZ10=1,BX10,"0") -> 70 | CC10: =CA10+CB10 -> 105 | CD10: =IF(BZ10=2,BW10,"0") -> 0 | CE10: =IF(BZ10=2,BX10,"0") -> 0 | CF10: =CD10+CE10 -> 0 | CG10: =IF(CC10=2,BZ10,"0") -> 0 | CH10: =IF(CC10=2,CA10,"0") -> 0 | CI10: =CG10+CH10 -> 0
B11: การท่องเที่ยว | C11: 5 | D11: 7 | E11: 2 | F11: 1 | G11: =E11+F11 -> 3 | H11: 0 | I11: 18 | J11: 5 | K11: 9 | L11: =SUM(J11:K11) -> 14 | M11: 5 | N11: 2 | O11: 0 | P11: 0 | Q11: =SUM(O11:P11) -> 0 | R11: 0 | S11: 9 | T11: 2 | U11: 5 | V11: =SUM(T11:U11) -> 7 | W11: 0 | X11: 0 | Y11: 0 | Z11: 0 | AA11: =Y11+Z11 -> 0 | AB11: 45 | AC11: =48+41 -> 89 | AD11: 10 | AE11: 23 | AF11: =AD11+AE11 -> 33 | AG11: 45 | AH11: 41 | AI11: 9 | AJ11: 15 | AK11: =AI11+AJ11 -> 24 | AL11: 15 | AM11: 159 | AN11: 9 | AO11: 17 | AP11: =AN11+AO11 -> 26 | AQ11: 5 | AR11: 15 | AS11: 2 | AT11: 5 | AU11: =AS11+AT11 -> 7 | AV11: 0 | AW11: 0 | AX11: 0 | AY11: 0 | AZ11: =AX11+AY11 -> 0 | BA11: 0 | BB11: 0 | BC11: 0 | BD11: 0 | BE11: =BC11+BD11 -> 0 | BF11: 0 | BG11: 0 | BH11: 0 | BI11: 0 | BJ11: =BH11+BI11 -> 0 | BK11: 0 | BL11: 0 | BM11: 0 | BN11: 0 | BO11: =BM11+BN11 -> 0 | BP11: 0 | BQ11: 0 | BR11: 0 | BS11: 0 | BT11: =BR11+BS11 -> 0 | BU11: =C11+M11+AB11+AG11+AL11+AQ11+AV11+BA11+BF11+BP11+H11+BK11+R11 -> 120 | BV11: =D11+N11+AC11+AH11+AM11+AR11+AW11+BB11+BG11+BQ11+I11+BL11+S11+X11 -> 340 | BW11: =E11+O11+AD11+AI11+AN11+AS11+AX11+BC11+BH11+BR11+J11+BM11+T11 -> 39 | BX11: =F11+P11+AE11+AJ11+AO11+AT11+AY11+BD11+BI11+BS11+K11+BN11+U11 -> 75 | BY11: =G11+Q11+AF11+AK11+AP11+AU11+AZ11+BE11+BJ11+BT11+L11+BO11+V11 -> 114 | BZ11: 1 | CA11: =IF(BZ11=1,BW11,"0") -> 39 | CB11: =IF(BZ11=1,BX11,"0") -> 75 | CC11: =CA11+CB11 -> 114 | CD11: =IF(BZ11=2,BW11,"0") -> 0 | CE11: =IF(BZ11=2,BX11,"0") -> 0 | CF11: =CD11+CE11 -> 0 | CG11: =IF(CC11=2,BZ11,"0") -> 0 | CH11: =IF(CC11=2,CA11,"0") -> 0 | CI11: =CG11+CH11 -> 0
B12: พลศึกษา | C12: 2 | D12: 3 | E12: 0 | F12: 0 | G12: =E12+F12 -> 0 | H12: 0 | I12: 14 | J12: 8 | K12: 3 | L12: =SUM(J12:K12) -> 11 | M12: 0 | N12: 0 | O12: 0 | P12: 0 | Q12: =SUM(O12:P12) -> 0 | R12: 0 | S12: 0 | T12: 0 | U12: 0 | V12: =SUM(T12:U12) -> 0 | W12: 0 | X12: 0 | Y12: 0 | Z12: 0 | AA12: =Y12+Z12 -> 0 | AB12: 25 | AC12: 155 | AD12: 18 | AE12: 4 | AF12: =AD12+AE12 -> 22 | AG12: 20 | AH12: 107 | AI12: 31 | AJ12: 3 | AK12: =AI12+AJ12 -> 34 | AL12: 10 | AM12: 151 | AN12: 18 | AO12: 1 | AP12: =AN12+AO12 -> 19 | AQ12: 3 | AR12: 41 | AS12: 8 | AT12: 3 | AU12: =AS12+AT12 -> 11 | AV12: 0 | AW12: 0 | AX12: 0 | AY12: 0 | AZ12: =AX12+AY12 -> 0 | BA12: 0 | BB12: 0 | BC12: 0 | BD12: 0 | BE12: =BC12+BD12 -> 0 | BF12: 0 | BG12: 7 | BH12: 4 | BI12: 1 | BJ12: =SUM(BH12:BI12) -> 5 | BK12: 0 | BL12: 0 | BM12: 0 | BN12: 0 | BO12: =BM12+BN12 -> 0 | BP12: 0 | BQ12: 0 | BR12: 0 | BS12: 0 | BT12: =BR12+BS12 -> 0 | BU12: =C12+M12+AB12+AG12+AL12+AQ12+AV12+BA12+BF12+BP12+H12+BK12+R12 -> 60 | BV12: =D12+N12+AC12+AH12+AM12+AR12+AW12+BB12+BG12+BQ12+I12+BL12+S12+X12 -> 478 | BW12: =E12+O12+AD12+AI12+AN12+AS12+AX12+BC12+BH12+BR12+J12+BM12+T12 -> 87 | BX12: =F12+P12+AE12+AJ12+AO12+AT12+AY12+BD12+BI12+BS12+K12+BN12+U12 -> 15 | BY12: =G12+Q12+AF12+AK12+AP12+AU12+AZ12+BE12+BJ12+BT12+L12+BO12+V12 -> 102 | BZ12: 1 | CA12: =IF(BZ12=1,BW12,"0") -> 87 | CB12: =IF(BZ12=1,BX12,"0") -> 15 | CC12: =CA12+CB12 -> 102 | CD12: =IF(BZ12=2,BW12,"0") -> 0 | CE12: =IF(BZ12=2,BX12,"0") -> 0 | CF12: =CD12+CE12 -> 0 | CG12: =IF(CC12=2,BZ12,"0") -> 0 | CH12: =IF(CC12=2,CA12,"0") -> 0 | CI12: =CG12+CH12 -> 0
B13: ภาษาอังกฤษเพื่อการสื่อสาร | C13: 10 | D13: 10 | E13: 0 | F13: 3 | G13: =E13+F13 -> 3 | H13: 0 | I13: 20 | J13: 3 | K13: 17 | L13: =SUM(J13:K13) -> 20 | M13: 10 | N13: 4 | O13: 1 | P13: 0 | Q13: =O13+P13 -> 1 | R13: 0 | S13: 3 | T13: 1 | U13: 1 | V13: =T13+U13 -> 2 | W13: 0 | X13: 0 | Y13: 0 | Z13: 0 | AA13: =Y13+Z13 -> 0 | AB13: 20 | AC13: =62+24 -> 86 | AD13: 15 | AE13: 10 | AF13: =AD13+AE13 -> 25 | AG13: 35 | AH13: 18 | AI13: 5 | AJ13: 7 | AK13: =AI13+AJ13 -> 12 | AL13: 35 | AM13: 313 | AN13: 31 | AO13: 36 | AP13: =AN13+AO13 -> 67 | AQ13: 10 | AR13: 0 | AS13: 1 | AT13: 1 | AU13: =AS13+AT13 -> 2 | AV13: 0 | AW13: 0 | AX13: 0 | AY13: 0 | AZ13: =AX13+AY13 -> 0 | BA13: 0 | BB13: 0 | BC13: 0 | BD13: 0 | BE13: =BC13+BD13 -> 0 | BF13: 0 | BG13: 2 | BH13: 0 | BI13: 1 | BJ13: =BH13+BI13 -> 1 | BK13: 0 | BL13: 1 | BM13: 0 | BN13: 0 | BO13: =BM13+BN13 -> 0 | BP13: 0 | BQ13: 0 | BR13: 1 | BS13: 0 | BT13: =BR13+BS13 -> 1 | BU13: =C13+M13+AB13+AG13+AL13+AQ13+AV13+BA13+BF13+BP13+H13+BK13+R13 -> 120 | BV13: =D13+N13+AC13+AH13+AM13+AR13+AW13+BB13+BG13+BQ13+I13+BL13+S13+X13 -> 457 | BW13: =E13+O13+AD13+AI13+AN13+AS13+AX13+BC13+BH13+BR13+J13+BM13+T13 -> 58 | BX13: =F13+P13+AE13+AJ13+AO13+AT13+AY13+BD13+BI13+BS13+K13+BN13+U13 -> 76 | BY13: =G13+Q13+AF13+AK13+AP13+AU13+AZ13+BE13+BJ13+BT13+L13+BO13+V13 -> 134 | BZ13: 1 | CA13: =IF(BZ13=1,BW13,"0") -> 58 | CB13: =IF(BZ13=1,BX13,"0") -> 76 | CC13: =CA13+CB13 -> 134 | CD13: =IF(BZ13=2,BW13,"0") -> 0 | CE13: =IF(BZ13=2,BX13,"0") -> 0 | CF13: =CD13+CE13 -> 0 | CG13: =IF(CC13=2,BZ13,"0") -> 0 | CH13: =IF(CC13=2,CA13,"0") -> 0 | CI13: =CG13+CH13 -> 0
B14: ภาษาไทยและภาษาจีนเพื่ออุตสาหกรรมการบริการ | C14: 5 | D14: 0 | E14: 0 | F14: 0 | G14: =E14+F14 -> 0 | H14: 0 | I14: 23 | J14: 1 | K14: 11 | L14: =SUM(J14:K14) -> 12 | M14: 5 | N14: 0 | O14: 0 | P14: 0 | Q14: =O14+P14 -> 0 | R14: 0 | S14: 5 | T14: 0 | U14: 2 | V14: =T14+U14 -> 2 | W14: 0 | X14: 0 | Y14: 0 | Z14: 0 | AA14: =Y14+Z14 -> 0 | AB14: 35 | AC14: =52+9 -> 61 | AD14: 3 | AE14: 23 | AF14: =AD14+AE14 -> 26 | AG14: 5 | AH14: 19 | AI14: 3 | AJ14: 7 | AK14: =AI14+AJ14 -> 10 | AL14: 5 | AM14: 83 | AN14: 1 | AO14: 14 | AP14: =AN14+AO14 -> 15 | AQ14: 5 | AR14: 8 | AS14: 0 | AT14: 2 | AU14: =AS14+AT14 -> 2 | AV14: 0 | AW14: 0 | AX14: 0 | AY14: 0 | AZ14: =AX14+AY14 -> 0 | BA14: 0 | BB14: 0 | BC14: 0 | BD14: 0 | BE14: =BC14+BD14 -> 0 | BF14: 0 | BG14: 1 | BH14: 0 | BI14: 1 | BJ14: =BH14+BI14 -> 1 | BK14: 0 | BL14: 0 | BM14: 0 | BN14: 0 | BO14: =BM14+BN14 -> 0 | BP14: 0 | BQ14: 0 | BR14: 0 | BS14: 0 | BT14: =BR14+BS14 -> 0 | BU14: =C14+M14+AB14+AG14+AL14+AQ14+AV14+BA14+BF14+BP14+H14+BK14+R14 -> 60 | BV14: =D14+N14+AC14+AH14+AM14+AR14+AW14+BB14+BG14+BQ14+I14+BL14+S14+X14 -> 200 | BW14: =E14+O14+AD14+AI14+AN14+AS14+AX14+BC14+BH14+BR14+J14+BM14+T14 -> 8 | BX14: =F14+P14+AE14+AJ14+AO14+AT14+AY14+BD14+BI14+BS14+K14+BN14+U14 -> 60 | BY14: =G14+Q14+AF14+AK14+AP14+AU14+AZ14+BE14+BJ14+BT14+L14+BO14+V14 -> 68 | BZ14: 1 | CA14: =IF(BZ14=1,BW14,"0") -> 8 | CB14: =IF(BZ14=1,BX14,"0") -> 60 | CC14: =CA14+CB14 -> 68 | CD14: =IF(BZ14=2,BW14,"0") -> 0 | CE14: =IF(BZ14=2,BX14,"0") -> 0 | CF14: =CD14+CE14 -> 0 | CG14: =IF(CC14=2,BZ14,"0") -> 0 | CH14: =IF(CC14=2,CA14,"0") -> 0 | CI14: =CG14+CH14 -> 0
B15: อุตสาหกรรมการบริการการบิน | C15: 5 | D15: 2 | E15: 0 | F15: 1 | G15: =E15+F15 -> 1 | H15: 0 | I15: 30 | J15: 4 | K15: 17 | L15: =SUM(J15:K15) -> 21 | M15: 10 | N15: 1 | O15: 1 | P15: 0 | Q15: =O15+P15 -> 1 | R15: 0 | S15: 4 | T15: 1 | U15: 0 | V15: =T15+U15 -> 1 | W15: 0 | X15: 0 | Y15: 0 | Z15: 0 | AA15: =Y15+Z15 -> 0 | AB15: 15 | AC15: 51 | AD15: 7 | AE15: 16 | AF15: =AD15+AE15 -> 23 | AG15: 15 | AH15: 25 | AI15: 4 | AJ15: 6 | AK15: =AI15+AJ15 -> 10 | AL15: 20 | AM15: 90 | AN15: 4 | AO15: 5 | AP15: =AN15+AO15 -> 9 | AQ15: 5 | AR15: 9 | AS15: 1 | AT15: 6 | AU15: =AS15+AT15 -> 7 | AV15: 0 | AW15: 0 | AX15: 0 | AY15: 0 | AZ15: =AX15+AY15 -> 0 | BA15: 0 | BB15: 0 | BC15: 0 | BD15: 0 | BE15: =BC15+BD15 -> 0 | BF15: 0 | BG15: 0 | BH15: 0 | BI15: 0 | BJ15: =BH15+BI15 -> 0 | BK15: 0 | BL15: 0 | BM15: 0 | BN15: 0 | BO15: =BM15+BN15 -> 0 | BP15: 0 | BQ15: 0 | BR15: 0 | BS15: 0 | BT15: =BR15+BS15 -> 0 | BU15: =C15+M15+AB15+AG15+AL15+AQ15+AV15+BA15+BF15+BP15+H15+BK15+R15 -> 70 | BV15: =D15+N15+AC15+AH15+AM15+AR15+AW15+BB15+BG15+BQ15+I15+BL15+S15+X15 -> 212 | BW15: =E15+O15+AD15+AI15+AN15+AS15+AX15+BC15+BH15+BR15+J15+BM15+T15 -> 22 | BX15: =F15+P15+AE15+AJ15+AO15+AT15+AY15+BD15+BI15+BS15+K15+BN15+U15 -> 51 | BY15: =G15+Q15+AF15+AK15+AP15+AU15+AZ15+BE15+BJ15+BT15+L15+BO15+V15 -> 73 | BZ15: 1 | CA15: =IF(BZ15=1,BW15,"0") -> 22 | CB15: =IF(BZ15=1,BX15,"0") -> 51 | CC15: =CA15+CB15 -> 73 | CD15: =IF(BZ15=2,BW15,"0") -> 0 | CE15: =IF(BZ15=2,BX15,"0") -> 0 | CF15: =CD15+CE15 -> 0 | CG15: =IF(CC15=2,BZ15,"0") -> 0 | CH15: =IF(CC15=2,CA15,"0") -> 0 | CI15: =CG15+CH15 -> 0
B16: รวมในหลักสูตร | C16: =SUM(C10:C15) -> 32 | D16: =SUM(D10:D15) -> 31 | E16: =SUM(E10:E15) -> 3 | F16: =SUM(F10:F15) -> 8 | G16: =SUM(G10:G15) -> 11 | H16: =SUM(H10:H15) -> 0 | I16: =SUM(I10:I15) -> 141 | J16: =SUM(J10:J15) -> 22 | ... BT16: =SUM(BT10:BT15) -> 2 | BU16: =C16+M16+AB16+AG16+AL16+AQ16+AV16+BA16+BF16+BP16+H16+BK16+R16 -> 550 | BV16: =D16+N16+AC16+AH16+AM16+AR16+AW16+BB16+BG16+BQ16+I16+BL16+S16+X16 -> 1926 | BW16: =E16+O16+AD16+AI16+AN16+AS16+AX16+BC16+BH16+BR16+J16+BM16+T16 -> 249 | BX16: =F16+P16+AE16+AJ16+AO16+AT16+AY16+BD16+BI16+BS16+K16+BN16+U16 -> 347 | BY16: =G16+Q16+AF16+AK16+AP16+AU16+AZ16+BE16+BJ16+BT16+L16+BO16+V16 -> 596 | CA16: =SUM(CA10:CA15) -> 249 | CB16: =SUM(CB10:CB15) -> 347 | CC16: =SUM(CC10:CC15) -> 596 | CD16: =SUM(CD10:CD13) -> 0 | CE16: =SUM(CE10:CE13) -> 0 | CF16: =SUM(CF10:CF13) -> 0 | CG16: =SUM(CG10:CG13) -> 0 | CH16: =SUM(CH10:CH13) -> 0 | CI16: =SUM(CI10:CI13) -> 0
B17: ระดับปริญญาตรี - หลักสูตรศิลปศาสตรบัณฑิต (หลักสูตรนานาชาติ)
B18: ภาษาอังกฤษเพื่ออาชีพนานาชาติ | C18: 5 | D18: 0 | E18: 0 | F18: 0 | G18: =E18+F18 -> 0 | H18: 0 | I18: 1 | J18: 1 | K18: 0 | L18: =SUM(J18:K18) -> 1 | M18: 5 | N18: 1 | O18: 0 | P18: 0 | Q18: =O18+P18 -> 0 | R18: 0 | S18: 0 | T18: 0 | U18: 0 | V18: =T18+U18 -> 0 | W18: 0 | X18: 0 | Y18: 0 | Z18: 0 | AA18: =Y18+Z18 -> 0 | AB18: 10 | AC18: 2 | AD18: 0 | AE18: 0 | AF18: =AD18+AE18 -> 0 | AG18: 15 | AH18: 2 | AI18: 1 | AJ18: 0 | AK18: =AI18+AJ18 -> 1 | AL18: 10 | AM18: 25 | AN18: 1 | AO18: 1 | AP18: =AN18+AO18 -> 2 | AQ18: 5 | AR18: 2 | AS18: 0 | AT18: 0 | AU18: =AS18+AT18 -> 0 | AV18: 0 | AW18: 0 | AX18: 0 | AY18: 0 | AZ18: =AX18+AY18 -> 0 | BA18: 0 | BB18: 0 | BC18: 0 | BD18: 0 | BE18: =BC18+BD18 -> 0 | BF18: 0 | BG18: 1 | BH18: 0 | BI18: 1 | BJ18: =BH18+BI18 -> 1 | BK18: 0 | BL18: 0 | BM18: 0 | BN18: 0 | BO18: =BM18+BN18 -> 0 | BP18: 0 | BQ18: 0 | BR18: 0 | BS18: 0 | BT18: =BR18+BS18 -> 0 | BU18: =C18+M18+AB18+AG18+AL18+AQ18+AV18+BA18+BF18+BP18+H18+BK18+R18 -> 50 | BV18: =D18+N18+AC18+AH18+AM18+AR18+AW18+BB18+BG18+BQ18+I18+BL18+S18+X18 -> 34 | BW18: =E18+O18+AD18+AI18+AN18+AS18+AX18+BC18+BH18+BR18+J18+BM18+T18 -> 3 | BX18: =F18+P18+AE18+AJ18+AO18+AT18+AY18+BD18+BI18+BS18+K18+BN18+U18 -> 2 | BY18: =G18+Q18+AF18+AK18+AP18+AU18+AZ18+BE18+BJ18+BT18+L18+BO18+V18 -> 5 | BZ18: 1 | CA18: =IF(BZ18=1,BW18,"0") -> 3 | CB18: =IF(BZ18=1,BX18,"0") -> 2 | CC18: =CA18+CB18 -> 5 | CD18: =IF(BZ18=2,BW18,"0") -> 0 | CE18: =IF(BZ18=2,BX18,"0") -> 0 | CF18: =CD18+CE18 -> 0 | CG18: =IF(CC18=2,BZ18,"0") -> 0 | CH18: =IF(CC18=2,CA18,"0") -> 0 | CI18: =CG18+CH18 -> 0
B19: รวมในหลักสูตร | C19: =SUM(C18) -> 5 | D19: =SUM(D18) -> 0 | E19: =SUM(E18) -> 0 | F19: =SUM(F18) -> 0 | G19: =SUM(G18) -> 0 | H19: =SUM(H18) -> 0 | I19: =SUM(I18) -> 1 | J19: =SUM(J18) -> 1 | ... BT19: =SUM(BT18) -> 0 | BU19: =C19+M19+AB19+AG19+AL19+AQ19+AV19+BA19+BF19+BP19+H19+BK19+R19 -> 50 | BV19: =D19+N19+AC19+AH19+AM19+AR19+AW19+BB19+BG19+BQ19+I19+BL19+S19 -> 34 | BW19: =E19+O19+AD19+AI19+AN19+AS19+AX19+BC19+BH19+BR19+J19+BM19+T19 -> 3 | BX19: =F19+P19+AE19+AJ19+AO19+AT19+AY19+BD19+BI19+BS19+K19+BN19+U19 -> 2 | BY19: =G19+Q19+AF19+AK19+AP19+AU19+AZ19+BE19+BJ19+BT19+L19+BO19+V19 -> 5 | CA19: =SUM(CA18) -> 3 | CB19: =SUM(CB18) -> 2 | CC19: =SUM(CC18) -> 5 | CD19: =SUM(CD18) -> 0 | CE19: =SUM(CE18) -> 0 | CF19: =SUM(CF18) -> 0 | CG19: =SUM(CG18) -> 0 | CH19: =SUM(CH18) -> 0 | CI19: =SUM(CI18) -> 0
B20: ระดับปริญญาตรี - หลักสูตรศิลปศาสตรบัณฑิต (วุฒิ ปวส. เทียบโอน)
B21: การจัดการการโรงแรม | C21: 30 | D21: 5 | E21: 0 | F21: 0 | G21: =E21+F21 -> 0 | H21: 0 | I21: 1 | J21: 0 | K21: 0 | L21: =SUM(J21:K21) -> 0 | M21: 20 | N21: 3 | O21: 0 | P21: 0 | Q21: =O21+P21 -> 0 | R21: 0 | S21: 4 | T21: 0 | U21: 0 | V21: =T21+U21 -> 0 | W21: 0 | X21: 0 | Y21: 0 | Z21: 0 | AA21: =Y21+Z21 -> 0 | AB21: 0 | AC21: 0 | AD21: 0 | AE21: 0 | AF21: =AD21+AE21 -> 0 | AG21: 0 | AH21: 0 | AI21: 0 | AJ21: 0 | AK21: =AI21+AJ21 -> 0 | AL21: 0 | AM21: 0 | AN21: 0 | AO21: 0 | AP21: =AN21+AO21 -> 0 | AQ21: 0 | AR21: 0 | AS21: 0 | AT21: 0 | AU21: =AS21+AT21 -> 0 | AV21: 0 | AW21: 0 | AX21: 0 | AY21: 0 | AZ21: =AX21+AY21 -> 0 | BA21: 0 | BB21: 0 | BC21: 0 | BD21: 0 | BE21: =BC21+BD21 -> 0 | BF21: 0 | BG21: 0 | BH21: 0 | BI21: 0 | BJ21: =BH21+BI21 -> 0 | BK21: 0 | BL21: 0 | BM21: 0 | BN21: 0 | BO21: =BM21+BN21 -> 0 | BP21: 0 | BQ21: 0 | BR21: 0 | BS21: 0 | BT21: =BR21+BS21 -> 0 | BU21: =C21+M21+AB21+AG21+AL21+AQ21+AV21+BA21+BF21+BP21+H21+BK21+R21 -> 50 | BV21: =D21+N21+AC21+AH21+AM21+AR21+AW21+BB21+BG21+BQ21+I21+BL21+S21+X21 -> 13 | BW21: =E21+O21+AD21+AI21+AN21+AS21+AX21+BC21+BH21+BR21+J21+BM21+T21 -> 0 | BX21: =F21+P21+AE21+AJ21+AO21+AT21+AY21+BD21+BI21+BS21+K21+BN21+U21 -> 0 | BY21: =G21+Q21+AF21+AK21+AP21+AU21+AZ21+BE21+BJ21+BT21+L21+BO21+V21 -> 0 | BZ21: 1 | CA21: =IF(BZ21=1,BW21,"0") -> 0 | CB21: =IF(BZ21=1,BX21,"0") -> 0 | CC21: =CA21+CB21 -> 0 | CD21: =IF(BZ21=2,BW21,"0") -> 0 | CE21: =IF(BZ21=2,BX21,"0") -> 0 | CF21: =CD21+CE21 -> 0 | CG21: =IF(CC21=2,BZ21,"0") -> 0 | CH21: =IF(CC21=2,CA21,"0") -> 0 | CI21: =CG21+CH21 -> 0
B22: รวมในหลักสูตร | C22: =SUM(C21) -> 30 | D22: =SUM(D21) -> 5 | E22: =SUM(E21) -> 0 | F22: =SUM(F21) -> 0 | G22: =SUM(G21) -> 0 | H22: =SUM(H21) -> 0 | I22: =SUM(I21) -> 1 | J22: =SUM(J21) -> 0 | ... BT22: =SUM(BT21) -> 0 | BU22: =C22+M22+AB22+AG22+AL22+AQ22+AV22+BA22+BF22+BP22+H22+BK22+R22 -> 50 | BV22: =D22+N22+AC22+AH22+AM22+AR22+AW22+BB22+BG22+BQ22+I22+BL22+S22+X22 -> 13 | BW22: =E22+O22+AD22+AI22+AN22+AS22+AX22+BC22+BH22+BR22+J22+BM22+T22 -> 0 | BX22: =F22+P22+AE22+AJ22+AO22+AT22+AY22+BD22+BI22+BS22+K22+BN22+U22 -> 0 | BY22: =G22+Q22+AF22+AK22+AP22+AU22+AZ22+BE22+BJ22+BT22+L22+BO22+V22 -> 0 | CA22: =SUM(CA21) -> 0 | CB22: =SUM(CB21) -> 0 | CC22: =SUM(CA22:CB22) -> 0 | CD22: =SUM(CD21) -> 0 | CE22: =SUM(CE21) -> 0 | CF22: =SUM(CD22:CE22) -> 0 | CG22: =SUM(CG21) -> 0 | CH22: =SUM(CH21) -> 0 | CI22: =SUM(CG22:CH22) -> 0
B23: รวมภาคปกติ | C23: =C16+C22+C19 -> 67 | D23: =D16+D22+D19 -> 36 | E23: =E16+E22+E19 -> 3 | F23: =F16+F22+F19 -> 8 | G23: =G16+G22+G19 -> 11 | H23: =H16+H22+H19 -> 0 | I23: =I16+I22+I19 -> 143 | J23: =J16+J22+J19 -> 23 | ... BT23: =BT16+BT22+BT19 -> 2 | BU23: =C23+M23+AB23+AG23+AL23+AQ23+AV23+BA23+BF23+BP23+H23+BK23+R23 -> 650 | BV23: =D23+N23+AC23+AH23+AM23+AR23+AW23+BB23+BG23+BQ23+I23+BL23+S23+X23 -> 1973 | BW23: =E23+O23+AD23+AI23+AN23+AS23+AX23+BC23+BH23+BR23+J23+BM23+T23 -> 252 | BX23: =F23+P23+AE23+AJ23+AO23+AT23+AY23+BD23+BI23+BS23+K23+BN23+U23 -> 349 | BY23: =G23+Q23+AF23+AK23+AP23+AU23+AZ23+BE23+BJ23+BT23+L23+BO23+V23 -> 601 | CA23: =CA16+CA22+CA19 -> 252 | CB23: =CB16+CB22+CB19 -> 349 | CC23: =CC16+CC22+CC19 -> 601 | CD23: =CD16+CD22+CD19 -> 0 | CE23: =CE16+CE22+CE19 -> 0 | CF23: =CF16+CF22+CF19 -> 0 | CG23: =CG16+CG22+CG19 -> 0 | CH23: =CH16+CH22+CH19 -> 0 | CI23: =CI16+CI22+CI19 -> 0
B24: ภาคพิเศษ
B25: ระดับปริญญาตรี - หลักสูตรศิลปศาสตรบัณฑิต (วุฒิ ปวช./ม.6)
B26: การจัดการการโรงแรม | C26: 0 | D26: 0 | E26: 0 | F26: 0 | G26: =E26+F26 -> 0 | H26: 0 | I26: 0 | J26: 0 | K26: 0 | L26: =SUM(J26:K26) -> 0 | M26: 0 | N26: 0 | O26: 0 | P26: 0 | Q26: =O26+P26 -> 0 | R26: 0 | S26: 2 | T26: 0 | U26: 0 | V26: =T26+U26 -> 0 | W26: 0 | X26: 0 | Y26: 0 | Z26: 0 | AA26: =Y26+Z26 -> 0 | AB26: 0 | AC26: 0 | AD26: 0 | AE26: 0 | AF26: =AD26+AE26 -> 0 | AG26: 30 | AH26: 8 | AI26: 0 | AJ26: 0 | AK26: =AI26+AJ26 -> 0 | AL26: 10 | AM26: 25 | AN26: 0 | AO26: 0 | AP26: =AN26+AO26 -> 0 | AQ26: 5 | AR26: 1 | AS26: 0 | AT26: 0 | AU26: =AS26+AT26 -> 0 | AV26: 0 | AW26: 0 | AX26: 0 | AY26: 0 | AZ26: =AX26+AY26 -> 0 | BA26: 0 | BB26: 0 | BC26: 0 | BD26: 0 | BE26: =BC26+BD26 -> 0 | BF26: 0 | BG26: 0 | BH26: 0 | BI26: 0 | BJ26: =BH26+BI26 -> 0 | BK26: 0 | BL26: 0 | BM26: 0 | BN26: 0 | BO26: =BM26+BN26 -> 0 | BP26: 0 | BQ26: 0 | BR26: 0 | BS26: 0 | BT26: =BR26+BS26 -> 0 | BU26: =C26+M26+AB26+AG26+AL26+AQ26+AV26+BA26+BF26+BP26+H26+BK26+R26 -> 45 | BV26: =D26+N26+AC26+AH26+AM26+AR26+AW26+BB26+BG26+BQ26+I26+BL26+S26+X26 -> 36 | BW26: =E26+O26+AD26+AI26+AN26+AS26+AX26+BC26+BH26+BR26+J26+BM26+T26 -> 0 | BX26: =F26+P26+AE26+AJ26+AO26+AT26+AY26+BD26+BI26+BS26+K26+BN26+U26 -> 0 | BY26: =G26+Q26+AF26+AK26+AP26+AU26+AZ26+BE26+BJ26+BT26+L26+BO26+V26 -> 0 | BZ26: 1 | CA26: =IF(BZ26=1,BW26,"0") -> 0 | CB26: =IF(BZ26=1,BX26,"0") -> 0 | CC26: =CA26+CB26 -> 0 | CD26: =IF(BZ26=2,BW26,"0") -> 0 | CE26: =IF(BZ26=2,BX26,"0") -> 0 | CF26: =CD26+CE26 -> 0 | CG26: =IF(CC26=2,BZ26,"0") -> 0 | CH26: =IF(CC26=2,CA26,"0") -> 0 | CI26: =CG26+CH26 -> 0
B27: ภาษาอังกฤษเพื่อการสื่อสาร | C27: 5 | D27: 0 | E27: 0 | F27: 0 | G27: =E27+F27 -> 0 | H27: 0 | I27: 0 | J27: 0 | K27: 0 | L27: =SUM(J27:K27) -> 0 | M27: 5 | N27: 1 | O27: 0 | P27: 0 | Q27: =O27+P27 -> 0 | R27: 0 | S27: 4 | T27: 0 | U27: 0 | V27: =T27+U27 -> 0 | W27: 0 | X27: 0 | Y27: 0 | Z27: 0 | AA27: =Y27+Z27 -> 0 | AB27: 10 | AC27: 1 | AD27: 0 | AE27: 0 | AF27: =AD27+AE27 -> 0 | AG27: 10 | AH27: 0 | AI27: 0 | AJ27: 0 | AK27: =AI27+AJ27 -> 0 | AL27: 20 | AM27: 39 | AN27: 0 | AO27: 0 | AP27: =AN27+AO27 -> 0 | AQ27: 5 | AR27: 5 | AS27: 0 | AT27: 0 | AU27: =AS27+AT27 -> 0 | AV27: 0 | AW27: 0 | AX27: 0 | AY27: 0 | AZ27: =AX27+AY27 -> 0 | BA27: 0 | BB27: 0 | BC27: 0 | BD27: 0 | BE27: =BC27+BD27 -> 0 | BF27: 0 | BG27: 0 | BH27: 0 | BI27: 0 | BJ27: =BH27+BI27 -> 0 | BK27: 0 | BL27: 0 | BM27: 0 | BN27: 0 | BO27: =BM27+BN27 -> 0 | BP27: 0 | BQ27: 0 | BR27: 0 | BS27: 0 | BT27: =BR27+BS27 -> 0 | BU27: =C27+M27+AB27+AG27+AL27+AQ27+AV27+BA27+BF27+BP27+H27+BK27+R27 -> 55 | BV27: =D27+N27+AC27+AH27+AM27+AR27+AW27+BB27+BG27+BQ27+I27+BL27+S27+X27 -> 50 | BW27: =E27+O27+AD27+AI27+AN27+AS27+AX27+BC27+BH27+BR27+J27+BM27+T27 -> 0 | BX27: =F27+P27+AE27+AJ27+AO27+AT27+AY27+BD27+BI27+BS27+K27+BN27+U27 -> 0 | BY27: =G27+Q27+AF27+AK27+AP27+AU27+AZ27+BE27+BJ27+BT27+L27+BO27+V27 -> 0
B28: อุตสาหกรรมการบริการการบิน | C28: 0 | D28: 0 | E28: 0 | F28: 0 | G28: =E28+F28 -> 0 | H28: 0 | I28: 0 | J28: 0 | K28: 0 | L28: =SUM(J28:K28) -> 0 | M28: 0 | N28: 0 | O28: 0 | P28: 0 | Q28: =O28+P28 -> 0 | R28: 0 | S28: 2 | T28: 0 | U28: 0 | V28: =T28+U28 -> 0 | W28: 0 | X28: 0 | Y28: 0 | Z28: 0 | AA28: =Y28+Z28 -> 0 | AB28: 0 | AC28: 0 | AD28: 0 | AE28: 0 | AF28: =AD28+AE28 -> 0 | AG28: 15 | AH28: 6 | AI28: 0 | AJ28: 0 | AK28: =AI28+AJ28 -> 0 | AL28: 5 | AM28: 19 | AN28: 0 | AO28: 0 | AP28: =AN28+AO28 -> 0 | AQ28: 5 | AR28: 0 | AS28: 0 | AT28: 0 | AU28: =AS28+AT28 -> 0 | AV28: 0 | AW28: 0 | AX28: 0 | AY28: 0 | AZ28: =AX28+AY28 -> 0 | BA28: 0 | BB28: 0 | BC28: 0 | BD28: 0 | BE28: =BC28+BD28 -> 0 | BF28: 0 | BG28: 0 | BH28: 0 | BI28: 0 | BJ28: =BH28+BI28 -> 0 | BK28: 0 | BL28: 0 | BM28: 0 | BN28: 0 | BO28: =BM28+BN28 -> 0 | BP28: 0 | BQ28: 0 | BR28: 0 | BS28: 0 | BT28: =BR28+BS28 -> 0 | BU28: =C28+M28+AB28+AG28+AL28+AQ28+AV28+BA28+BF28+BP28+H28+BK28+R28 -> 25 | BV28: =D28+N28+AC28+AH28+AM28+AR28+AW28+BB28+BG28+BQ28+I28+BL28+S28+X28 -> 27 | BW28: =E28+O28+AD28+AI28+AN28+AS28+AX28+BC28+BH28+BR28+J28+BM28+T28 -> 0 | BX28: =F28+P28+AE28+AJ28+AO28+AT28+AY28+BD28+BI28+BS28+K28+BN28+U28 -> 0 | BY28: =G28+Q28+AF28+AK28+AP28+AU28+AZ28+BE28+BJ28+BT28+L28+BO28+V28 -> 0 | BZ28: 1 | CA28: =IF(BZ28=1,BW28,"0") -> 0 | CB28: =IF(BZ28=1,BX28,"0") -> 0 | CC28: =CA28+CB28 -> 0 | CD28: =IF(BZ28=2,BW28,"0") -> 0 | CE28: =IF(BZ28=2,BX28,"0") -> 0 | CF28: =CD28+CE28 -> 0 | CG28: =IF(CC28=2,BZ28,"0") -> 0 | CH28: =IF(CC28=2,CA28,"0") -> 0 | CI28: =CG28+CH28 -> 0
B29: รวมในหลักสูตร | C29: =SUM(C26:C28) -> 5 | D29: =SUM(D26:D28) -> 0 | E29: =SUM(E26:E28) -> 0 | F29: =SUM(F26:F28) -> 0 | G29: =SUM(G26:G28) -> 0 | H29: =SUM(H26:H28) -> 0 | I29: =SUM(I26:I28) -> 0 | J29: =SUM(J26:J28) -> 0 | ... BM29: =SUM(BM26:BM28) -> 0 | BN29: 0 | BO29: =SUM(BO26:BO28) -> 0 | BP29: =SUM(BP26:BP28) -> 0 | BQ29: =SUM(BQ26:BQ28) -> 0 | BR29: =SUM(BR26:BR28) -> 0 | BS29: =SUM(BS26:BS28) -> 0 | BT29: =SUM(BT26:BT28) -> 0 | BU29: =C29+M29+AB29+AG29+AL29+AQ29+AV29+BA29+BF29+BP29+H29+BK29+R29 -> 125 | BV29: =D29+N29+AC29+AH29+AM29+AR29+AW29+BB29+BG29+BQ29+I29+BL29+S29+X29 -> 113 | BW29: =E29+O29+AD29+AI29+AN29+AS29+AX29+BC29+BH29+BR29+J29+BM29+T29 -> 0 | BX29: =F29+P29+AE29+AJ29+AO29+AT29+AY29+BD29+BI29+BS29+K29+BN29+U29 -> 0 | BY29: =G29+Q29+AF29+AK29+AP29+AU29+AZ29+BE29+BJ29+BT29+L29+BO29+V29 -> 0 | CA29: =SUM(CA26:CA28) -> 0 | CB29: =SUM(CB26:CB28) -> 0 | CC29: =SUM(CC26:CC28) -> 0 | CD29: =SUM(CD28) -> 0 | CE29: =SUM(CE28) -> 0 | CF29: =SUM(CD29:CE29) -> 0 | CG29: =SUM(CG28) -> 0 | CH29: =SUM(CH28) -> 0 | CI29: =SUM(CG29:CH29) -> 0
B30: ระดับปริญญาตรี - หลักสูตรศิลปศาสตรบัณฑิต (วุฒิ ปวส. เทียบโอน)
B31: การจัดการการโรงแรม | C31: 0 | D31: 0 | E31: 0 | F31: 2 | G31: =E31+F31 -> 2 | H31: 0 | I31: 1 | J31: 0 | K31: 1 | L31: =SUM(J31:K31) -> 1 | M31: 0 | N31: 0 | O31: 0 | P31: 1 | Q31: =O31+P31 -> 1 | R31: 0 | S31: 0 | T31: 0 | U31: 3 | V31: =T31+U31 -> 3 | W31: 0 | X31: 0 | Y31: 0 | Z31: 0 | AA31: =Y31+Z31 -> 0 | AB31: 0 | AC31: 0 | AD31: 0 | AE31: 0 | AF31: =AD31+AE31 -> 0 | AG31: 0 | AH31: 0 | AI31: 0 | AJ31: 0 | AK31: =AI31+AJ31 -> 0 | AL31: 0 | AM31: 0 | AN31: 0 | AO31: 0 | AP31: =AN31+AO31 -> 0 | AQ31: 0 | AR31: 0 | AS31: 0 | AT31: 0 | AU31: =AS31+AT31 -> 0 | AV31: 0 | AW31: 0 | AX31: 0 | AY31: 0 | AZ31: =AX31+AY31 -> 0 | BA31: 0 | BB31: 0 | BE31: =BC31+BD31 -> 0 | BF31: 0 | BG31: 3 | BH31: 2 | BI31: 1 | BJ31: =BH31+BI31 -> 3 | BK31: 0 | BL31: 0 | BM31: 0 | BN31: 0 | BO31: =BM31+BN31 -> 0 | BP31: 0 | BQ31: 0 | BR31: 0 | BS31: 0 | BT31: =BR31+BS31 -> 0 | BU31: =C31+M31+AB31+AG31+AL31+AQ31+AV31+BA31+BF31+BP31+H31+BK31+R31 -> 0 | BV31: =D31+N31+AC31+AH31+AM31+AR31+AW31+BB31+BG31+BQ31+I31+BL31+S31+X31 -> 4 | BW31: =E31+O31+AD31+AI31+AN31+AS31+AX31+BC31+BH31+BR31+J31+BM31+T31 -> 2 | BX31: =F31+P31+AE31+AJ31+AO31+AT31+AY31+BD31+BI31+BS31+K31+BN31+U31 -> 8 | BY31: =G31+Q31+AF31+AK31+AP31+AU31+AZ31+BE31+BJ31+BT31+L31+BO31+V31 -> 10 | BZ31: 1 | CA31: =IF(BZ31=1,BW31,"0") -> 2 | CB31: =IF(BZ31=1,BX31,"0") -> 8 | CC31: =CA31+CB31 -> 10 | CD31: =IF(BZ31=2,BW31,"0") -> 0 | CE31: =IF(BZ31=2,BX31,"0") -> 0 | CF31: =CD31+CE31 -> 0 | CG31: =IF(CC31=2,BZ31,"0") -> 0 | CH31: =IF(CC31=2,CA31,"0") -> 0 | CI31: =CG31+CH31 -> 0
B32: รวมในหลักสูตร | C32: =SUM(C31) -> 0 | D32: =SUM(D31) -> 0 | E32: =SUM(E31) -> 0 | F32: =SUM(F31) -> 2 | G32: =SUM(G31) -> 2 | H32: =SUM(H31) -> 0 | I32: =SUM(I31) -> 1 | J32: =SUM(J31) -> 0 | ... BT32: =SUM(BT31) -> 0 | BU32: =C32+M32+AB32+AG32+AL32+AQ32+AV32+BA32+BF32+BP32+H32+BK32+R32 -> 0 | BV32: =D32+N32+AC32+AH32+AM32+AR32+AW32+BB32+BG32+BQ32+I32+BL32+S32+X32 -> 4 | BW32: =E32+O32+AD32+AI32+AN32+AS32+AX32+BC32+BH32+BR32+J32+BM32+T32 -> 2 | BX32: =F32+P32+AE32+AJ32+AO32+AT32+AY32+BD32+BI32+BS32+K32+BN32+U32 -> 8 | BY32: =G32+Q32+AF32+AK32+AP32+AU32+AZ32+BE32+BJ32+BT32+L32+BO32+V32 -> 10 | BZ32: 1 | CA32: =IF(BZ32=1,BW32,"0") -> 2 | CB32: =IF(BZ32=1,BX32,"0") -> 8 | CC32: =CA32+CB32 -> 10 | CD32: =IF(BZ32=2,BW32,"0") -> 0 | CE32: =IF(BZ32=2,BX32,"0") -> 0 | CF32: =CD32+CE32 -> 0 | CG32: =IF(CC32=2,BZ32,"0") -> 0 | CH32: =IF(CC32=2,CA32,"0") -> 0 | CI32: =CG32+CH32 -> 0
B33: รวมภาคพิเศษ | C33: =C32+C29 -> 5 | D33: =D32+D29 -> 0 | E33: =E32+E29 -> 0 | F33: =F32+F29 -> 2 | G33: =G32+G29 -> 2 | H33: =H32+H29 -> 0 | I33: =I32+I29 -> 1 | J33: =J32+J29 -> 0 | ... BT33: =BT32+BT29 -> 0 | BU33: =C33+M33+AB33+AG33+AL33+AQ33+AV33+BA33+BF33+BP33+H33+BK33+R33 -> 125 | BV33: =D33+N33+AC33+AH33+AM33+AR33+AW33+BB33+BG33+BQ33+I33+BL33+S33+X33 -> 117 | BW33: =E33+O33+AD33+AI33+AN33+AS33+AX33+BC33+BH33+BR33+J33+BM33+T33 -> 2 | BX33: =F33+P33+AE33+AJ33+AO33+AT33+AY33+BD33+BI33+BS33+K33+BN33+U33 -> 8 | BY33: =G33+Q33+AF33+AK33+AP33+AU33+AZ33+BE33+BJ33+BT33+L33+BO33+V33 -> 10 | CA33: =CA32+CA29 -> 2 | CB33: =CB32+CB29 -> 8 | CC33: =CC32+CC29 -> 10 | CD33: =CD29 -> 0 | CE33: =CE29 -> 0 | CF33: =CF29 -> 0 | CG33: =CG29 -> 0 | CH33: =CH29 -> 0 | CI33: =CI29 -> 0
B34: รวมทั้งคณะ | C34: =C23+C33 -> 72 | D34: =D23+D33 -> 36 | E34: =E23+E33 -> 3 | F34: =F23+F33 -> 10 | G34: =G23+G33 -> 13 | H34: =H23+H33 -> 0 | I34: =I23+I33 -> 144 | J34: =J23+J33 -> 23 | ... BT34: =BT23+BT33 -> 2 | BU34: =C34+M34+AB34+AG34+AL34+AQ34+AV34+BA34+BF34+BP34+H34+BK34+R34 -> 775 | BV34: =D34+N34+AC34+AH34+AM34+AR34+AW34+BB34+BG34+BQ34+I34+BL34+S34+X34 -> 2090 | BW34: =E34+O34+AD34+AI34+AN34+AS34+AX34+BC34+BH34+BR34+J34+BM34+T34 -> 254 | BX34: =F34+P34+AE34+AJ34+AO34+AT34+AY34+BD34+BI34+BS34+K34+BN34+U34 -> 357 | BY34: =G34+Q34+AF34+AK34+AP34+AU34+AZ34+BE34+BJ34+BT34+L34+BO34+V34 -> 611 | CA34: =CA23+CA33 -> 254 | CB34: =CB23+CB33 -> 357 | CC34: =CC23+CC33 -> 611 | CD34: =CD23 -> 0 | CE34: =CE23 -> 0 | CF34: =CF23 -> 0 | CG34: =CG23 -> 0 | CH34: =CH23 -> 0 | CI34: =CI23 -> 0
A35: คณะครุศาสตร์อุตสาหกรรม
B36: ภาคปกติ
B37: ระดับปริญญาตรี - หลักสูตรครุศาสตร์อุตสาหกรรมบัณฑิต (วุฒิ ปวช./ม.6)
B38: วิศวกรรมคอมพิวเตอร์ | C38: 20 | D38: 12 | E38: 3 | F38: 2 | G38: =E38+F38 -> 5 | H38: 0 | I38: 10 | J38: 7 | K38: 2 | L38: =SUM(J38:K38) -> 9 | M38: 10 | N38: 12 | O38: 2 | P38: 0 | Q38: =O38+P38 -> 2 | R38: 0 | S38: 5 | T38: 1 | U38: 2 | V38: =T38+U38 -> 3 | W38: 0 | X38: 0 | Y38: 0 | Z38: 0 | AA38: =Y38+Z38 -> 0 | AB38: 10 | AC38: 14 | AD38: 3 | AE38: 0 | AF38: =AD38+AE38 -> 3 | AG38: 10 | AH38: 11 | AI38: 3 | AJ38: 2 | AK38: =AI38+AJ38 -> 5 | AL38: 8 | AM38: 42 | AN38: 5 | AO38: 4 | AP38: =AN38+AO38 -> 9 | AQ38: 2 | AR38: 7 | AS38: 1 | AT38: 3 | AU38: =AS38+AT38 -> 4 | AV38: 0 | AW38: 0 | AX38: 0 | AY38: 0 | AZ38: =AX38+AY38 -> 0 | BA38: 0 | BE38: =BC38+BD38 -> 0 | BF38: 0 | BG38: 15 | BH38: 9 | BI38: 5 | BJ38: =BH38+BI38 -> 14 | BK38: 0 | BL38: 0 | BM38: 0 | BN38: 0 | BO38: =SUM(BM38:BN38) -> 0 | BP38: 0 | BQ38: 0 | BR38: 0 | BS38: 0 | BT38: =SUM(BR38:BS38) -> 0 | BU38: =C38+M38+AB38+AG38+AL38+AQ38+AV38+BA38+BF38+BP38+H38+BK38+R38 -> 60 | BV38: =D38+N38+AC38+AH38+AM38+AR38+AW38+BB38+BG38+BQ38+I38+BL38+S38+X38 -> 128 | BW38: =E38+O38+AD38+AI38+AN38+AS38+AX38+BC38+BH38+BR38+J38+BM38+T38 -> 34 | BX38: =F38+P38+AE38+AJ38+AO38+AT38+AY38+BD38+BI38+BS38+K38+BN38+U38 -> 20 | BY38: =G38+Q38+AF38+AK38+AP38+AU38+AZ38+BE38+BJ38+BT38+L38+BO38+V38 -> 54 | BZ38: 2 | CA38: =IF(BZ38=1,BW38,"0") -> 0 | CB38: =IF(BZ38=1,BX38,"0") -> 0 | CC38: =CA38+CB38 -> 0 | CD38: =IF(BZ38=2,BW38,"0") -> 34 | CE38: =IF(BZ38=2,BX38,"0") -> 20 | CF38: =CD38+CE38 -> 54 | CG38: =IF(CC38=2,BZ38,"0") -> 0 | CH38: =IF(CC38=2,CA38,"0") -> 0 | CI38: =CG38+CH38 -> 0
B39: วิศวกรรมเครื่องกล | C39: 20 | D39: 11 | E39: 6 | F39: 0 | G39: =E39+F39 -> 6 | H39: 0 | I39: 4 | J39: 3 | K39: 1 | L39: =SUM(J39:K39) -> 4 | M39: 10 | N39: 2 | O39: 0 | P39: 0 | Q39: =O39+P39 -> 0 | R39: 0 | S39: 8 | T39: 4 | U39: 0 | V39: =T39+U39 -> 4 | W39: 0 | X39: 0 | Y39: 0 | Z39: 0 | AA39: =Y39+Z39 -> 0 | AB39: 10 | AC39: 17 | AD39: 3 | AE39: 1 | AF39: =AD39+AE39 -> 4 | AG39: 10 | AH39: 8 | AI39: 2 | AJ39: 0 | AK39: =AI39+AJ39 -> 2 | AL39: 0 | AM39: 0 | AN39: 0 | AO39: 0 | AP39: =AN39+AO39 -> 0 | AQ39: 10 | AR39: 1 | AS39: 0 | AT39: 1 | AU39: =AS39+AT39 -> 1 | AV39: 0 | AW39: 0 | AX39: 0 | AY39: 0 | AZ39: =AX39+AY39 -> 0 | BA39: 0 | BE39: =BC39+BD39 -> 0 | BF39: 0 | BG39: 34 | BH39: 30 | BI39: 4 | BJ39: =BH39+BI39 -> 34 | BK39: 0 | BL39: 0 | BM39: 0 | BN39: 0 | BO39: =SUM(BM39:BN39) -> 0 | BP39: 0 | BQ39: 0 | BR39: 0 | BS39: 0 | BT39: =SUM(BR39:BS39) -> 0 | BU39: =C39+M39+AB39+AG39+AL39+AQ39+AV39+BA39+BF39+BP39+H39+BK39+R39 -> 60 | BV39: =D39+N39+AC39+AH39+AM39+AR39+AW39+BB39+BG39+BQ39+I39+BL39+S39+X39 -> 85 | BW39: =E39+O39+AD39+AI39+AN39+AS39+AX39+BC39+BH39+BR39+J39+BM39+T39 -> 48 | BX39: =F39+P39+AE39+AJ39+AO39+AT39+AY39+BD39+BI39+BS39+K39+BN39+U39 -> 7 | BY39: =G39+Q39+AF39+AK39+AP39+AU39+AZ39+BE39+BJ39+BT39+L39+BO39+V39 -> 55 | BZ39: 2 | CA39: =IF(BZ39=1,BW39,"0") -> 0 | CB39: =IF(BZ39=1,BX39,"0") -> 0 | CC39: =CA39+CB39 -> 0 | CD39: =IF(BZ39=2,BW39,"0") -> 48 | CE39: =IF(BZ39=2,BX39,"0") -> 7 | CF39: =CD39+CE39 -> 55 | CG39: =IF(CC39=2,BZ39,"0") -> 0 | CH39: =IF(CC39=2,CA39,"0") -> 0 | CI39: =CG39+CH39 -> 0
B40: วิศวกรรมไฟฟ้า | C40: 20 | D40: 14 | E40: 6 | F40: 2 | G40: =E40+F40 -> 8 | H40: 0 | I40: 7 | J40: 4 | K40: 3 | L40: =SUM(J40:K40) -> 7 | M40: 10 | N40: 4 | O40: 0 | P40: 1 | Q40: =O40+P40 -> 1 | R40: 0 | S40: 12 | T40: 4 | U40: 1 | V40: =T40+U40 -> 5 | W40: 0 | X40: 0 | Y40: 0 | Z40: 0 | AA40: =Y40+Z40 -> 0 | AB40: 10 | AC40: =9+8 -> 17 | AD40: 4 | AE40: 2 | AF40: =AD40+AE40 -> 6 | AG40: 10 | AH40: =9+2 -> 11 | AI40: 4 | AJ40: 3 | AK40: =AI40+AJ40 -> 7 | AL40: 0 | AM40: 0 | AN40: 0 | AO40: 0 | AP40: =AN40+AO40 -> 0 | AQ40: 10 | AR40: 2 | AS40: 0 | AT40: 1 | AU40: =AS40+AT40 -> 1 | AV40: 0 | AW40: 0 | AX40: 0 | AY40: 0 | AZ40: =AX40+AY40 -> 0 | BA40: 0 | BE40: =BC40+BD40 -> 0 | BF40: 0 | BG40: 15 | BH40: 10 | BI40: 4 | BJ40: =BH40+BI40 -> 14 | BK40: 0 | BL40: 0 | BM40: 0 | BN40: 0 | BO40: =SUM(BM40:BN40) -> 0 | BP40: 0 | BQ40: 1 | BR40: 0 | BS40: 0 | BT40: =SUM(BR40:BS40) -> 0 | BU40: =C40+M40+AB40+AG40+AL40+AQ40+AV40+BA40+BF40+BP40+H40+BK40+R40 -> 60 | BV40: =D40+N40+AC40+AH40+AM40+AR40+AW40+BB40+BG40+BQ40+I40+BL40+S40+X40 -> 83 | BW40: =E40+O40+AD40+AI40+AN40+AS40+AX40+BC40+BH40+BR40+J40+BM40+T40 -> 32 | BX40: =F40+P40+AE40+AJ40+AO40+AT40+AY40+BD40+BI40+BS40+K40+BN40+U40 -> 17 | BY40: =G40+Q40+AF40+AK40+AP40+AU40+AZ40+BE40+BJ40+BT40+L40+BO40+V40 -> 49 | BZ40: 2 | CA40: =IF(BZ40=1,BW40,"0") -> 0 | CB40: =IF(BZ40=1,BX40,"0") -> 0 | CC40: =CA40+CB40 -> 0 | CD40: =IF(BZ40=2,BW40,"0") -> 32 | CE40: =IF(BZ40=2,BX40,"0") -> 17 | CF40: =CD40+CE40 -> 49 | CG40: =IF(CC40=2,BZ40,"0") -> 0 | CH40: =IF(CC40=2,CA40,"0") -> 0 | CI40: =CG40+CH40 -> 0
B41: วิศวกรรมอิเล็กทรอนิกส์ | C41: 10 | D41: 3 | E41: 1 | F41: 0 | G41: =E41+F41 -> 1 | H41: 0 | I41: 4 | J41: 4 | K41: 0 | L41: =SUM(J41:K41) -> 4 | M41: 5 | N41: 1 | O41: 1 | P41: 1 | Q41: =O41+P41 -> 2 | R41: 0 | S41: 2 | T41: 2 | U41: 0 | V41: =T41+U41 -> 2 | W41: 0 | X41: 0 | Y41: 0 | Z41: 0 | AA41: =Y41+Z41 -> 0 | AB41: 10 | AC41: 3 | AD41: 1 | AE41: 0 | AF41: =AD41+AE41 -> 1 | AG41: 10 | AH41: 0 | AI41: 0 | AJ41: 0 | AK41: =AI41+AJ41 -> 0 | AL41: 20 | AM41: 38 | AN41: 3 | AO41: 9 | AP41: =AN41+AO41 -> 12 | AQ41: 5 | AR41: 2 | AS41: 0 | AT41: 1 | AU41: =AS41+AT41 -> 1 | AV41: 0 | AW41: 0 | AX41: 0 | AY41: 0 | AZ41: =AX41+AY41 -> 0 | BA41: 0 | BE41: =BC41+BD41 -> 0 | BF41: 0 | BG41: 10 | BH41: 4 | BI41: 4 | BJ41: =BH41+BI41 -> 8 | BK41: 0 | BL41: 0 | BM41: 0 | BN41: 0 | BO41: =SUM(BM41:BN41) -> 0 | BP41: 0 | BQ41: 0 | BR41: 0 | BS41: 0 | BT41: =SUM(BR41:BS41) -> 0 | BU41: =C41+M41+AB41+AG41+AL41+AQ41+AV41+BA41+BF41+BP41+H41+BK41+R41 -> 60 | BV41: =D41+N41+AC41+AH41+AM41+AR41+AW41+BB41+BG41+BQ41+I41+BL41+S41+X41 -> 63 | BW41: =E41+O41+AD41+AI41+AN41+AS41+AX41+BC41+BH41+BR41+J41+BM41+T41 -> 16 | BX41: =F41+P41+AE41+AJ41+AO41+AT41+AY41+BD41+BI41+BS41+K41+BN41+U41 -> 15 | BY41: =G41+Q41+AF41+AK41+AP41+AU41+AZ41+BE41+BJ41+BT41+L41+BO41+V41 -> 31 | BZ41: 2 | CA41: =IF(BZ41=1,BW41,"0") -> 0 | CB41: =IF(BZ41=1,BX41,"0") -> 0 | CC41: =CA41+CB41 -> 0 | CD41: =IF(BZ41=2,BW41,"0") -> 16 | CE41: =IF(BZ41=2,BX41,"0") -> 15 | CF41: =CD41+CE41 -> 31 | CG41: =IF(CC41=2,BZ41,"0") -> 0 | CH41: =IF(CC41=2,CA41,"0") -> 0 | CI41: =CG41+CH41 -> 0
B42: วิศวกรรมอุตสาหการ | C42: 30 | D42: 26 | E42: 2 | F42: 1 | G42: =E42+F42 -> 3 | H42: 0 | I42: 8 | J42: 4 | K42: 4 | L42: =SUM(J42:K42) -> 8 | M42: 25 | N42: 4 | O42: 0 | P42: 1 | Q42: =O42+P42 -> 1 | R42: 0 | S42: 1 | T42: 0 | U42: 0 | V42: =T42+U42 -> 0 | W42: 0 | X42: 0 | Y42: 0 | Z42: 0 | AA42: =Y42+Z42 -> 0 | AB42: 2 | AC42: 24 | AD42: 4 | AE42: 2 | AF42: =AD42+AE42 -> 6 | AG42: 2 | AH42: 16 | AI42: 3 | AJ42: 0 | AK42: =AI42+AJ42 -> 3 | AL42: 0 | AM42: 0 | AN42: 0 | AO42: 0 | AP42: =AN42+AO42 -> 0 | AQ42: 1 | AR42: 6 | AS42: 0 | AT42: 1 | AU42: =AS42+AT42 -> 1 | AV42: 0 | AW42: 0 | AX42: 0 | AY42: 0 | AZ42: =AX42+AY42 -> 0 | BA42: 0 | BE42: =BC42+BD42 -> 0 | BF42: 0 | BG42: 8 | BH42: 6 | BI42: 2 | BJ42: =BH42+BI42 -> 8 | BK42: 0 | BL42: 0 | BM42: 0 | BN42: 0 | BO42: =SUM(BM42:BN42) -> 0 | BP42: 0 | BQ42: 0 | BR42: 0 | BS42: 0 | BT42: =SUM(BR42:BS42) -> 0 | BU42: =C42+M42+AB42+AG42+AL42+AQ42+AV42+BA42+BF42+BP42+H42+BK42+R42 -> 60 | BV42: =D42+N42+AC42+AH42+AM42+AR42+AW42+BB42+BG42+BQ42+I42+BL42+S42+X42 -> 93 | BW42: =E42+O42+AD42+AI42+AN42+AS42+AX42+BC42+BH42+BR42+J42+BM42+T42 -> 19 | BX42: =F42+P42+AE42+AJ42+AO42+AT42+AY42+BD42+BI42+BS42+K42+BN42+U42 -> 11 | BY42: =G42+Q42+AF42+AK42+AP42+AU42+AZ42+BE42+BJ42+BT42+L42+BO42+V42 -> 30 | BZ42: 2 | CA42: =IF(BZ42=1,BW42,"0") -> 0 | CB42: =IF(BZ42=1,BX42,"0") -> 0 | CC42: =CA42+CB42 -> 0 | CD42: =IF(BZ42=2,BW42,"0") -> 19 | CE42: =IF(BZ42=2,BX42,"0") -> 11 | CF42: =CD42+CE42 -> 30 | CG42: =IF(CC42=2,BZ42,"0") -> 0 | CH42: =IF(CC42=2,CA42,"0") -> 0 | CI42: =CG42+CH42 -> 0
B43: รวมในหลักสูตร | C43: =SUM(C38:C42) -> 100 | D43: =SUM(D38:D42) -> 66 | E43: =SUM(E38:E42) -> 18 | F43: =SUM(F38:F42) -> 5 | G43: =SUM(G38:G42) -> 23 | H43: =SUM(H38:H42) -> 0 | I43: =SUM(I38:I42) -> 33 | J43: =SUM(J38:J42) -> 22 | ... BT43: =SUM(BT38:BT42) -> 0 | BU43: =C43+M43+AB43+AG43+AL43+AQ43+AV43+BA43+BF43+BP43+H43+BK43+R43 -> 300 | BV43: =D43+N43+AC43+AH43+AM43+AR43+AW43+BB43+BG43+BQ43+I43+BL43+S43+X43 -> 452 | BW43: =E43+O43+AD43+AI43+AN43+AS43+AX43+BC43+BH43+BR43+J43+BM43+T43 -> 149 | BX43: =F43+P43+AE43+AJ43+AO43+AT43+AY43+BD43+BI43+BS43+K43+BN43+U43 -> 70 | BY43: =G43+Q43+AF43+AK43+AP43+AU43+AZ43+BE43+BJ43+BT43+L43+BO43+V43 -> 219 | CA43: =SUM(CA38:CA42) -> 0 | CB43: =SUM(CB38:CB42) -> 0 | CC43: =SUM(CC38:CC42) -> 0 | CD43: =SUM(CD38:CD42) -> 149 | CE43: =SUM(CE38:CE42) -> 70 | CF43: =SUM(CF38:CF42) -> 219 | CG43: =SUM(CG38:CG42) -> 0 | CH43: =SUM(CH38:CH42) -> 0 | CI43: =SUM(CI38:CI42) -> 0
B44: ระดับปริญญาตรี - หลักสูตรศึกษาศาสตรบัณฑิต (วุฒิ ปวช./ม.6)
B45: เทคโนโลยีดิจิทัลเพื่อการศึกษาและคอมพิวเตอร์ศึกษา | C45: 0 | D45: 0 | E45: 0 | F45: 0 | G45: =E45+F45 -> 0 | H45: 0 | I45: 2 | J45: 1 | K45: 1 | L45: =SUM(J45:K45) -> 2 | M45: 10 | N45: 1 | O45: 0 | P45: 1 | Q45: =O45+P45 -> 1 | R45: 0 | S45: 3 | T45: 0 | U45: 1 | V45: =T45+U45 -> 1 | W45: 0 | X45: 0 | Y45: 0 | Z45: 0 | AA45: =Y45+Z45 -> 0 | AB45: 15 | AC45: 14 | AD45: 9 | AE45: 1 | AF45: =AD45+AE45 -> 10 | AG45: 10 | AH45: 8 | AI45: 0 | AJ45: 3 | AK45: =AI45+AJ45 -> 3 | AL45: 20 | AM45: 55 | AN45: 6 | AO45: 4 | AP45: =AN45+AO45 -> 10 | AQ45: 5 | AR45: 3 | AS45: 0 | AT45: 1 | AU45: =AS45+AT45 -> 1 | AV45: 0 | AW45: 0 | AX45: 0 | AY45: 0 | AZ45: =AX45+AY45 -> 0 | BA45: 0 | BE45: =SUM(BC45:BD45) -> 0 | BF45: 0 | BG45: 9 | BH45: 6 | BI45: 3 | BJ45: =BH45+BI45 -> 9 | BK45: 0 | BL45: 0 | BM45: 0 | BN45: 0 | BO45: =BM45+BN45 -> 0 | BP45: 0 | BQ45: 0 | BR45: 0 | BS45: 0 | BT45: =BR45+BS45 -> 0 | BU45: =C45+M45+AB45+AG45+AL45+AQ45+AV45+BA45+BF45+BP45+H45+BK45+R45 -> 60 | BV45: =D45+N45+AC45+AH45+AM45+AR45+AW45+BB45+BG45+BQ45+I45+BL45+S45+X45 -> 95 | BW45: =E45+O45+AD45+AI45+AN45+AS45+AX45+BC45+BH45+BR45+J45+BM45+T45 -> 22 | BX45: =F45+P45+AE45+AJ45+AO45+AT45+AY45+BD45+BI45+BS45+K45+BN45+U45 -> 15 | BY45: =G45+Q45+AF45+AK45+AP45+AU45+AZ45+BE45+BJ45+BT45+L45+BO45+V45 -> 37 | BZ45: 2 | CA45: =IF(BZ45=1,BW45,"0") -> 0 | CB45: =IF(BZ45=1,BX45,"0") -> 0 | CC45: =CA45+CB45 -> 0 | CD45: =IF(BZ45=2,BW45,"0") -> 22 | CE45: =IF(BZ45=2,BX45,"0") -> 15 | CF45: =CD45+CE45 -> 37 | CG45: =IF(CC45=2,BZ45,"0") -> 0 | CH45: =IF(CC45=2,CA45,"0") -> 0 | CI45: =CG45+CH45 -> 0
B46: เทคโนโลยีและสื่อสารการศึกษา | C46: 10 | D46: 3 | E46: 1 | F46: 1 | G46: =E46+F46 -> 2 | H46: 0 | I46: 7 | J46: 5 | K46: 2 | L46: =SUM(J46:K46) -> 7 | M46: 5 | N46: 4 | O46: 2 | P46: 0 | Q46: =O46+P46 -> 2 | R46: 0 | S46: 4 | T46: 1 | U46: 3 | V46: =T46+U46 -> 4 | W46: 0 | X46: 0 | Y46: 0 | Z46: 0 | AA46: =Y46+Z46 -> 0 | AB46: 15 | AC46: 15 | AD46: 6 | AE46: 5 | AF46: =AD46+AE46 -> 11 | AG46: 10 | AH46: 6 | AI46: 2 | AJ46: 0 | AK46: =AI46+AJ46 -> 2 | AL46: 15 | AM46: 65 | AN46: 3 | AO46: 5 | AP46: =AN46+AO46 -> 8 | AQ46: 5 | AR46: 4 | AS46: 1 | AT46: 2 | AU46: =AS46+AT46 -> 3 | AV46: 0 | AW46: 0 | AX46: 0 | AY46: 0 | AZ46: =AX46+AY46 -> 0 | BA46: 0 | BE46: =SUM(BC46:BD46) -> 0 | BF46: 0 | BG46: 14 | BH46: 4 | BI46: 8 | BJ46: =BH46+BI46 -> 12 | BK46: 0 | BL46: 0 | BM46: 0 | BN46: 0 | BO46: =BM46+BN46 -> 0 | BP46: 0 | BQ46: 0 | BR46: 1 | BS46: 0 | BT46: =BR46+BS46 -> 1 | BU46: =C46+M46+AB46+AG46+AL46+AQ46+AV46+BA46+BF46+BP46+H46+BK46+R46 -> 60 | BV46: =D46+N46+AC46+AH46+AM46+AR46+AW46+BB46+BG46+BQ46+I46+BL46+S46+X46 -> 122 | BW46: =E46+O46+AD46+AI46+AN46+AS46+AX46+BC46+BH46+BR46+J46+BM46+T46 -> 26 | BX46: =F46+P46+AE46+AJ46+AO46+AT46+AY46+BD46+BI46+BS46+K46+BN46+U46 -> 26 | BY46: =G46+Q46+AF46+AK46+AP46+AU46+AZ46+BE46+BJ46+BT46+L46+BO46+V46 -> 52 | BZ46: 2 | CA46: =IF(BZ46=1,BW46,"0") -> 0 | CB46: =IF(BZ46=1,BX46,"0") -> 0 | CC46: =CA46+CB46 -> 0 | CD46: =IF(BZ46=2,BW46,"0") -> 26 | CE46: =IF(BZ46=2,BX46,"0") -> 26 | CF46: =CD46+CE46 -> 52 | CG46: =IF(CC46=2,BZ46,"0") -> 0 | CH46: =IF(CC46=2,CA46,"0") -> 0 | CI46: =CG46+CH46 -> 0
B47: รวมในหลักสูตร | C47: =SUM(C45:C46) -> 10 | D47: =SUM(D45:D46) -> 3 | E47: =SUM(E45:E46) -> 1 | F47: =SUM(F45:F46) -> 1 | G47: =SUM(G45:G46) -> 2 | H47: =SUM(H45:H46) -> 0 | I47: =SUM(I45:I46) -> 9 | J47: =SUM(J45:J46) -> 6 | ... BT47: =SUM(BT45:BT46) -> 1 | BU47: =C47+M47+AB47+AG47+AL47+AQ47+AV47+BA47+BF47+BP47+H47+BK47+R47 -> 120 | BV47: =D47+N47+AC47+AH47+AM47+AR47+AW47+BB47+BG47+BQ47+I47+BL47+S47+X47 -> 217 | BW47: =E47+O47+AD47+AI47+AN47+AS47+AX47+BC47+BH47+BR47+J47+BM47+T47 -> 48 | BX47: =F47+P47+AE47+AJ47+AO47+AT47+AY47+BD47+BI47+BS47+K47+BN47+U47 -> 41 | BY47: =G47+Q47+AF47+AK47+AP47+AU47+AZ47+BE47+BJ47+BT47+L47+BO47+V47 -> 89 | CA47: =SUM(CA45:CA46) -> 0 | CB47: =SUM(CB45:CB46) -> 0 | CC47: =SUM(CC45:CC46) -> 0 | CD47: =SUM(CD45:CD46) -> 48 | CE47: =SUM(CE45:CE46) -> 41 | CF47: =SUM(CF45:CF46) -> 89 | CG47: =SUM(CG45:CG46) -> 0 | CH47: =SUM(CH45:CH46) -> 0 | CI47: =SUM(CI45:CI46) -> 0
B48: ระดับปริญญาตรี - หลักสูตรวิทยาศาสตรบัณฑิต (วุฒิ ปวช./ม.6)
B49: นวัตกรรมการเรียนรู้และเทคโนโลยีสารสนเทศ | C49: 5 | D49: 5 | E49: 2 | F49: 0 | G49: =E49+F49 -> 2 | H49: 0 | I49: 2 | J49: 1 | K49: 0 | L49: =SUM(J49:K49) -> 1 | M49: 5 | N49: 0 | O49: 0 | P49: 0 | Q49: =O49+P49 -> 0 | R49: 0 | S49: 2 | T49: 1 | U49: 0 | V49: =T49+U49 -> 1 | W49: 0 | X49: 0 | Y49: 0 | Z49: 0 | AA49: =Y49+Z49 -> 0 | AB49: 15 | AC49: 6 | AD49: 4 | AE49: 0 | AF49: =AD49+AE49 -> 4 | AG49: 15 | AH49: 1 | AI49: 0 | AJ49: 0 | AK49: =AI49+AJ49 -> 0 | AL49: 40 | AM49: 8 | AN49: 0 | AO49: 0 | AP49: =SUM(AN49:AO49) -> 0 | AQ49: 10 | AR49: 2 | AS49: 1 | AT49: 0 | AU49: =AS49+AT49 -> 1 | AV49: 0 | AW49: 0 | AX49: 0 | AY49: 0 | AZ49: =AX49+AY49 -> 0 | BA49: 0 | BE49: =SUM(BC49:BD49) -> 0 | BF49: 0 | BG49: 52 | BH49: 44 | BI49: 7 | BJ49: =BH49+BI49 -> 51 | BK49: 0 | BL49: 0 | BM49: 0 | BN49: 0 | BO49: =BM49+BN49 -> 0 | BP49: 0 | BQ49: 0 | BR49: 0 | BS49: 0 | BT49: =BR49+BS49 -> 0 | BU49: =C49+M49+AB49+AG49+AL49+AQ49+AV49+BA49+BF49+BP49+H49+BK49+R49 -> 90 | BV49: =D49+N49+AC49+AH49+AM49+AR49+AW49+BB49+BG49+BQ49+I49+BL49+S49+X49 -> 78 | BW49: =E49+O49+AD49+AI49+AN49+AS49+AX49+BC49+BH49+BR49+J49+BM49+T49 -> 53 | BX49: =F49+P49+AE49+AJ49+AO49+AT49+AY49+BD49+BI49+BS49+K49+BN49+U49 -> 7 | BY49: =G49+Q49+AF49+AK49+AP49+AU49+AZ49+BE49+BJ49+BT49+L49+BO49+V49 -> 60 | BZ49: 2 | CA49: =IF(BZ49=1,BW49,"0") -> 0 | CB49: =IF(BZ49=1,BX49,"0") -> 0 | CC49: =CA49+CB49 -> 0 | CD49: =IF(BZ49=2,BW49,"0") -> 53 | CE49: =IF(BZ49=2,BX49,"0") -> 7 | CF49: =CD49+CE49 -> 60 | CG49: =IF(CC49=2,BZ49,"0") -> 0 | CH49: =IF(CC49=2,CA49,"0") -> 0 | CI49: =CG49+CH49 -> 0
B50: รวมในหลักสูตร | C50: =SUM(C49) -> 5 | D50: =SUM(D49) -> 5 | E50: =SUM(E49) -> 2 | F50: =SUM(F49) -> 0 | G50: =SUM(G49) -> 2 | H50: =SUM(H49) -> 0 | I50: =SUM(I49) -> 2 | J50: =SUM(J49) -> 1 | ... BT50: =SUM(BT49) -> 0 | BU50: =C50+M50+AB50+AG50+AL50+AQ50+AV50+BA50+BF50+BP50+H50+BK50+R50 -> 90 | BV50: =D50+N50+AC50+AH50+AM50+AR50+AW50+BB50+BG50+BQ50+I50+BL50+S50+X50 -> 78 | BW50: =E50+O50+AD50+AI50+AN50+AS50+AX50+BC50+BH50+BR50+J50+BM50+T50 -> 53 | BX50: =F50+P50+AE50+AJ50+AO50+AT50+AY50+BD50+BI50+BS50+K50+BN50+U50 -> 7 | BY50: =G50+Q50+AF50+AK50+AP50+AU50+AZ50+BE50+BJ50+BT50+L50+BO50+V50 -> 60 | BZ50: =SUM(BZ49) -> 2 | CA50: =SUM(CA49) -> 0 | CB50: =SUM(CB49) -> 0 | CC50: =SUM(CC49) -> 0 | CD50: =SUM(CD49) -> 53 | CE50: =SUM(CE49) -> 7 | CF50: =SUM(CF49) -> 60 | CG50: =SUM(CG49) -> 0 | ... CI50: =SUM(CI49) -> 0
B51: ระดับปริญญาตรี - หลักสูตรวิศวกรรมศาสตรบัณฑิต (วุฒิ ปวช./ม.6)
B52: วิศวกรรมเมคคาทรอนิกส์ | C52: 15 | D52: 8 | E52: 3 | F52: 2 | G52: =SUM(E52:F52) -> 5 | H52: 0 | I52: 7 | J52: 2 | K52: 3 | L52: =SUM(J52:K52) -> 5 | M52: 5 | N52: 2 | O52: 1 | P52: 0 | Q52: =O52+P52 -> 1 | R52: 0 | S52: 4 | T52: 2 | U52: 1 | V52: =T52+U52 -> 3 | W52: 0 | X52: 0 | Y52: 0 | Z52: 0 | AA52: =Y52+Z52 -> 0 | AB52: 5 | AC52: 12 | AD52: 6 | AE52: 0 | AF52: =AD52+AE52 -> 6 | AG52: 5 | AH52: 2 | AI52: 0 | AJ52: 1 | AK52: =AI52+AJ52 -> 1 | AL52: 0 | AM52: 0 | AN52: 0 | AO52: 0 | AP52: =AN52+AO52 -> 0 | AQ52: 0 | AR52: 0 | AS52: 0 | AT52: 0 | AU52: =AS52+AT52 -> 0 | AV52: 0 | AW52: 0 | AX52: 0 | AY52: 0 | AZ52: =AX52+AY52 -> 0 | BA52: 0 | BE52: =SUM(BC52:BD52) -> 0 | BF52: 0 | BG52: 11 | BH52: 7 | BI52: 3 | BJ52: =BH52+BI52 -> 10 | BK52: 0 | BL52: 0 | BM52: 0 | BN52: 0 | BO52: =BM52+BN52 -> 0 | BP52: 0 | BQ52: 1 | BR52: 1 | BS52: 0 | BT52: =BR52+BS52 -> 1 | BU52: =C52+M52+AB52+AG52+AL52+AQ52+AV52+BA52+BF52+BP52+H52+BK52+R52 -> 30 | BV52: =D52+N52+AC52+AH52+AM52+AR52+AW52+BB52+BG52+BQ52+I52+BL52+S52+X52 -> 47 | BW52: =E52+O52+AD52+AI52+AN52+AS52+AX52+BC52+BH52+BR52+J52+BM52+T52 -> 22 | BX52: =F52+P52+AE52+AJ52+AO52+AT52+AY52+BD52+BI52+BS52+K52+BN52+U52 -> 10 | BY52: =G52+Q52+AF52+AK52+AP52+AU52+AZ52+BE52+BJ52+BT52+L52+BO52+V52 -> 32 | BZ52: 2 | CA52: =IF(BZ52=1,BW52,"0") -> 0 | CB52: =IF(BZ52=1,BX52,"0") -> 0 | CC52: =CA52+CB52 -> 0 | CD52: =IF(BZ52=2,BW52,"0") -> 22 | CE52: =IF(BZ52=2,BX52,"0") -> 10 | CF52: =CD52+CE52 -> 32 | CG52: =IF(CC52=2,BZ52,"0") -> 0 | CH52: =IF(CC52=2,CA52,"0") -> 0 | CI52: =CG52+CH52 -> 0
B53: รวมในหลักสูตร | C53: =SUM(C52) -> 15 | D53: =SUM(D52) -> 8 | E53: =SUM(E52) -> 3 | F53: =SUM(F52) -> 2 | G53: =SUM(G52) -> 5 | H53: =SUM(H52) -> 0 | I53: =SUM(I52) -> 7 | J53: =SUM(J52) -> 2 | ... BT53: =SUM(BT52) -> 1 | BU53: =C53+M53+AB53+AG53+AL53+AQ53+AV53+BA53+BF53+BP53+H53+BK53+R53 -> 30 | BV53: =D53+N53+AC53+AH53+AM53+AR53+AW53+BB53+BG53+BQ53+I53+BL53+S53+X53 -> 47 | BW53: =E53+O53+AD53+AI53+AN53+AS53+AX53+BC53+BH53+BR53+J53+BM53+T53 -> 22 | BX53: =F53+P53+AE53+AJ53+AO53+AT53+AY53+BD53+BI53+BS53+K53+BN53+U53 -> 10 | BY53: =G53+Q53+AF53+AK53+AP53+AU53+AZ53+BE53+BJ53+BT53+L53+BO53+V53 -> 32 | BZ53: =SUM(BZ52) -> 2 | CA53: =SUM(CA52) -> 0 | CB53: =SUM(CB52) -> 0 | CC53: =SUM(CC52) -> 0 | CD53: =SUM(CD52) -> 22 | CE53: =SUM(CE52) -> 10 | CF53: =SUM(CF52) -> 32 | CG53: =SUM(CG52) -> 0 | ... CI53: =SUM(CI52) -> 0
B54: ระดับปริญญาตรี - หลักสูตรอุตสาหกรรมศาสตรบัณฑิต (วุฒิ ปวช./ม.6)
B55: เทคโนโลยีบริหารงานก่อสร้าง | C55: 5 | D55: 4 | E55: 1 | F55: 0 | G55: =E55+F55 -> 1 | H55: 0 | I55: 3 | J55: 1 | K55: 2 | L55: =SUM(J55:K55) -> 3 | M55: 5 | N55: 0 | O55: 0 | P55: 0 | Q55: =O55+P55 -> 0 | R55: 0 | S55: 11 | T55: 4 | U55: 2 | V55: =T55+U55 -> 6 | W55: 0 | X55: 0 | Y55: 0 | Z55: 0 | AA55: =Y55+Z55 -> 0 | AB55: 5 | AC55: 9 | AD55: 3 | AE55: 1 | AF55: =AD55+AE55 -> 4 | AG55: 5 | AH55: 0 | AI55: 0 | AJ55: 0 | AK55: =AI55+AJ55 -> 0 | AL55: 5 | AM55: 10 | AN55: 3 | AO55: 1 | AP55: =AN55+AO55 -> 4 | AQ55: 5 | AR55: 3 | AS55: 1 | AT55: 0 | AU55: =AS55+AT55 -> 1 | AV55: 0 | AW55: 0 | AX55: 0 | AY55: 0 | AZ55: =AX55+AY55 -> 0 | BA55: 0 | BE55: =SUM(BC55:BD55) -> 0 | BF55: 0 | BG55: 23 | BH55: 19 | BI55: 4 | BJ55: =BH55+BI55 -> 23 | BK55: 0 | BL55: 0 | BM55: 0 | BN55: 0 | BO55: =BM55+BN55 -> 0 | BP55: 0 | BQ55: 0 | BR55: 0 | BS55: 0 | BT55: =BR55+BS55 -> 0 | BU55: =C55+M55+AB55+AG55+AL55+AQ55+AV55+BA55+BF55+BP55+H55+BK55+R55 -> 30 | BV55: =D55+N55+AC55+AH55+AM55+AR55+AW55+BB55+BG55+BQ55+I55+BL55+S55+X55 -> 63 | BW55: =E55+O55+AD55+AI55+AN55+AS55+AX55+BC55+BH55+BR55+J55+BM55+T55 -> 32 | BX55: =F55+P55+AE55+AJ55+AO55+AT55+AY55+BD55+BI55+BS55+K55+BN55+U55 -> 10 | BY55: =G55+Q55+AF55+AK55+AP55+AU55+AZ55+BE55+BJ55+BT55+L55+BO55+V55 -> 42 | BZ55: 2 | CA55: =IF(BZ55=1,BW55,"0") -> 0 | CB55: =IF(BZ55=1,BX55,"0") -> 0 | CC55: =CA55+CB55 -> 0 | CD55: =IF(BZ55=2,BW55,"0") -> 32 | CE55: =IF(BZ55=2,BX55,"0") -> 10 | CF55: =CD55+CE55 -> 42 | CG55: =IF(CC55=2,BZ55,"0") -> 0 | CH55: =IF(CC55=2,CA55,"0") -> 0 | CI55: =CG55+CH55 -> 0
B56: รวมในหลักสูตร | C56: =SUM(C55) -> 5 | D56: =SUM(D55) -> 4 | E56: =SUM(E55) -> 1 | F56: =SUM(F55) -> 0 | G56: =SUM(G55) -> 1 | H56: =SUM(H55) -> 0 | I56: =SUM(I55) -> 3 | J56: =SUM(J55) -> 1 | ... BT56: =SUM(BT55) -> 0 | BU56: =C56+M56+AB56+AG56+AL56+AQ56+AV56+BA56+BF56+BP56+H56+BK56+R56 -> 30 | BV56: =D56+N56+AC56+AH56+AM56+AR56+AW56+BB56+BG56+BQ56+I56+BL56+S56+X56 -> 63 | BW56: =E56+O56+AD56+AI56+AN56+AS56+AX56+BC56+BH56+BR56+J56+BM56+T56 -> 32 | BX56: =F56+P56+AE56+AJ56+AO56+AT56+AY56+BD56+BI56+BS56+K56+BN56+U56 -> 10 | BY56: =G56+Q56+AF56+AK56+AP56+AU56+AZ56+BE56+BJ56+BT56+L56+BO56+V56 -> 42 | BZ56: =SUM(BZ55) -> 2 | CA56: =SUM(CA55) -> 0 | CB56: =SUM(CB55) -> 0 | CC56: =SUM(CC55) -> 0 | CD56: =SUM(CD55) -> 32 | CE56: =SUM(CE55) -> 10 | CF56: =SUM(CF55) -> 42 | CG56: =SUM(CG55) -> 0 | ... CI56: =SUM(CI55) -> 0
B57: ระดับปริญญาตรี - หลักสูตรอุตสาหกรรมศาสตรบัณฑิต (วุฒิ ปวส. ต่อเนื่อง)
B58: เทคโนโลยีการผลิต | C58: 30 | D58: =11+12 -> 23 | E58: 14 | F58: 3 | G58: =E58+F58 -> 17 | H58: 0 | I58: 3 | J58: 2 | K58: 1 | L58: =SUM(J58:K58) -> 3 | M58: 30 | N58: 12 | O58: 4 | P58: 1 | Q58: =O58+P58 -> 5 | R58: 0 | S58: 0 | T58: 0 | U58: 0 | V58: =T58+U58 -> 0 | W58: 0 | X58: 0 | Y58: 0 | Z58: 0 | AA58: =Y58+Z58 -> 0 | AB58: 0 | AC58: 0 | AD58: 0 | AE58: 0 | AF58: =AD58+AE58 -> 0 | AG58: 0 | AH58: 0 | AI58: 0 | AJ58: 0 | AK58: =AI58+AJ58 -> 0 | AL58: 0 | AM58: 0 | AN58: 0 | AO58: 0 | AP58: =AN58+AO58 -> 0 | AQ58: 0 | AR58: 0 | AS58: 0 | AT58: 0 | AU58: =AS58+AT58 -> 0 | AV58: 0 | AW58: 0 | AX58: 0 | AY58: 0 | AZ58: =AX58+AY58 -> 0 | BA58: 0 | BE58: =BC58+BD58 -> 0 | BF58: 0 | BG58: 16 | BH58: 14 | BI58: 2 | BJ58: =BH58+BI58 -> 16 | BK58: 0 | BL58: 0 | BM58: 0 | BN58: 0 | BO58: =BM58+BN58 -> 0 | BP58: 0 | BQ58: 0 | BR58: 0 | BS58: 0 | BT58: =BR58+BS58 -> 0 | BU58: =C58+M58+AB58+AG58+AL58+AQ58+AV58+BA58+BF58+BP58+H58+BK58+R58 -> 60 | BV58: =D58+N58+AC58+AH58+AM58+AR58+AW58+BB58+BG58+BQ58+I58+BL58+S58 -> 54 | BW58: =E58+O58+AD58+AI58+AN58+AS58+AX58+BC58+BH58+BR58+J58+BM58+T58 -> 34 | BX58: =F58+P58+AE58+AJ58+AO58+AT58+AY58+BD58+BI58+BS58+K58+BN58+U58 -> 7 | BY58: =G58+Q58+AF58+AK58+AP58+AU58+AZ58+BE58+BJ58+BT58+L58+BO58+V58 -> 41 | BZ58: 2 | CA58: =IF(BZ58=1,BW58,"0") -> 0 | CB58: =IF(BZ58=1,BX58,"0") -> 0 | CC58: =CA58+CB58 -> 0 | CD58: =IF(BZ58=2,BW58,"0") -> 34 | CE58: =IF(BZ58=2,BX58,"0") -> 7 | CF58: =CD58+CE58 -> 41 | CG58: =IF(CC58=2,BZ58,"0") -> 0 | CH58: =IF(CC58=2,CA58,"0") -> 0 | CI58: =CG58+CH58 -> 0
B59: อิเล็กทรอนิกส์อัจฉริยะ | C59: 30 | D59: 18 | E59: 10 | F59: 2 | G59: =E59+F59 -> 12 | H59: 0 | I59: 5 | J59: 4 | K59: 0 | L59: =SUM(J59:K59) -> 4 | M59: 30 | N59: 4 | O59: 1 | P59: 1 | Q59: =O59+P59 -> 2 | R59: 0 | S59: 1 | T59: 1 | U59: 0 | V59: =T59+U59 -> 1 | W59: 0 | X59: 0 | Y59: 0 | Z59: 0 | AA59: =Y59+Z59 -> 0 | AB59: 0 | AC59: 0 | AD59: 0 | AE59: 0 | AF59: =AD59+AE59 -> 0 | AG59: 0 | AH59: 0 | AI59: 0 | AJ59: 0 | AK59: =AI59+AJ59 -> 0 | AL59: 0 | AM59: 0 | AN59: 0 | AO59: 0 | AP59: =AN59+AO59 -> 0 | AQ59: 0 | AR59: 0 | AS59: 0 | AT59: 0 | AU59: =AS59+AT59 -> 0 | AV59: 0 | AW59: 0 | AX59: 0 | AY59: 0 | AZ59: =AX59+AY59 -> 0 | BA59: 0 | BB59: 0 | BC59: 0 | BD59: 0 | BE59: =BC59+BD59 -> 0 | BF59: 0 | BG59: 11 | BH59: 11 | BI59: 0 | BJ59: =BH59+BI59 -> 11 | BK59: 0 | BL59: 0 | BM59: 0 | BN59: 0 | BO59: =BM59+BN59 -> 0 | BP59: 0 | BQ59: 0 | BR59: 0 | BS59: 0 | BT59: =BR59+BS59 -> 0 | BU59: =C59+M59+AB59+AG59+AL59+AQ59+AV59+BA59+BF59+BP59+H59+BK59+R59 -> 60 | BV59: =D59+N59+AC59+AH59+AM59+AR59+AW59+BB59+BG59+BQ59+I59+BL59+S59 -> 39 | BW59: =E59+O59+AD59+AI59+AN59+AS59+AX59+BC59+BH59+BR59+J59+BM59+T59 -> 27 | BX59: =F59+P59+AE59+AJ59+AO59+AT59+AY59+BD59+BI59+BS59+K59+BN59+U59 -> 3 | BY59: =G59+Q59+AF59+AK59+AP59+AU59+AZ59+BE59+BJ59+BT59+L59+BO59+V59 -> 30 | BZ59: 2 | CA59: =IF(BZ59=1,BW59,"0") -> 0 | CB59: =IF(BZ59=1,BX59,"0") -> 0 | CC59: =CA59+CB59 -> 0 | CD59: =IF(BZ59=2,BW59,"0") -> 27 | CE59: =IF(BZ59=2,BX59,"0") -> 3 | CF59: =CD59+CE59 -> 30 | CG59: =IF(CC59=2,BZ59,"0") -> 0 | CH59: =IF(CC59=2,CA59,"0") -> 0 | CI59: =CG59+CH59 -> 0
B60: รวมในหลักสูตร | C60: =SUM(C58:C59) -> 60 | D60: =SUM(D58:D59) -> 41 | E60: =SUM(E58:E59) -> 24 | F60: =SUM(F58:F59) -> 5 | G60: =SUM(G58:G59) -> 29 | H60: =SUM(H58:H59) -> 0 | I60: =SUM(I58:I59) -> 8 | J60: =SUM(J58:J59) -> 6 | ... BT60: =SUM(BT58:BT59) -> 0 | BU60: =C60+M60+AB60+AG60+AL60+AQ60+AV60+BA60+BF60+BP60+H60+BK60+R60 -> 120 | BV60: =D60+N60+AC60+AH60+AM60+AR60+AW60+BB60+BG60+BQ60+I60+BL60+S60 -> 93 | BW60: =E60+O60+AD60+AI60+AN60+AS60+AX60+BC60+BH60+BR60+J60+BM60+T60 -> 61 | BX60: =F60+P60+AE60+AJ60+AO60+AT60+AY60+BD60+BI60+BS60+K60+BN60+U60 -> 10 | BY60: =G60+Q60+AF60+AK60+AP60+AU60+AZ60+BE60+BJ60+BT60+L60+BO60+V60 -> 71 | BZ60: =SUM(BZ59) -> 2 | CA60: =SUM(CA59) -> 0 | CB60: =SUM(CB59) -> 0 | CC60: =SUM(CC59) -> 0 | CD60: =SUM(CD58:CD59) -> 61 | CE60: =SUM(CE58:CE59) -> 10 | CF60: =SUM(CF58:CF59) -> 71 | CG60: =SUM(CG58:CG59) -> 0 | CH60: =SUM(CH58:CH59) -> 0 | CI60: =SUM(CI58:CI59) -> 0
B61: ระดับปริญญาตรี - หลักสูตรวิศวกรรมศาสตรบัณฑิต (วุฒิ ปวส. เทียบโอน)
B62: วิศวกรรมเมคคาทรอนิกส์ | C62: 50 | D62: =31+36 -> 67 | E62: =12+14 -> 26 | F62: 10 | G62: =E62+F62 -> 36 | H62: 0 | I62: 11 | J62: 7 | K62: 4 | L62: =SUM(J62:K62) -> 11 | M62: 10 | N62: 14 | O62: 4 | P62: 0 | Q62: =O62+P62 -> 4 | R62: 0 | S62: 0 | T62: 0 | U62: 0 | V62: =T62+U62 -> 0 | W62: 0 | X62: 0 | Y62: 0 | Z62: 0 | AA62: =Y62+Z62 -> 0 | AB62: 0 | AC62: 0 | AD62: 0 | AE62: 0 | AF62: =AD62+AE62 -> 0 | AG62: 0 | AH62: 0 | AI62: 0 | AJ62: 0 | AK62: =AI62+AJ62 -> 0 | AL62: 0 | AM62: 0 | AN62: 0 | AO62: 0 | AP62: =AN62+AO62 -> 0 | AQ62: 0 | AR62: 0 | AS62: 0 | AT62: 0 | AU62: =AS62+AT62 -> 0 | AV62: 0 | AW62: 0 | AX62: 0 | AY62: 0 | AZ62: =AX62+AY62 -> 0 | BA62: 0 | BE62: =BC62+BD62 -> 0 | BF62: 0 | BG62: 15 | BH62: 13 | BI62: 2 | BJ62: =BH62+BI62 -> 15 | BK62: 0 | BL62: 0 | BM62: 0 | BN62: 0 | BO62: =BM62+BN62 -> 0 | BP62: 0 | BQ62: 0 | BR62: 0 | BS62: 0 | BT62: =BR62+BS62 -> 0 | BU62: =C62+M62+AB62+AG62+AL62+AQ62+AV62+BA62+BF62+BP62+H62+BK62+R62 -> 60 | BV62: =D62+N62+AC62+AH62+AM62+AR62+AW62+BB62+BG62+BQ62+I62+BL62+S62+X62 -> 107 | BW62: =E62+O62+AD62+AI62+AN62+AS62+AX62+BC62+BH62+BR62+J62+BM62+T62 -> 50 | BX62: =F62+P62+AE62+AJ62+AO62+AT62+AY62+BD62+BI62+BS62+K62+BN62+U62 -> 16 | BY62: =G62+Q62+AF62+AK62+AP62+AU62+AZ62+BE62+BJ62+BT62+L62+BO62+V62 -> 66 | BZ62: 2 | CA62: =IF(BZ62=1,BW62,"0") -> 0 | CB62: =IF(BZ62=1,BX62,"0") -> 0 | CC62: =CA62+CB62 -> 0 | CD62: =IF(BZ62=2,BW62,"0") -> 50 | CE62: =IF(BZ62=2,BX62,"0") -> 16 | CF62: =CD62+CE62 -> 66 | CG62: =IF(CC62=2,BZ62,"0") -> 0 | CH62: =IF(CC62=2,CA62,"0") -> 0 | CI62: =CG62+CH62 -> 0
B63: รวมในหลักสูตร | C63: =SUM(C62) -> 50 | D63: =SUM(D62) -> 67 | E63: =SUM(E62) -> 26 | F63: =SUM(F62) -> 10 | G63: =SUM(G62) -> 36 | H63: =SUM(H62) -> 0 | I63: =SUM(I62) -> 11 | J63: =SUM(J62) -> 7 | ... BK63: =SUM(BK62) -> 0 | BL63: 0 | BM63: =SUM(BM62) -> 0 | BN63: =SUM(BN62) -> 0 | BO63: =SUM(BO62) -> 0 | BP63: =SUM(BP62) -> 0 | BQ63: =SUM(BQ62) -> 0 | BR63: =SUM(BR62) -> 0 | BS63: =SUM(BS62) -> 0 | BT63: =SUM(BT62) -> 0 | BU63: =C63+M63+AB63+AG63+AL63+AQ63+AV63+BA63+BF63+BP63+H63+BK63+R63 -> 60 | BV63: =D63+N63+AC63+AH63+AM63+AR63+AW63+BB63+BG63+BQ63+I63+BL63+S63+X63 -> 107 | BW63: =E63+O63+AD63+AI63+AN63+AS63+AX63+BC63+BH63+BR63+J63+BM63+T63 -> 50 | BX63: =F63+P63+AE63+AJ63+AO63+AT63+AY63+BD63+BI63+BS63+K63+BN63+U63 -> 16 | BY63: =G63+Q63+AF63+AK63+AP63+AU63+AZ63+BE63+BJ63+BT63+L63+BO63+V63 -> 66 | CA63: =SUM(CA62) -> 0 | CB63: =SUM(CB62) -> 0 | CC63: =SUM(CC62) -> 0 | CD63: =SUM(CD62) -> 50 | CE63: =SUM(CE62) -> 16 | CF63: =SUM(CF62) -> 66 | CG63: =SUM(CG62) -> 0 | CH63: =SUM(CH62) -> 0 | CI63: =SUM(CI62) -> 0
B64: รวมภาคปกติ | C64: =C43+C60+C53+C47+C63+C50+C56 -> 245 | D64: =D43+D60+D53+D47+D63+D50+D56 -> 194 | E64: =E43+E60+E53+E47+E63+E50+E56 -> 75 | F64: =F43+F60+F53+F47+F63+F50+F56 -> 23 | G64: =G43+G60+G53+G47+G63+G50+G56 -> 98 | H64: =H43+H60+H53+H47+H63+H50+H56 -> 0 | I64: =I43+I60+I53+I47+I63+I50+I56 -> 73 | J64: =J43+J60+J53+J47+J63+J50+J56 -> 45 | ... BT64: =BT43+BT60+BT53+BT47+BT63+BT50+BT56 -> 2 | BU64: =C64+M64+AB64+AG64+AL64+AQ64+AV64+BA64+BF64+BP64+H64+BK64+R64 -> 750 | BV64: =D64+N64+AC64+AH64+AM64+AR64+AW64+BB64+BG64+BQ64+I64+BL64+S64+X64 -> 1057 | BW64: =E64+O64+AD64+AI64+AN64+AS64+AX64+BC64+BH64+BR64+J64+BM64+T64 -> 415 | BX64: =F64+P64+AE64+AJ64+AO64+AT64+AY64+BD64+BI64+BS64+K64+BN64+U64 -> 164 | BY64: =G64+Q64+AF64+AK64+AP64+AU64+AZ64+BE64+BJ64+BT64+L64+BO64+V64 -> 579 | CA64: =CA43+CA60+CA53+CA47+CA63+CA50 -> 0 | CB64: =CB43+CB60+CB53+CB47+CB63+CB50 -> 0 | CC64: =CC43+CC60+CC53+CC47+CC63+CC50 -> 0 | CD64: =CD43+CD60+CD53+CD47+CD63+CD50+CD56 -> 415 | CE64: =CE43+CE60+CE53+CE47+CE63+CE50+CE56 -> 164 | CF64: =CF43+CF60+CF53+CF47+CF63+CF50+CF56 -> 579 | CG64: =CG43+CG60+CG53+CG47+CG63+CG50 -> 0 | CH64: =CH43+CH60+CH53+CH47+CH63+CH50 -> 0 | CI64: =CI43+CI60+CI53+CI47+CI63+CI50 -> 0
B65: ภาคพิเศษ
B66: ระดับปริญญาตรี - หลักสูตรอุตสาหกรรมศาสตรบัณฑิต (วุฒิ ปวส. ต่อเนื่อง)
B67: เทคโนโลยีการผลิต | C67: 15 | D67: 2 | E67: 1 | F67: 0 | G67: =E67+F67 -> 1 | H67: 0 | I67: 0 | J67: 0 | K67: 0 | L67: =SUM(J67:K67) -> 0 | M67: 15 | N67: 1 | O67: 0 | P67: 0 | Q67: =O67+P67 -> 0 | R67: 0 | S67: 10 | T67: 5 | U67: 0 | V67: =T67+U67 -> 5 | W67: 0 | X67: 0 | Y67: 0 | Z67: 0 | AA67: =Y67+Z67 -> 0 | AB67: 0 | AC67: 0 | AD67: 0 | AE67: 0 | AF67: =AD67+AE67 -> 0 | AG67: 0 | AH67: 0 | AI67: 0 | AJ67: 0 | AK67: =AI67+AJ67 -> 0 | AL67: 0 | AM67: 0 | AN67: 0 | AO67: 0 | AP67: =AN67+AO67 -> 0 | AQ67: 0 | AR67: 0 | AS67: 0 | AT67: 0 | AU67: =AS67+AT67 -> 0 | AV67: 0 | AW67: 0 | AX67: 0 | AY67: 0 | AZ67: =AX67+AY67 -> 0 | BA67: 0 | BE67: =BC67+BD67 -> 0 | BF67: 0 | BG67: 2 | BH67: 1 | BI67: 0 | BJ67: =BH67+BI67 -> 1 | BK67: 0 | BL67: 0 | BM67: 0 | BN67: 0 | BO67: =BM67+BN67 -> 0 | BP67: 0 | BQ67: 0 | BR67: 0 | BS67: 0 | BT67: =BR67+BS67 -> 0 | BU67: =C67+M67+AB67+AG67+AL67+AQ67+AV67+BA67+BF67+BP67+H67+BK67+R67 -> 30 | BV67: =D67+N67+AC67+AH67+AM67+AR67+AW67+BB67+BG67+BQ67+I67+BL67+S67+X67 -> 15 | BW67: =E67+O67+AD67+AI67+AN67+AS67+AX67+BC67+BH67+BR67+J67+BM67+T67 -> 7 | BX67: =F67+P67+AE67+AJ67+AO67+AT67+AY67+BD67+BI67+BS67+K67+BN67+U67 -> 0 | BY67: =G67+Q67+AF67+AK67+AP67+AU67+AZ67+BE67+BJ67+BT67+L67+BO67+V67 -> 7 | BZ67: 2 | CA67: =IF(BZ67=1,BW67,"0") -> 0 | CB67: =IF(BZ67=1,BX67,"0") -> 0 | CC67: =CA67+CB67 -> 0 | CD67: =IF(BZ67=2,BW67,"0") -> 7 | CE67: =IF(BZ67=2,BX67,"0") -> 0 | CF67: =CD67+CE67 -> 7 | CG67: =IF(CC67=2,BZ67,"0") -> 0 | CH67: =IF(CC67=2,CA67,"0") -> 0 | CI67: =CG67+CH67 -> 0
B68: รวมในหลักสูตร | C68: =SUM(C67) -> 15 | D68: =SUM(D67) -> 2 | E68: =SUM(E67) -> 1 | F68: =SUM(F67) -> 0 | G68: =SUM(G67) -> 1 | H68: =SUM(H67) -> 0 | I68: =SUM(I67) -> 0 | J68: =SUM(J67) -> 0 | ... BT68: =SUM(BT67) -> 0 | BU68: =C68+M68+AB68+AG68+AL68+AQ68+AV68+BA68+BF68+BP68+H68+BK68+R68 -> 30 | BV68: =D68+N68+AC68+AH68+AM68+AR68+AW68+BB68+BG68+BQ68+I68+BL68+S68+X68 -> 15 | BW68: =E68+O68+AD68+AI68+AN68+AS68+AX68+BC68+BH68+BR68+J68+BM68+T68 -> 7 | BX68: =F68+P68+AE68+AJ68+AO68+AT68+AY68+BD68+BI68+BS68+K68+BN68+U68 -> 0 | BY68: =G68+Q68+AF68+AK68+AP68+AU68+AZ68+BE68+BJ68+BT68+L68+BO68+V68 -> 7 | CA68: =SUM(CA67) -> 0 | CB68: =SUM(CB67) -> 0 | CC68: =SUM(CC67) -> 0 | CD68: =SUM(CD67) -> 7 | CE68: =SUM(CE67) -> 0 | CF68: =SUM(CF67) -> 7 | CG68: =SUM(CG67) -> 0 | CH68: =SUM(CH67) -> 0 | CI68: =SUM(CI67) -> 0
B69: ระดับปริญญาตรี - หลักสูตรวิศวกรรมศาสตรบัณฑิต (วุฒิ ปวส. เทียบโอน) | BV69: =D69+N69+AC69+AH69+AM69+AR69+AW69+BB69+BG69+BQ69+I69+BL69+S69+X69 -> 0
B70: วิศวกรรมเมคคาทรอนิกส์ | C70: 0 | D70: 0 | E70: 0 | F70: 0 | G70: =E70+F70 -> 0 | H70: 0 | I70: 0 | J70: 0 | K70: 0 | L70: =SUM(J70:K70) -> 0 | M70: 0 | N70: 0 | O70: 0 | P70: 0 | Q70: =O70+P70 -> 0 | R70: 0 | S70: 0 | T70: 0 | U70: 0 | V70: =T70+U70 -> 0 | W70: 0 | X70: 0 | Y70: 0 | Z70: 0 | AA70: =Y70+Z70 -> 0 | AB70: 0 | AC70: 0 | AD70: 0 | AE70: 0 | AF70: =AD70+AE70 -> 0 | AG70: 0 | AH70: 0 | AI70: 0 | AJ70: 0 | AK70: =AI70+AJ70 -> 0 | AL70: 0 | AM70: 0 | AN70: 0 | AO70: 0 | AP70: =AN70+AO70 -> 0 | AQ70: 0 | AR70: 0 | AS70: 0 | AT70: 0 | AU70: =AS70+AT70 -> 0 | AV70: 0 | AW70: 0 | AX70: 0 | AY70: 0 | AZ70: =AX70+AY70 -> 0 | BA70: 0 | BB70: 0 | BC70: 0 | BD70: 0 | BE70: =BC70+BD70 -> 0 | BF70: 0 | BG70: 0 | BH70: 0 | BI70: 0 | BJ70: =BH70+BI70 -> 0 | BK70: 0 | BL70: 0 | BM70: 0 | BN70: 0 | BO70: =BM70+BN70 -> 0 | BP70: 0 | BQ70: 0 | BR70: 0 | BS70: 0 | BT70: =BR70+BS70 -> 0 | BU70: =C70+M70+AB70+AG70+AL70+AQ70+AV70+BA70+BF70+BP70+H70+BK70+R70 -> 0 | BV70: =D70+N70+AC70+AH70+AM70+AR70+AW70+BB70+BG70+BQ70+I70+BL70+S70+X70 -> 0 | BW70: =E70+O70+AD70+AI70+AN70+AS70+AX70+BC70+BH70+BR70+J70+BM70+T70 -> 0 | BX70: =F70+P70+AE70+AJ70+AO70+AT70+AY70+BD70+BI70+BS70+K70+BN70+U70 -> 0 | BY70: =G70+Q70+AF70+AK70+AP70+AU70+AZ70+BE70+BJ70+BT70+L70+BO70+V70 -> 0 | BZ70: 2 | CA70: =IF(BZ70=1,BW70,"0") -> 0 | CB70: =IF(BZ70=1,BX70,"0") -> 0 | CC70: =CA70+CB70 -> 0 | CD70: =IF(BZ70=2,BW70,"0") -> 0 | CE70: =IF(BZ70=2,BX70,"0") -> 0 | CF70: =CD70+CE70 -> 0 | CG70: =IF(CC70=2,BZ70,"0") -> 0 | CH70: =IF(CC70=2,CA70,"0") -> 0 | CI70: =CG70+CH70 -> 0
B71: รวมในหลักสูตร | C71: =SUM(C70) -> 0 | D71: =SUM(D70) -> 0 | E71: =SUM(E70) -> 0 | F71: =SUM(F70) -> 0 | G71: =SUM(G70) -> 0 | H71: =SUM(H70) -> 0 | I71: =SUM(I70) -> 0 | J71: =SUM(J70) -> 0 | ... BT71: =SUM(BT70) -> 0 | BU71: =C71+M71+AB71+AG71+AL71+AQ71+AV71+BA71+BF71+BP71+H71+BK71+R71 -> 0 | BV71: =D71+N71+AC71+AH71+AM71+AR71+AW71+BB71+BG71+BQ71+I71+BL71+S71+X71 -> 0 | BW71: =E71+O71+AD71+AI71+AN71+AS71+AX71+BC71+BH71+BR71+J71+BM71+T71 -> 0 | BX71: =F71+P71+AE71+AJ71+AO71+AT71+AY71+BD71+BI71+BS71+K71+BN71+U71 -> 0 | BY71: =G71+Q71+AF71+AK71+AP71+AU71+AZ71+BE71+BJ71+BT71+L71+BO71+V71 -> 0 | CA71: =SUM(CA70) -> 0 | CB71: =SUM(CB70) -> 0 | CC71: =SUM(CC70) -> 0 | CD71: =SUM(CD70) -> 0 | CE71: =SUM(CE70) -> 0 | CF71: =SUM(CF70) -> 0 | CG71: =SUM(CG70) -> 0 | CH71: =SUM(CH70) -> 0 | CI71: =SUM(CI70) -> 0
B72: รวมภาคพิเศษ | C72: =C71+C68 -> 15 | D72: =D71+D68 -> 2 | E72: =E71+E68 -> 1 | F72: =F71+F68 -> 0 | G72: =G71+G68 -> 1 | H72: =H71+H68 -> 0 | I72: =I71+I68 -> 0 | J72: =J71+J68 -> 0 | ... BT72: =BT71+BT68 -> 0 | BU72: =C72+M72+AB72+AG72+AL72+AQ72+AV72+BA72+BF72+BP72+H72+BK72+R72 -> 30 | BV72: =D72+N72+AC72+AH72+AM72+AR72+AW72+BB72+BG72+BQ72+I72+BL72+S72+X72 -> 15 | BW72: =E72+O72+AD72+AI72+AN72+AS72+AX72+BC72+BH72+BR72+J72+BM72+T72 -> 7 | BX72: =F72+P72+AE72+AJ72+AO72+AT72+AY72+BD72+BI72+BS72+K72+BN72+U72 -> 0 | BY72: =G72+Q72+AF72+AK72+AP72+AU72+AZ72+BE72+BJ72+BT72+L72+BO72+V72 -> 7 | BZ72: =BZ71+BZ68 -> 0 | CA72: =CA71+CA68 -> 0 | CB72: =CB71+CB68 -> 0 | CC72: =CC71+CC68 -> 0 | CD72: =CD71+CD68 -> 7 | CE72: =CE71+CE68 -> 0 | CF72: =CF71+CF68 -> 7 | CG72: =CG71+CG68 -> 0 | ... CI72: =CI71+CI68 -> 0
B73: รวมทั้งคณะ | C73: =C64+C72 -> 260 | D73: =D64+D72 -> 196 | E73: =E64+E72 -> 76 | F73: =F64+F72 -> 23 | G73: =G64+G72 -> 99 | H73: =H64+H72 -> 0 | I73: =I64+I72 -> 73 | J73: =J64+J72 -> 45 | ... BT73: =BT64+BT72 -> 2 | BU73: =C73+M73+AB73+AG73+AL73+AQ73+AV73+BA73+BF73+BP73+H73+BK73+R73 -> 780 | BV73: =D73+N73+AC73+AH73+AM73+AR73+AW73+BB73+BG73+BQ73+I73+BL73+S73+X73 -> 1072 | BW73: =E73+O73+AD73+AI73+AN73+AS73+AX73+BC73+BH73+BR73+J73+BM73+T73 -> 422 | BX73: =F73+P73+AE73+AJ73+AO73+AT73+AY73+BD73+BI73+BS73+K73+BN73+U73 -> 164 | BY73: =G73+Q73+AF73+AK73+AP73+AU73+AZ73+BE73+BJ73+BT73+L73+BO73+V73 -> 586 | BZ73: =BZ64+BZ72 -> 0 | CA73: =CA64+CA72 -> 0 | CB73: =CB64+CB72 -> 0 | CC73: =CC64+CC72 -> 0 | CD73: =CD64+CD72 -> 422 | CE73: =CE64+CE72 -> 164 | CF73: =CF64+CF72 -> 586 | CG73: =CG64+CG72 -> 0 | ... CI73: =CI64+CI72 -> 0
A74: คณะเทคโนโลยีการเกษตร
B75: ภาคปกติ
B76: ระดับปริญญาตรี - หลักสูตรวิทยาศาสตรบัณฑิต (วุฒิ ปวช./ม.6)
B77: การผลิตพืช | C77: 2 | D77: 1 | E77: 0 | F77: 0 | G77: =E77+F77 -> 0 | H77: 0 | I77: 5 | J77: 3 | K77: 2 | L77: =SUM(J77:K77) -> 5 | M77: 2 | N77: 0 | O77: 0 | P77: 0 | Q77: =O77+P77 -> 0 | R77: 0 | S77: 1 | T77: 0 | U77: 0 | V77: =T77+U77 -> 0 | W77: 0 | X77: 0 | Y77: 0 | Z77: 0 | AA77: =Y77+Z77 -> 0 | AB77: 30 | AC77: 15 | AD77: 4 | AE77: 3 | AF77: =AD77+AE77 -> 7 | AG77: 15 | AH77: 10 | AI77: 2 | AJ77: 2 | AK77: =AI77+AJ77 -> 4 | AL77: 10 | AM77: 29 | AN77: 5 | AO77: 2 | AP77: =AN77+AO77 -> 7 | AQ77: 1 | AR77: 2 | AS77: 2 | AT77: 0 | AU77: =AS77+AT77 -> 2 | AV77: 0 | AW77: 0 | AX77: 0 | AY77: 0 | AZ77: =AX77+AY77 -> 0 | BA77: 0 | BE77: =BC77+BD77 -> 0 | BF77: 0 | BG77: 14 | BH77: 6 | BI77: 8 | BJ77: =BH77+BI77 -> 14 | BK77: 0 | BL77: 0 | BM77: 0 | BN77: 0 | BO77: =BM77+BN77 -> 0 | BP77: 0 | BQ77: 0 | BR77: 0 | BS77: 0 | BT77: =BR77+BS77 -> 0 | BU77: =C77+M77+AB77+AG77+AL77+AQ77+AV77+BA77+BF77+BP77+H77+BK77+R77 -> 60 | BV77: =D77+N77+AC77+AH77+AM77+AR77+AW77+BB77+BG77+BQ77+I77+BL77+S77+X77 -> 77 | BW77: =E77+O77+AD77+AI77+AN77+AS77+AX77+BC77+BH77+BR77+J77+BM77+T77 -> 22 | BX77: =F77+P77+AE77+AJ77+AO77+AT77+AY77+BD77+BI77+BS77+K77+BN77+U77 -> 17 | BY77: =G77+Q77+AF77+AK77+AP77+AU77+AZ77+BE77+BJ77+BT77+L77+BO77+V77 -> 39 | BZ77: 2 | CA77: =IF(BZ77=1,BW77,"0") -> 0 | CB77: =IF(BZ77=1,BX77,"0") -> 0 | CC77: =CA77+CB77 -> 0 | CD77: =IF(BZ77=2,BW77,"0") -> 22 | CE77: =IF(BZ77=2,BX77,"0") -> 17 | CF77: =CD77+CE77 -> 39 | CG77: =IF(CC77=2,BZ77,"0") -> 0 | CH77: =IF(CC77=2,CA77,"0") -> 0 | CI77: =CG77+CH77 -> 0
B78: เทคโนโลยีภูมิทัศน์ | C78: 2 | D78: 8 | E78: 6 | F78: 1 | G78: =E78+F78 -> 7 | H78: 0 | I78: 2 | J78: 1 | K78: 1 | L78: =SUM(J78:K78) -> 2 | M78: 2 | N78: 0 | O78: 0 | P78: 0 | Q78: =O78+P78 -> 0 | R78: 0 | S78: 0 | T78: 0 | U78: 0 | V78: =T78+U78 -> 0 | W78: 0 | X78: 0 | Y78: 0 | Z78: 0 | AA78: =Y78+Z78 -> 0 | AB78: 15 | AC78: 10 | AD78: 5 | AE78: 0 | AF78: =AD78+AE78 -> 5 | AG78: 5 | AH78: 7 | AI78: 1 | AJ78: 1 | AK78: =AI78+AJ78 -> 2 | AL78: 5 | AM78: 36 | AN78: 4 | AO78: 4 | AP78: =AN78+AO78 -> 8 | AQ78: 1 | AR78: 1 | AS78: 0 | AT78: 0 | AU78: =AS78+AT78 -> 0 | AV78: 0 | AW78: 0 | AX78: 0 | AY78: 0 | AZ78: =AX78+AY78 -> 0 | BA78: 0 | BE78: =BC78+BD78 -> 0 | BF78: 0 | BG78: 20 | BH78: 10 | BI78: 8 | BJ78: =BH78+BI78 -> 18 | BK78: 0 | BL78: 0 | BM78: 0 | BN78: 0 | BO78: =BM78+BN78 -> 0 | BP78: 0 | BQ78: 0 | BR78: 0 | BS78: 0 | BT78: =BR78+BS78 -> 0 | BU78: =C78+M78+AB78+AG78+AL78+AQ78+AV78+BA78+BF78+BP78+H78+BK78+R78 -> 30 | BV78: =D78+N78+AC78+AH78+AM78+AR78+AW78+BB78+BG78+BQ78+I78+BL78+S78+X78 -> 84 | BW78: =E78+O78+AD78+AI78+AN78+AS78+AX78+BC78+BH78+BR78+J78+BM78+T78 -> 27 | BX78: =F78+P78+AE78+AJ78+AO78+AT78+AY78+BD78+BI78+BS78+K78+BN78+U78 -> 15 | BY78: =G78+Q78+AF78+AK78+AP78+AU78+AZ78+BE78+BJ78+BT78+L78+BO78+V78 -> 42 | BZ78: 2 | CA78: =IF(BZ78=1,BW78,"0") -> 0 | CB78: =IF(BZ78=1,BX78,"0") -> 0 | CC78: =CA78+CB78 -> 0 | CD78: =IF(BZ78=2,BW78,"0") -> 27 | CE78: =IF(BZ78=2,BX78,"0") -> 15 | CF78: =CD78+CE78 -> 42 | CG78: =IF(CC78=2,BZ78,"0") -> 0 | CH78: =IF(CC78=2,CA78,"0") -> 0 | CI78: =CG78+CH78 -> 0
B79: ประมง | C79: 2 | D79: 0 | E79: 0 | F79: 0 | G79: =E79+F79 -> 0 | H79: 0 | I79: 5 | J79: 4 | K79: 1 | L79: =SUM(J79:K79) -> 5 | M79: 2 | N79: 1 | O79: 1 | P79: 0 | Q79: =O79+P79 -> 1 | R79: 0 | S79: 0 | T79: 0 | U79: 0 | V79: =T79+U79 -> 0 | W79: 0 | X79: 0 | Y79: 0 | Z79: 0 | AA79: =Y79+Z79 -> 0 | AB79: 15 | AC79: 16 | AD79: 6 | AE79: 2 | AF79: =AD79+AE79 -> 8 | AG79: 5 | AH79: 12 | AI79: 6 | AJ79: 1 | AK79: =AI79+AJ79 -> 7 | AL79: 5 | AM79: 51 | AN79: 7 | AO79: 8 | AP79: =AN79+AO79 -> 15 | AQ79: 1 | AR79: 4 | AS79: 1 | AT79: 1 | AU79: =AS79+AT79 -> 2 | AV79: 0 | AW79: 0 | AX79: 0 | AY79: 0 | AZ79: =AX79+AY79 -> 0 | BA79: 0 | BE79: =BC79+BD79 -> 0 | BF79: 0 | BG79: 8 | BH79: 5 | BI79: 1 | BJ79: =BH79+BI79 -> 6 | BK79: 0 | BL79: 1 | BM79: 0 | BN79: 0 | BO79: =BM79+BN79 -> 0 | BP79: 0 | BQ79: 0 | BR79: 0 | BS79: 0 | BT79: =BR79+BS79 -> 0 | BU79: =C79+M79+AB79+AG79+AL79+AQ79+AV79+BA79+BF79+BP79+H79+BK79+R79 -> 30 | BV79: =D79+N79+AC79+AH79+AM79+AR79+AW79+BB79+BG79+BQ79+I79+BL79+S79+X79 -> 98 | BW79: =E79+O79+AD79+AI79+AN79+AS79+AX79+BC79+BH79+BR79+J79+BM79+T79 -> 30 | BX79: =F79+P79+AE79+AJ79+AO79+AT79+AY79+BD79+BI79+BS79+K79+BN79+U79 -> 14 | BY79: =G79+Q79+AF79+AK79+AP79+AU79+AZ79+BE79+BJ79+BT79+L79+BO79+V79 -> 44 | BZ79: 2 | CA79: =IF(BZ79=1,BW79,"0") -> 0 | CB79: =IF(BZ79=1,BX79,"0") -> 0 | CC79: =CA79+CB79 -> 0 | CD79: =IF(BZ79=2,BW79,"0") -> 30 | CE79: =IF(BZ79=2,BX79,"0") -> 14 | CF79: =CD79+CE79 -> 44 | CG79: =IF(CC79=2,BZ79,"0") -> 0 | CH79: =IF(CC79=2,CA79,"0") -> 0 | CI79: =CG79+CH79 -> 0
B80: เทคโนโลยีอาหาร | C80: 2 | D80: 1 | E80: 0 | F80: 1 | G80: =E80+F80 -> 1 | H80: 0 | I80: 3 | J80: 1 | K80: 2 | L80: =SUM(J80:K80) -> 3 | M80: 2 | N80: 0 | O80: 0 | P80: 0 | Q80: =O80+P80 -> 0 | R80: 0 | S80: 5 | T80: 1 | U80: 4 | V80: =T80+U80 -> 5 | W80: 0 | X80: 0 | Y80: 0 | Z80: 0 | AA80: =Y80+Z80 -> 0 | AB80: 30 | AC80: 17 | AD80: 2 | AE80: 6 | AF80: =AD80+AE80 -> 8 | AG80: 15 | AH80: 11 | AI80: 4 | AJ80: 1 | AK80: =AI80+AJ80 -> 5 | AL80: 10 | AM80: 42 | AN80: 3 | AO80: 4 | AP80: =AN80+AO80 -> 7 | AQ80: 1 | AR80: 5 | AS80: 1 | AT80: 3 | AU80: =AS80+AT80 -> 4 | AV80: 0 | AW80: 0 | AX80: 0 | AY80: 0 | AZ80: =AX80+AY80 -> 0 | BA80: 0 | BE80: =BC80+BD80 -> 0 | BF80: 0 | BG80: 14 | BH80: 1 | BI80: 12 | BJ80: =BH80+BI80 -> 13 | BK80: 0 | BL80: 1 | BM80: 0 | BN80: 0 | BO80: =BM80+BN80 -> 0 | BP80: 0 | BQ80: 0 | BR80: 1 | BS80: 0 | BT80: =BR80+BS80 -> 1 | BU80: =C80+M80+AB80+AG80+AL80+AQ80+AV80+BA80+BF80+BP80+H80+BK80+R80 -> 60 | BV80: =D80+N80+AC80+AH80+AM80+AR80+AW80+BB80+BG80+BQ80+I80+BL80+S80+X80 -> 99 | BW80: =E80+O80+AD80+AI80+AN80+AS80+AX80+BC80+BH80+BR80+J80+BM80+T80 -> 14 | BX80: =F80+P80+AE80+AJ80+AO80+AT80+AY80+BD80+BI80+BS80+K80+BN80+U80 -> 33 | BY80: =G80+Q80+AF80+AK80+AP80+AU80+AZ80+BE80+BJ80+BT80+L80+BO80+V80 -> 47 | BZ80: 2 | CA80: =IF(BZ80=1,BW80,"0") -> 0 | CB80: =IF(BZ80=1,BX80,"0") -> 0 | CC80: =CA80+CB80 -> 0 | CD80: =IF(BZ80=2,BW80,"0") -> 14 | CE80: =IF(BZ80=2,BX80,"0") -> 33 | CF80: =CD80+CE80 -> 47 | CG80: =IF(CC80=2,BZ80,"0") -> 0 | CH80: =IF(CC80=2,CA80,"0") -> 0 | CI80: =CG80+CH80 -> 0
B81: การพยาบาลสัตว์ | C81: 2 | D81: 2 | E81: 0 | F81: 0 | G81: =E81+F81 -> 0 | H81: 0 | I81: 6 | J81: 1 | K81: 5 | L81: =SUM(J81:K81) -> 6 | M81: 0 | N81: 0 | O81: 0 | P81: 0 | Q81: =O81+P81 -> 0 | R81: 0 | S81: 0 | T81: 0 | U81: 0 | V81: =T81+U81 -> 0 | X81: 0 | Y81: 0 | Z81: 0 | AA81: =Y81+Z81 -> 0 | AB81: 15 | AC81: 21 | AD81: 0 | AE81: 3 | AF81: =AD81+AE81 -> 3 | AG81: 5 | AH81: 14 | AI81: 0 | AJ81: 4 | AK81: =AI81+AJ81 -> 4 | AL81: 7 | AM81: 227 | AN81: 0 | AO81: 13 | AP81: =AN81+AO81 -> 13 | AQ81: 1 | AR81: 0 | AS81: 0 | AT81: 0 | AU81: =AS81+AT81 -> 0 | AV81: 0 | AW81: 0 | AX81: 0 | AY81: 0 | AZ81: =SUM(AX81:AY81) -> 0 | BA81: 0 | BE81: =BC81+BD81 -> 0 | BF81: 0 | BG81: 14 | BH81: 4 | BI81: 10 | BJ81: =BH81+BI81 -> 14 | BK81: 0 | BL81: 0 | BM81: 0 | BN81: 0 | BO81: =BM81+BN81 -> 0 | BP81: 0 | BQ81: 0 | BR81: 0 | BS81: 0 | BT81: =BR81+BS81 -> 0 | BU81: =C81+M81+AB81+AG81+AL81+AQ81+AV81+BA81+BF81+BP81+H81+BK81+R81 -> 30 | BV81: =D81+N81+AC81+AH81+AM81+AR81+AW81+BB81+BG81+BQ81+I81+BL81+S81+X81 -> 284 | BW81: =E81+O81+AD81+AI81+AN81+AS81+AX81+BC81+BH81+BR81+J81+BM81+T81 -> 5 | BX81: =F81+P81+AE81+AJ81+AO81+AT81+AY81+BD81+BI81+BS81+K81+BN81+U81 -> 35 | BY81: =G81+Q81+AF81+AK81+AP81+AU81+AZ81+BE81+BJ81+BT81+L81+BO81+V81 -> 40
B82: สัตวศาสตร์ | C82: 2 | D82: 1 | E82: 0 | F82: 0 | G82: =E82+F82 -> 0 | H82: 0 | I82: 5 | J82: 3 | K82: 2 | L82: =SUM(J82:K82) -> 5 | M82: 2 | N82: 2 | O82: 1 | P82: 1 | Q82: =O82+P82 -> 2 | R82: 0 | S82: 2 | T82: 0 | U82: 0 | V82: =T82+U82 -> 0 | W82: 0 | X82: 0 | Y82: 0 | Z82: 0 | AA82: =Y82+Z82 -> 0 | AB82: 30 | AC82: 34 | AD82: 4 | AE82: 9 | AF82: =AD82+AE82 -> 13 | AG82: 15 | AH82: 11 | AI82: 0 | AJ82: 3 | AK82: =AI82+AJ82 -> 3 | AL82: 10 | AM82: 102 | AN82: 4 | AO82: 23 | AP82: =AN82+AO82 -> 27 | AQ82: 1 | AR82: 5 | AS82: 1 | AT82: 2 | AU82: =AS82+AT82 -> 3 | AV82: 0 | AW82: 0 | AX82: 0 | AY82: 0 | AZ82: =AX82+AY82 -> 0 | BA82: 0 | BE82: =BC82+BD82 -> 0 | BF82: 0 | BG82: 16 | BH82: 7 | BI82: 9 | BJ82: =BH82+BI82 -> 16 | BK82: 0 | BL82: 0 | BM82: 0 | BN82: 0 | BO82: =BM82+BN82 -> 0 | BP82: 0 | BQ82: 0 | BR82: 0 | BS82: 0 | BT82: =BR82+BS82 -> 0 | BU82: =C82+M82+AB82+AG82+AL82+AQ82+AV82+BA82+BF82+BP82+H82+BK82+R82 -> 60 | BV82: =D82+N82+AC82+AH82+AM82+AR82+AW82+BB82+BG82+BQ82+I82+BL82+S82+X82 -> 178 | BW82: =E82+O82+AD82+AI82+AN82+AS82+AX82+BC82+BH82+BR82+J82+BM82+T82 -> 20 | BX82: =F82+P82+AE82+AJ82+AO82+AT82+AY82+BD82+BI82+BS82+K82+BN82+U82 -> 49 | BY82: =G82+Q82+AF82+AK82+AP82+AU82+AZ82+BE82+BJ82+BT82+L82+BO82+V82 -> 69 | BZ82: 2 | CA82: =IF(BZ82=1,BW82,"0") -> 0 | CB82: =IF(BZ82=1,BX82,"0") -> 0 | CC82: =CA82+CB82 -> 0 | CD82: =IF(BZ82=2,BW82,"0") -> 20 | CE82: =IF(BZ82=2,BX82,"0") -> 49 | CF82: =CD82+CE82 -> 69 | CG82: =IF(CC82=2,BZ82,"0") -> 0 | CH82: =IF(CC82=2,CA82,"0") -> 0 | CI82: =CG82+CH82 -> 0
B83: รวมในหลักสูตร | C83: =SUM(C77:C82) -> 12 | D83: =SUM(D77:D82) -> 13 | E83: =SUM(E77:E82) -> 6 | F83: =SUM(F77:F82) -> 2 | G83: =SUM(G77:G82) -> 8 | H83: =SUM(H77:H82) -> 0 | I83: =SUM(I77:I82) -> 26 | J83: =SUM(J77:J82) -> 13 | ... V83: =SUM(V77:V82) -> 5 | W83: 0 | X83: =SUM(X77:X82) -> 0 | Y83: =SUM(Y77:Y82) -> 0 | Z83: =SUM(Z77:Z82) -> 0 | AA83: =SUM(AA77:AA82) -> 0 | AB83: =SUM(AB77:AB82) -> 135 | AC83: =SUM(AC77:AC82) -> 113 | AD83: =SUM(AD77:AD82) -> 21 | AE83: =SUM(AE77:AE82) -> 23 | ... AU83: =SUM(AU77:AU82) -> 11 | AV83: 0 | AW83: =SUM(AW77:AW82) -> 0 | AX83: =SUM(AX77:AX82) -> 0 | AY83: =SUM(AY77:AY82) -> 0 | AZ83: =SUM(AZ77:AZ82) -> 0 | BA83: =SUM(BA77:BA82) -> 0 | BB83: =SUM(BB77:BB82) -> 0 | BC83: =SUM(BC77:BC82) -> 0 | BD83: =SUM(BD77:BD82) -> 0 | ... BT83: =SUM(BT77:BT82) -> 1 | BU83: =C83+M83+AB83+AG83+AL83+AQ83+AV83+BA83+BF83+BP83+H83+BK83+R83 -> 270 | BV83: =D83+N83+AC83+AH83+AM83+AR83+AW83+BB83+BG83+BQ83+I83+BL83+S83+X83 -> 820 | BW83: =E83+O83+AD83+AI83+AN83+AS83+AX83+BC83+BH83+BR83+J83+BM83+T83 -> 118 | BX83: =F83+P83+AE83+AJ83+AO83+AT83+AY83+BD83+BI83+BS83+K83+BN83+U83 -> 163 | BY83: =G83+Q83+AF83+AK83+AP83+AU83+AZ83+BE83+BJ83+BT83+L83+BO83+V83 -> 281 | CA83: =SUM(CA77:CA82) -> 0 | CB83: =SUM(CB77:CB82) -> 0 | CC83: =SUM(CC77:CC82) -> 0 | CD83: =SUM(CD77:CD82) -> 113 | CE83: =SUM(CE77:CE82) -> 128 | CF83: =SUM(CF77:CF82) -> 241 | CG83: =SUM(CG77:CG82) -> 0 | CH83: =SUM(CH77:CH82) -> 0 | CI83: =SUM(CI77:CI82) -> 0
B84: ระดับปริญญาตรี - หลักสูตรวิทยาศาสตรบัณฑิต (ต่อเนื่อง)
B85: เทคโนโลยีอาหาร | C85: 20 | D85: 1 | E85: 0 | F85: 0 | G85: =SUM(E85:F85) -> 0 | H85: 0 | I85: 0 | J85: 0 | K85: 0 | L85: =SUM(J85:K85) -> 0 | M85: 10 | N85: 1 | O85: 0 | P85: 0 | Q85: =SUM(O85:P85) -> 0 | R85: 0 | S85: 0 | T85: 0 | U85: 0 | V85: =SUM(T85:U85) -> 0 | X85: 0 | Y85: 0 | Z85: 0 | AA85: =SUM(Y85:Z85) -> 0 | AB85: 0 | AC85: 0 | AD85: 0 | AE85: 0 | AF85: =AD85+AE85 -> 0 | AG85: 0 | AH85: 0 | AI85: 0 | AJ85: 0 | AK85: =AI85+AJ85 -> 0 | AL85: 0 | AM85: 0 | AN85: 0 | AO85: 0 | AP85: =SUM(AM85:AO85) -> 0 | AQ85: 0 | AR85: 0 | AS85: 0 | AT85: 0 | AU85: =SUM(AR85:AT85) -> 0 | AV85: 0 | AW85: 0 | AX85: 0 | AY85: 0 | AZ85: =SUM(AX85:AY85) -> 0 | BA85: 0 | BB85: 0 | BC85: 0 | BD85: 0 | BE85: =SUM(BC85:BD85) -> 0 | BF85: 0 | BG85: 2 | BH85: 0 | BI85: 2 | BJ85: =SUM(BH85:BI85) -> 2 | BK85: 0 | BL85: 0 | BM85: 0 | BN85: 0 | BO85: =SUM(BM85:BN85) -> 0 | BP85: 0 | BQ85: 0 | BR85: 0 | BS85: 0 | BT85: =SUM(BQ85:BS85) -> 0 | BU85: =C85+M85+AB85+AG85+AL85+AQ85+AV85+BA85+BF85+BP85+H85+BK85+R85 -> 30 | BV85: =D85+N85+AC85+AH85+AM85+AR85+AW85+BB85+BG85+BQ85+I85+BL85+S85+X85 -> 4 | BW85: =E85+O85+AD85+AI85+AN85+AS85+AX85+BC85+BH85+BR85+J85+BM85+T85 -> 0 | BX85: =F85+P85+AE85+AJ85+AO85+AT85+AY85+BD85+BI85+BS85+K85+BN85+U85 -> 2 | BY85: =G85+Q85+AF85+AK85+AP85+AU85+AZ85+BE85+BJ85+BT85+L85+BO85+V85 -> 2
B86: รวมในหลักสูตร | C86: =SUM(C85) -> 20 | D86: =SUM(D85) -> 1 | E86: =SUM(E85) -> 0 | F86: =SUM(F85) -> 0 | G86: =SUM(G85) -> 0 | H86: =SUM(H85) -> 0 | I86: =SUM(I85) -> 0 | J86: =SUM(J85) -> 0 | ... BU86: =SUM(BU85) -> 30 | BV86: =D86+N86+AC86+AH86+AM86+AR86+AW86+BB86+BG86+BQ86+I86+BL86+S86+X86 -> 4 | BW86: =E86+O86+AD86+AI86+AN86+AS86+AX86+BC86+BH86+BR86+J86+BM86+T86 -> 0 | BX86: =F86+P86+AE86+AJ86+AO86+AT86+AY86+BD86+BI86+BS86+K86+BN86+U86 -> 2 | BY86: =G86+Q86+AF86+AK86+AP86+AU86+AZ86+BE86+BJ86+BT86+L86+BO86+V86 -> 2
B87: รวมภาคปกติ | C87: =C83+C86 -> 32 | D87: =D83+D86 -> 14 | E87: =E83+E86 -> 6 | F87: =F83+F86 -> 2 | G87: =G83+G86 -> 8 | H87: =H83+H86 -> 0 | I87: =I83+I86 -> 26 | J87: =J83+J86 -> 13 | ... BU87: =BU83+BU86 -> 300 | BV87: =D87+N87+AC87+AH87+AM87+AR87+AW87+BB87+BG87+BQ87+I87+BL87+S87+X87 -> 824 | BW87: =BW83+BW86 -> 118 | BX87: =BX83+BX86 -> 165 | BY87: =BY83+BY86 -> 283 | CA87: =CA83 -> 0 | CB87: =CB83 -> 0 | CC87: =CC83 -> 0 | CD87: =CD83 -> 113 | CE87: =CE83 -> 128 | CF87: =CF83 -> 241 | CG87: =CG83 -> 0 | CH87: =CH83 -> 0 | CI87: =CI83 -> 0
B88: รวมทั้งคณะ | C88: =C87 -> 32 | D88: =D87 -> 14 | E88: =E87 -> 6 | F88: =F87 -> 2 | G88: =G87 -> 8 | H88: =H87 -> 0 | I88: =I87 -> 26 | J88: =J87 -> 13 | ... BT88: =BT87 -> 1 | BU88: =C88+M88+AB88+AG88+AL88+AQ88+AV88+BA88+BF88+BP88+H88+BK88+R88 -> 300 | BV88: =D88+N88+AC88+AH88+AM88+AR88+AW88+BB88+BG88+BQ88+I88+BL88+S88+X88 -> 824 | BW88: =E88+O88+AD88+AI88+AN88+AS88+AX88+BC88+BH88+BR88+J88+BM88+T88 -> 118 | BX88: =F88+P88+AE88+AJ88+AO88+AT88+AY88+BD88+BI88+BS88+K88+BN88+U88 -> 165 | BY88: =G88+Q88+AF88+AK88+AP88+AU88+AZ88+BE88+BJ88+BT88+L88+BO88+V88 -> 283 | CA88: =CA87 -> 0 | CB88: =CB87 -> 0 | CC88: =CC87 -> 0 | CD88: =CD87 -> 113 | CE88: =CE87 -> 128 | CF88: =CF87 -> 241 | CG88: =CG87 -> 0 | CH88: =CH87 -> 0 | CI88: =CI87 -> 0
A89: คณะวิศวกรรมศาสตร์
B90: ภาคปกติ
B91: ระดับปริญญาตรี - หลักสูตรวิศวกรรมศาสตรบัณฑิต (วุฒิ ปวช./ม.6)
B92: วิศวกรรม | C92: 0 | D92: 0 | E92: 0 | F92: 0 | G92: =E92+F92 -> 0 | H92: 0 | I92: 45 | J92: 28 | K92: 17 | L92: =SUM(J92:K92) -> 45 | M92: 0 | N92: 0 | O92: 0 | P92: 0 | Q92: =O92+P92 -> 0 | R92: 0 | S92: 0 | T92: 0 | U92: 0 | V92: =T92+U92 -> 0 | W92: 0 | X92: 0 | Y92: 0 | Z92: 0 | AA92: =Y92+Z92 -> 0 | AB92: 265 | AC92: 378 | AD92: 129 | AE92: 74 | AF92: =AD92+AE92 -> 203 | AG92: 135 | AH92: =217+51 -> 268 | AI92: =17+91 -> 108 | AJ92: =12+33 -> 45 | AK92: =AI92+AJ92 -> 153 | AL92: 65 | AM92: 143 | AN92: 28 | AO92: 12 | AP92: =AN92+AO92 -> 40 | AQ92: 0 | AR92: 95 | AS92: 31 | AT92: 22 | AU92: =AS92+AT92 -> 53 | AV92: 0 | AW92: 0 | AX92: 0 | AY92: 0 | AZ92: =AX92+AY92 -> 0 | BA92: 0 | BE92: =BC92+BD92 -> 0 | BF92: 0 | BG92: 11 | BH92: 7 | BI92: 3 | BJ92: =BH92+BI92 -> 10 | BK92: 0 | BL92: 0 | BM92: 0 | BN92: 0 | BO92: =BM92+BN92 -> 0 | BP92: 0 | BQ92: 0 | BR92: 8 | BS92: 2 | BT92: =BR92+BS92 -> 10 | BU92: =C92+M92+AB92+AG92+AL92+AQ92+AV92+BA92+BF92+BP92+H92+BK92+R92 -> 465 | BV92: =D92+N92+AC92+AH92+AM92+AR92+AW92+BB92+BG92+BQ92+I92+BL92+S92+X92 -> 940 | BW92: =E92+O92+AD92+AI92+AN92+AS92+AX92+BC92+BH92+BR92+J92+BM92+T92 -> 339 | BX92: =F92+P92+AE92+AJ92+AO92+AT92+AY92+BD92+BI92+BS92+K92+BN92+U92 -> 175 | BY92: =G92+Q92+AF92+AK92+AP92+AU92+AZ92+BE92+BJ92+BT92+L92+BO92+V92 -> 514 | BZ92: 2 | CA92: =IF(BZ92=1,BW92,"0") -> 0 | CB92: =IF(BZ92=1,BX92,"0") -> 0 | CC92: =CA92+CB92 -> 0 | CD92: =IF(BZ92=2,BW92,"0") -> 339 | CE92: =IF(BZ92=2,BX92,"0") -> 175 | CF92: =CD92+CE92 -> 514 | CG92: =IF(CC92=2,BZ92,"0") -> 0 | CH92: =IF(CC92=2,CA92,"0") -> 0 | CI92: =CG92+CH92 -> 0
B93: วิศวกรรมคอมพิวเตอร์ | C93: 10 | D93: 19 | E93: 5 | F93: 0 | G93: =E93+F93 -> 5 | H93: 0 | I93: 0 | J93: 0 | K93: 0 | L93: =SUM(J93:K93) -> 0 | M93: 10 | N93: 21 | O93: 5 | P93: 4 | Q93: =O93+P93 -> 9 | R93: 0 | S93: 0 | T93: 0 | U93: 0 | V93: =T93+U93 -> 0 | W93: 0 | X93: 0 | Y93: 0 | Z93: 0 | AA93: =Y93+Z93 -> 0 | AB93: 0 | AC93: 0 | AD93: 0 | AE93: 0 | AF93: =AD93+AE93 -> 0 | AG93: 0 | AH93: 0 | AI93: 0 | AJ93: 0 | AK93: =AI93+AJ93 -> 0 | AL93: 0 | AM93: 0 | AN93: 0 | AO93: 0 | AP93: =AN93+AO93 -> 0 | AQ93: 0 | AR93: 0 | AS93: 0 | AT93: 0 | AU93: =AS93+AT93 -> 0 | AV93: 0 | AW93: 0 | AX93: 0 | AY93: 0 | AZ93: =AX93+AY93 -> 0 | BA93: 0 | BB93: 0 | BC93: 0 | BD93: 0 | BE93: =BC93+BD93 -> 0 | BF93: 0 | BG93: 0 | BH93: 0 | BI93: 0 | BJ93: =BH93+BI93 -> 0 | BK93: 0 | BL93: 0 | BM93: 0 | BN93: 0 | BO93: =BM93+BN93 -> 0 | BP93: 0 | BQ93: 0 | BR93: 0 | BS93: 0 | BT93: =BR93+BS93 -> 0 | BU93: =C93+M93+AB93+AG93+AL93+AQ93+AV93+BA93+BF93+BP93+H93+BK93+R93 -> 20 | BV93: =D93+N93+AC93+AH93+AM93+AR93+AW93+BB93+BG93+BQ93+I93+BL93+S93+X93 -> 40 | BW93: =E93+O93+AD93+AI93+AN93+AS93+AX93+BC93+BH93+BR93+J93+BM93+T93 -> 10 | BX93: =F93+P93+AE93+AJ93+AO93+AT93+AY93+BD93+BI93+BS93+K93+BN93+U93 -> 4 | BY93: =G93+Q93+AF93+AK93+AP93+AU93+AZ93+BE93+BJ93+BT93+L93+BO93+V93 -> 14 | BZ93: 2 | CA93: =IF(BZ93=1,BW93,"0") -> 0 | CB93: =IF(BZ93=1,BX93,"0") -> 0 | CC93: =CA93+CB93 -> 0 | CD93: =IF(BZ93=2,BW93,"0") -> 10 | CE93: =IF(BZ93=2,BX93,"0") -> 4 | CF93: =CD93+CE93 -> 14 | CG93: =IF(CC93=2,BZ93,"0") -> 0 | CH93: =IF(CC93=2,CA93,"0") -> 0 | CI93: =CG93+CH93 -> 0
B94: วิศวกรรมเคมี | C94: 0 | D94: 0 | E94: 0 | F94: 0 | G94: =E94+F94 -> 0 | H94: 0 | I94: 0 | J94: 0 | K94: 0 | L94: =SUM(J94:K94) -> 0 | M94: 0 | N94: 0 | O94: 0 | P94: 0 | Q94: =O94+P94 -> 0 | R94: 0 | S94: 0 | T94: 0 | U94: 0 | V94: =T94+U94 -> 0 | W94: 0 | X94: 0 | Y94: 0 | Z94: 0 | AA94: =Y94+Z94 -> 0 | AB94: 0 | AC94: 0 | AD94: 0 | AE94: 0 | AF94: =AD94+AE94 -> 0 | AG94: 0 | AH94: 0 | AI94: 0 | AJ94: 0 | AK94: =AI94+AJ94 -> 0 | AL94: 0 | AM94: 0 | AN94: 0 | AO94: 0 | AP94: =AN94+AO94 -> 0 | AQ94: 0 | AR94: 0 | AS94: 0 | AT94: 0 | AU94: =AS94+AT94 -> 0 | AV94: 0 | AW94: 0 | AX94: 0 | AY94: 0 | AZ94: =AX94+AY94 -> 0 | BA94: 0 | BB94: 0 | BC94: 0 | BD94: 0 | BE94: =BC94+BD94 -> 0 | BF94: 0 | BG94: 4 | BH94: 0 | BI94: 4 | BJ94: =BH94+BI94 -> 4 | BK94: 0 | BL94: 0 | BM94: 0 | BN94: 0 | BO94: =BM94+BN94 -> 0 | BP94: 0 | BQ94: 0 | BR94: 0 | BS94: 0 | BT94: =BR94+BS94 -> 0 | BU94: =C94+M94+AB94+AG94+AL94+AQ94+AV94+BA94+BF94+BP94+H94+BK94+R94 -> 0 | BV94: =D94+N94+AC94+AH94+AM94+AR94+AW94+BB94+BG94+BQ94+I94+BL94+S94+X94 -> 4 | BW94: =E94+O94+AD94+AI94+AN94+AS94+AX94+BC94+BH94+BR94+J94+BM94+T94 -> 0 | BX94: =F94+P94+AE94+AJ94+AO94+AT94+AY94+BD94+BI94+BS94+K94+BN94+U94 -> 4 | BY94: =G94+Q94+AF94+AK94+AP94+AU94+AZ94+BE94+BJ94+BT94+L94+BO94+V94 -> 4 | BZ94: 2 | CA94: =IF(BZ94=1,BW94,"0") -> 0 | CB94: =IF(BZ94=1,BX94,"0") -> 0 | CC94: =CA94+CB94 -> 0 | CD94: =IF(BZ94=2,BW94,"0") -> 0 | CE94: =IF(BZ94=2,BX94,"0") -> 4 | CF94: =CD94+CE94 -> 4 | CG94: =IF(CC94=2,BZ94,"0") -> 0 | CH94: =IF(CC94=2,CA94,"0") -> 0 | CI94: =CG94+CH94 -> 0
B95: วิศวกรรมเครื่องกล | C95: 0 | D95: 0 | E95: 0 | F95: 0 | G95: =E95+F95 -> 0 | H95: 0 | I95: 0 | J95: 0 | K95: 0 | L95: =SUM(J95:K95) -> 0 | M95: 10 | N95: 26 | O95: 11 | P95: 0 | Q95: =O95+P95 -> 11 | R95: 0 | S95: 0 | T95: 0 | U95: 0 | V95: =T95+U95 -> 0 | W95: 0 | X95: 0 | Y95: 0 | Z95: 0 | AA95: =Y95+Z95 -> 0 | AB95: 0 | AC95: 0 | AD95: 0 | AE95: 0 | AF95: =AD95+AE95 -> 0 | AG95: 0 | AH95: 0 | AI95: 0 | AJ95: 0 | AK95: =AI95+AJ95 -> 0 | AL95: 0 | AM95: 0 | AN95: 0 | AO95: 0 | AP95: =AN95+AO95 -> 0 | AQ95: 0 | AR95: 0 | AS95: 0 | AT95: 0 | AU95: =AS95+AT95 -> 0 | AV95: 0 | AW95: 0 | AX95: 0 | AY95: 0 | AZ95: =AX95+AY95 -> 0 | BA95: 0 | BB95: 0 | BC95: 0 | BD95: 0 | BE95: =BC95+BD95 -> 0 | BF95: 0 | BG95: 1 | BH95: 1 | BI95: 0 | BJ95: =BH95+BI95 -> 1 | BK95: 0 | BL95: 0 | BM95: 0 | BN95: 0 | BO95: =BM95+BN95 -> 0 | BP95: 0 | BQ95: 1 | BR95: 1 | BS95: 0 | BT95: =BR95+BS95 -> 1 | BU95: =C95+M95+AB95+AG95+AL95+AQ95+AV95+BA95+BF95+BP95+H95+BK95+R95 -> 10 | BV95: =D95+N95+AC95+AH95+AM95+AR95+AW95+BB95+BG95+BQ95+I95+BL95+S95+X95 -> 28 | BW95: =E95+O95+AD95+AI95+AN95+AS95+AX95+BC95+BH95+BR95+J95+BM95+T95 -> 13 | BX95: =F95+P95+AE95+AJ95+AO95+AT95+AY95+BD95+BI95+BS95+K95+BN95+U95 -> 0 | BY95: =G95+Q95+AF95+AK95+AP95+AU95+AZ95+BE95+BJ95+BT95+L95+BO95+V95 -> 13 | BZ95: 2 | CA95: =IF(BZ95=1,BW95,"0") -> 0 | CB95: =IF(BZ95=1,BX95,"0") -> 0 | CC95: =CA95+CB95 -> 0 | CD95: =IF(BZ95=2,BW95,"0") -> 13 | CE95: =IF(BZ95=2,BX95,"0") -> 0 | CF95: =CD95+CE95 -> 13 | CG95: =IF(CC95=2,BZ95,"0") -> 0 | CH95: =IF(CC95=2,CA95,"0") -> 0 | CI95: =CG95+CH95 -> 0
B96: วิศวกรรมเครื่องกล-เกษตรสมัยใหม่ | C96: 5 | D96: 4 | E96: 2 | F96: 0 | G96: =E96+F96 -> 2 | H96: 0 | I96: 0 | J96: 0 | K96: 0 | L96: =SUM(J96:K96) -> 0 | M96: 5 | N96: 1 | O96: 1 | P96: 0 | Q96: =O96+P96 -> 1 | R96: 0 | S96: 14 | T96: 8 | U96: 0 | V96: =T96+U96 -> 8 | W96: 0 | X96: 0 | Y96: 0 | Z96: 0 | AA96: =Y96+Z96 -> 0 | AB96: 0 | AC96: 0 | AD96: 0 | AE96: 0 | AF96: =AD96+AE96 -> 0 | AG96: 0 | AH96: 0 | AI96: 0 | AJ96: 0 | AK96: =AI96+AJ96 -> 0 | AL96: 0 | AM96: 0 | AN96: 0 | AO96: 0 | AP96: =AN96+AO96 -> 0 | AQ96: 0 | AR96: 0 | AS96: 0 | AT96: 0 | AU96: =AS96+AT96 -> 0 | AV96: 0 | AW96: 0 | AX96: 0 | AY96: 0 | AZ96: =AX96+AY96 -> 0 | BA96: 0 | BB96: 0 | BC96: 0 | BD96: 0 | BE96: =BC96+BD96 -> 0 | BF96: 0 | BG96: 0 | BH96: 0 | BI96: 0 | BJ96: =BH96+BI96 -> 0 | BK96: 0 | BL96: 0 | BM96: 0 | BN96: 0 | BO96: =BM96+BN96 -> 0 | BP96: 0 | BQ96: 0 | BR96: 0 | BS96: 0 | BT96: =BR96+BS96 -> 0 | BU96: =C96+M96+AB96+AG96+AL96+AQ96+AV96+BA96+BF96+BP96+H96+BK96+R96 -> 10 | BV96: =D96+N96+AC96+AH96+AM96+AR96+AW96+BB96+BG96+BQ96+I96+BL96+S96+X96 -> 19 | BW96: =E96+O96+AD96+AI96+AN96+AS96+AX96+BC96+BH96+BR96+J96+BM96+T96 -> 11 | BX96: =F96+P96+AE96+AJ96+AO96+AT96+AY96+BD96+BI96+BS96+K96+BN96+U96 -> 0 | BY96: =G96+Q96+AF96+AK96+AP96+AU96+AZ96+BE96+BJ96+BT96+L96+BO96+V96 -> 11 | BZ96: 2 | CA96: =IF(BZ96=1,BW96,"0") -> 0 | CB96: =IF(BZ96=1,BX96,"0") -> 0 | CC96: =CA96+CB96 -> 0 | CD96: =IF(BZ96=2,BW96,"0") -> 11 | CE96: =IF(BZ96=2,BX96,"0") -> 0 | CF96: =CD96+CE96 -> 11 | CG96: =IF(CC96=2,BZ96,"0") -> 0 | CH96: =IF(CC96=2,CA96,"0") -> 0 | CI96: =CG96+CH96 -> 0
B97: วิศวกรรมชลประทานและการจัดการน้ำ | C97: 5 | D97: 1 | E97: 0 | F97: 0 | G97: =E97+F97 -> 0 | H97: 0 | I97: 5 | J97: 3 | K97: 2 | L97: =SUM(J97:K97) -> 5 | M97: 0 | N97: 0 | O97: 0 | P97: 0 | Q97: =O97+P97 -> 0 | R97: 0 | S97: 6 | T97: 1 | U97: 1 | V97: =T97+U97 -> 2 | W97: 0 | X97: 0 | Y97: 0 | Z97: 0 | AA97: =Y97+Z97 -> 0 | AB97: 5 | AC97: 16 | AD97: 3 | AE97: 3 | AF97: =AD97+AE97 -> 6 | AG97: 5 | AH97: 15 | AI97: 4 | AJ97: 3 | AK97: =AI97+AJ97 -> 7 | AL97: 15 | AM97: 17 | AN97: 3 | AO97: 0 | AP97: =AN97+AO97 -> 3 | AQ97: 0 | AR97: 2 | AS97: 1 | AT97: 0 | AU97: =AS97+AT97 -> 1 | AV97: 0 | AW97: 0 | AX97: 0 | AY97: 0 | AZ97: =AX97+AY97 -> 0 | BA97: 0 | BB97: 0 | BC97: 0 | BD97: 0 | BE97: =BC97+BD97 -> 0 | BF97: 0 | BG97: 0 | BH97: 0 | BI97: 0 | BJ97: =BH97+BI97 -> 0 | BK97: 0 | BL97: 0 | BM97: 0 | BN97: 0 | BO97: =BM97+BN97 -> 0 | BP97: 0 | BQ97: 0 | BR97: 0 | BS97: 1 | BT97: =BR97+BS97 -> 1 | BU97: =C97+M97+AB97+AG97+AL97+AQ97+AV97+BA97+BF97+BP97+H97+BK97+R97 -> 30 | BV97: =D97+N97+AC97+AH97+AM97+AR97+AW97+BB97+BG97+BQ97+I97+BL97+S97+X97 -> 62 | BW97: =E97+O97+AD97+AI97+AN97+AS97+AX97+BC97+BH97+BR97+J97+BM97+T97 -> 15 | BX97: =F97+P97+AE97+AJ97+AO97+AT97+AY97+BD97+BI97+BS97+K97+BN97+U97 -> 10 | BY97: =G97+Q97+AF97+AK97+AP97+AU97+AZ97+BE97+BJ97+BT97+L97+BO97+V97 -> 25 | BZ97: 2 | CA97: =IF(BZ97=1,BW97,"0") -> 0 | CB97: =IF(BZ97=1,BX97,"0") -> 0 | CC97: =CA97+CB97 -> 0 | CD97: =IF(BZ97=2,BW97,"0") -> 15 | CE97: =IF(BZ97=2,BX97,"0") -> 10 | CF97: =CD97+CE97 -> 25 | CG97: =IF(CC97=2,BZ97,"0") -> 0 | CH97: =IF(CC97=2,CA97,"0") -> 0 | CI97: =CG97+CH97 -> 0
B98: วิศวกรรมไฟฟ้า | C98: 5 | D98: 46 | E98: 4 | F98: 0 | G98: =E98+F98 -> 4 | H98: 0 | I98: 0 | J98: 0 | K98: 0 | L98: =SUM(J98:K98) -> 0 | M98: 10 | N98: 79 | O98: 12 | P98: 0 | Q98: =O98+P98 -> 12 | R98: 0 | S98: 0 | T98: 0 | U98: 0 | V98: =T98+U98 -> 0 | W98: 0 | X98: 0 | Y98: 0 | Z98: 0 | AA98: =Y98+Z98 -> 0 | AB98: 0 | AC98: 0 | AD98: 0 | AE98: 0 | AF98: =AD98+AE98 -> 0 | AG98: 0 | AH98: 0 | AI98: 0 | AJ98: 0 | AK98: =AI98+AJ98 -> 0 | AL98: 0 | AM98: 0 | AN98: 0 | AO98: 0 | AP98: =AN98+AO98 -> 0 | AQ98: 0 | AR98: 0 | AS98: 0 | AT98: 0 | AU98: =AS98+AT98 -> 0 | AV98: 0 | AW98: 0 | AX98: 0 | AY98: 0 | AZ98: =AX98+AY98 -> 0 | BA98: 0 | BB98: 0 | BC98: 0 | BD98: 0 | BE98: =BC98+BD98 -> 0 | BF98: 0 | BG98: 0 | BH98: 0 | BI98: 0 | BJ98: =BH98+BI98 -> 0 | BK98: 0 | BL98: 0 | BM98: 0 | BN98: 0 | BO98: =BM98+BN98 -> 0 | BP98: 0 | BQ98: 0 | BR98: 2 | BS98: 0 | BT98: =BR98+BS98 -> 2 | BU98: =C98+M98+AB98+AG98+AL98+AQ98+AV98+BA98+BF98+BP98+H98+BK98+R98 -> 15 | BV98: =D98+N98+AC98+AH98+AM98+AR98+AW98+BB98+BG98+BQ98+I98+BL98+S98+X98 -> 125 | BW98: =E98+O98+AD98+AI98+AN98+AS98+AX98+BC98+BH98+BR98+J98+BM98+T98 -> 18 | BX98: =F98+P98+AE98+AJ98+AO98+AT98+AY98+BD98+BI98+BS98+K98+BN98+U98 -> 0 | BY98: =G98+Q98+AF98+AK98+AP98+AU98+AZ98+BE98+BJ98+BT98+L98+BO98+V98 -> 18 | BZ98: 2 | CA98: =IF(BZ98=1,BW98,"0") -> 0 | CB98: =IF(BZ98=1,BX98,"0") -> 0 | CC98: =CA98+CB98 -> 0 | CD98: =IF(BZ98=2,BW98,"0") -> 18 | CE98: =IF(BZ98=2,BX98,"0") -> 0 | CF98: =CD98+CE98 -> 18 | CG98: =IF(CC98=2,BZ98,"0") -> 0 | CH98: =IF(CC98=2,CA98,"0") -> 0 | CI98: =CG98+CH98 -> 0
B99: วิศวกรรมระบบราง | C99: 0 | D99: 0 | E99: 0 | F99: 0 | G99: =E99+F99 -> 0 | H99: 0 | I99: 0 | J99: 0 | K99: 0 | L99: =SUM(J99:K99) -> 0 | M99: 10 | N99: 0 | O99: 0 | P99: 0 | Q99: =O99+P99 -> 0 | R99: 0 | S99: 1 | T99: 1 | U99: 0 | V99: =T99+U99 -> 1 | W99: 0 | X99: 0 | Y99: 0 | Z99: 0 | AA99: =Y99+Z99 -> 0 | AB99: 0 | AC99: 0 | AD99: 0 | AE99: 0 | AF99: =AD99+AE99 -> 0 | AG99: 0 | AH99: 0 | AI99: 0 | AJ99: 0 | AK99: =AI99+AJ99 -> 0 | AL99: 0 | AM99: 0 | AN99: 0 | AO99: 0 | AP99: =AN99+AO99 -> 0 | AQ99: 0 | AR99: 0 | AS99: 0 | AT99: 0 | AU99: =AS99+AT99 -> 0 | AV99: 0 | AW99: 0 | AX99: 0 | AY99: 0 | AZ99: =AX99+AY99 -> 0 | BA99: 0 | BB99: 0 | BC99: 0 | BD99: 0 | BE99: =BC99+BD99 -> 0 | BF99: 0 | BG99: 0 | BH99: 0 | BI99: 0 | BJ99: =BH99+BI99 -> 0 | BK99: 0 | BL99: 0 | BM99: 0 | BN99: 0 | BO99: =BM99+BN99 -> 0 | BP99: 0 | BQ99: 0 | BR99: 0 | BS99: 0 | BT99: =BR99+BS99 -> 0 | BU99: =C99+M99+AB99+AG99+AL99+AQ99+AV99+BA99+BF99+BP99+H99+BK99+R99 -> 10 | BV99: =D99+N99+AC99+AH99+AM99+AR99+AW99+BB99+BG99+BQ99+I99+BL99+S99+X99 -> 1 | BW99: =E99+O99+AD99+AI99+AN99+AS99+AX99+BC99+BH99+BR99+J99+BM99+T99 -> 1 | BX99: =F99+P99+AE99+AJ99+AO99+AT99+AY99+BD99+BI99+BS99+K99+BN99+U99 -> 0 | BY99: =G99+Q99+AF99+AK99+AP99+AU99+AZ99+BE99+BJ99+BT99+L99+BO99+V99 -> 1
B100: วิศวกรรมโยธา | C100: 10 | D100: 32 | E100: 4 | F100: 2 | G100: =E100+F100 -> 6 | H100: 0 | I100: 0 | J100: 0 | K100: 0 | L100: =SUM(J100:K100) -> 0 | M100: 20 | N100: 42 | O100: 19 | P100: 5 | Q100: =O100+P100 -> 24 | R100: 0 | S100: 0 | T100: 0 | U100: 0 | V100: =T100+U100 -> 0 | W100: 0 | X100: 0 | Y100: 0 | Z100: 0 | AA100: =Y100+Z100 -> 0 | AB100: 0 | AC100: 0 | AD100: 0 | AE100: 0 | AF100: =AD100+AE100 -> 0 | AG100: 0 | AH100: 0 | AI100: 0 | AJ100: 0 | AK100: =AI100+AJ100 -> 0 | AL100: 0 | AM100: 0 | AN100: 0 | AO100: 0 | AP100: =AN100+AO100 -> 0 | AQ100: 0 | AR100: 0 | AS100: 0 | AT100: 0 | AU100: =AS100+AT100 -> 0 | AV100: 0 | AW100: 0 | AX100: 0 | AY100: 0 | AZ100: =AX100+AY100 -> 0 | BA100: 0 | BB100: 0 | BC100: 0 | BD100: 0 | BE100: =BC100+BD100 -> 0 | BF100: 0 | BG100: 3 | BH100: 2 | BI100: 1 | BJ100: =BH100+BI100 -> 3 | BK100: 0 | BL100: 0 | BM100: 0 | BN100: 0 | BO100: =BM100+BN100 -> 0 | BP100: 0 | BQ100: 1 | BR100: 2 | BS100: 0 | BT100: =BR100+BS100 -> 2 | BU100: =C100+M100+AB100+AG100+AL100+AQ100+AV100+BA100+BF100+BP100+H100+BK100+R100 -> 30 | BV100: =D100+N100+AC100+AH100+AM100+AR100+AW100+BB100+BG100+BQ100+I100+BL100+S100+X100 -> 78 | BW100: =E100+O100+AD100+AI100+AN100+AS100+AX100+BC100+BH100+BR100+J100+BM100+T100 -> 27 | BX100: =F100+P100+AE100+AJ100+AO100+AT100+AY100+BD100+BI100+BS100+K100+BN100+U100 -> 8 | BY100: =G100+Q100+AF100+AK100+AP100+AU100+AZ100+BE100+BJ100+BT100+L100+BO100+V100 -> 35 | BZ100: 2 | CA100: =IF(BZ100=1,BW100,"0") -> 0 | CB100: =IF(BZ100=1,BX100,"0") -> 0 | CC100: =CA100+CB100 -> 0 | CD100: =IF(BZ100=2,BW100,"0") -> 27 | CE100: =IF(BZ100=2,BX100,"0") -> 8 | CF100: =CD100+CE100 -> 35 | CG100: =IF(CC100=2,BZ100,"0") -> 0 | CH100: =IF(CC100=2,CA100,"0") -> 0 | CI100: =CG100+CH100 -> 0
B101: วิศวกรรมวัสดุ - วิศวกรรมพอลิเมอร์ | C101: 5 | D101: 2 | E101: 0 | F101: 0 | G101: =E101+F101 -> 0 | H101: 0 | I101: 0 | J101: 0 | K101: 0 | L101: =SUM(J101:K101) -> 0 | M101: 5 | N101: 1 | O101: 0 | P101: 1 | Q101: =O101+P101 -> 1 | R101: 0 | S101: 3 | T101: 0 | U101: 0 | V101: =T101+U101 -> 0 | W101: 0 | X101: 0 | Y101: 0 | Z101: 0 | AA101: =Y101+Z101 -> 0 | AB101: 0 | AC101: 0 | AD101: 0 | AE101: 0 | AF101: =AD101+AE101 -> 0 | AG101: 0 | AH101: 0 | AI101: 0 | AJ101: 0 | AK101: =AI101+AJ101 -> 0 | AL101: 0 | AM101: 0 | AN101: 0 | AO101: 0 | AP101: =AN101+AO101 -> 0 | AQ101: 0 | AR101: 0 | AS101: 0 | AT101: 0 | AU101: =AS101+AT101 -> 0 | AV101: 0 | AW101: 0 | AX101: 0 | AY101: 0 | AZ101: =AX101+AY101 -> 0 | BA101: 0 | BB101: 0 | BC101: 0 | BD101: 0 | BE101: =BC101+BD101 -> 0 | BF101: 0 | BG101: 5 | BH101: 2 | BI101: 3 | BJ101: =BH101+BI101 -> 5 | BK101: 0 | BL101: 1 | BM101: 0 | BN101: 0 | BO101: =BM101+BN101 -> 0 | BP101: 0 | BQ101: 0 | BR101: 0 | BS101: 0 | BT101: =BR101+BS101 -> 0 | BU101: =C101+M101+AB101+AG101+AL101+AQ101+AV101+BA101+BF101+BP101+H101+BK101+R101 -> 10 | BV101: =D101+N101+AC101+AH101+AM101+AR101+AW101+BB101+BG101+BQ101+I101+BL101+S101+X101 -> 12 | BW101: =E101+O101+AD101+AI101+AN101+AS101+AX101+BC101+BH101+BR101+J101+BM101+T101 -> 2 | BX101: =F101+P101+AE101+AJ101+AO101+AT101+AY101+BD101+BI101+BS101+K101+BN101+U101 -> 4 | BY101: =G101+Q101+AF101+AK101+AP101+AU101+AZ101+BE101+BJ101+BT101+L101+BO101+V101 -> 6 | BZ101: 2 | CA101: =IF(BZ101=1,BW101,"0") -> 0 | CB101: =IF(BZ101=1,BX101,"0") -> 0 | CC101: =CA101+CB101 -> 0 | CD101: =IF(BZ101=2,BW101,"0") -> 2 | CE101: =IF(BZ101=2,BX101,"0") -> 4 | CF101: =CD101+CE101 -> 6 | CG101: =IF(CC101=2,BZ101,"0") -> 0 | CH101: =IF(CC101=2,CA101,"0") -> 0 | CI101: =CG101+CH101 -> 0
...

Sheet กราฟ
A1: คณะศิลปศาสตร์ | B1: =นักศึกษาเข้าใหม่!BY34 -> 611
A2: คณะครุศาสตร์อุตสาหกรรม | B2: =นักศึกษาเข้าใหม่!BY73 -> 586
A3: คณะเทคโนโลยีการเกษตร | B3: =นักศึกษาเข้าใหม่!BY88 -> 283
A4: คณะวิศวกรรมศาสตร์ | B4: =นักศึกษาเข้าใหม่!BY141 -> 1457
A5: คณะบริหารธุรกิจ | B5: =นักศึกษาเข้าใหม่!BY183 -> 1737
A6: คณะเทคโนโลยีคหกรรมศาสตร์ | B6: =นักศึกษาเข้าใหม่!BY200 -> 375
A7: คณะศิลปกรรมศาสตร์ | B7: =นักศึกษาเข้าใหม่!BY220 -> 439
A8: คณะเทคโนโลยีสื่อสารมวลชน | B8: =นักศึกษาเข้าใหม่!BY244 -> 362
A9: คณะวิทยาศาสตร์และเทคโนโลยี | B9: =นักศึกษาเข้าใหม่!BY263 -> 399
A10: คณะสถาปัตยกรรมศาสตร์ | B10: =นักศึกษาเข้าใหม่!BY271 -> 206
A11: คณะการแพทย์บูรณาการ | B11: =นักศึกษาเข้าใหม่!BY282 -> 141
A12: คณะพยาบาลศาสตร์ | B12: =นักศึกษาเข้าใหม่!BY289 -> 132
B13: =SUM(B1:B12) -> 6728
