Workbook

Sheet นักศึกษาเข้าใหม่
A2: คณะ/สาขาวิชา | C2: นักศึกษาเข้าใหม่ ปีการศึกษา 2569
C3: ระดับปริญญาตรี
C4: โควตา (ม.6/ปวช./ปวส.) | H4: MOU (ม.6/ปวช./ปวส.) | M4: สอบตรง (ปวช./ปวส./กศน.) | R4: รับตรง (ปวช./ปวส./กศน.) | W4: รับตรงรวม | AB4: TCAS 1 | AG4: TCAS 2 | AL4: TCAS 3 | AQ4: TCAS 4 | AV4: โครงการแลกเปลี่ยน | BA4: โควตาคณะ | BF4: โควตาคณะ | BK4: โควตาผู้มีความบกพร่อง | BP4: รับกลับเข้าศึกษา (Re รหัส) | BU4: รวมทั้งหมด | CA4: ผลผลิต
C5: แผนรับ | D5: ผู้สมัคร (ชำระค่าสมัครสอบ) | E5: รับไว้ | H5: แผนรับ | I5: ผู้สมัคร (ชำระค่าสมัครสอบ) | J5: รับไว้ | M5: แผนรับ | N5: ผู้สมัคร (ชำระค่าสมัครสอบ) | O5: รับไว้ | R5: แผนรับ | S5: ผู้สมัคร (ชำระค่าสมัครสอบ) | T5: รับไว้ | W5: แผนรับ | X5: ผู้สมัคร (ชำระค่าสมัครสอบ) | Y5: รับไว้ | AB5: แผนรับ | AC5: ผู้สมัคร (ชำระค่าสมัครสอบ) | AD5: รับไว้ | AG5: แผนรับ | AH5: ผู้สมัคร (ชำระค่าสมัครสอบ) | AI5: รับไว้ | AL5: แผนรับ | AM5: ผู้สมัคร (ชำระค่าสมัครสอบ) | AN5: รับไว้ | AQ5: แผนรับ | AR5: ผู้สมัคร (ชำระค่าสมัครสอบ) | AS5: รับไว้ | AV5: แผนรับ | AW5: ผู้สมัคร (ชำระค่าสมัครสอบ) | AX5: รับไว้ | BA5: แผนรับ | BB5: ผู้สมัคร (ชำระค่าสมัครสอบ) | BC5: รับไว้ | BF5: แผนรับ | BG5: ผู้สมัคร (ชำระค่าสมัครสอบ) | BH5: รับไว้ | BK5: แผนรับ | BL5: ผู้สมัคร (ชำระค่าสมัครสอบ) | BM5: รับไว้ | BP5: แผนรับ | BQ5: ผู้สมัคร (ชำระค่าสมัครสอบ) | BR5: รับไว้ | BU5: แผนรับ | BV5: ผู้สมัคร (ชำระค่าสมัครสอบ) | BW5: รับไว้ | CA5: ด้านสังคม | CD5: ด้านวิทยาศสตร์ | CG5: ด้านวิทยาศสตร์สุขภาพ
E6: ชาย | F6: หญิง | G6: รวม | J6: ชาย | K6: หญิง | L6: รวม | O6: ชาย | P6: หญิง | Q6: รวม | T6: ชาย | U6: หญิง | V6: รวม | Y6: ชาย | Z6: หญิง | AA6: รวม | AD6: ชาย | AE6: หญิง | AF6: รวม | AI6: ชาย | AJ6: หญิง | AK6: รวม | AN6: ชาย | AO6: หญิง | AP6: รวม | AS6: ชาย | AT6: หญิง | AU6: รวม | AX6: ชาย | AY6: หญิง | AZ6: รวม | BC6: ชาย | BD6: หญิง | BE6: รวม | BH6: ชาย | BI6: หญิง | BJ6: รวม | BM6: ชาย | BN6: หญิง | BO6: รวม | BR6: ชาย | BS6: หญิง | BT6: รวม | BW6: ชาย | BX6: หญิง | BY6: รวม | CA6: ชาย | CB6: หญิง | CC6: รวม | CD6: ชาย | CE6: หญิง | CF6: รวม | CG6: ชาย | CH6: หญิง | CI6: รวม
A7: คณะศิลปศาสตร์
B8: ภาคปกติ
B9: ระดับปริญญาตรี - หลักสูตรศิลปศาสตรบัณฑิต (วุฒิ ปวช./ม.6)
B10: การจัดการการโรงแรม | C10: 5 | D10: 9 | E10: 1 | F10: 3 | G10: =E10+F10 -> 4 | H10: 0 | I10: 36 | J10: 1 | K10: 26 | L10: =SUM(J10:K10) -> 27 | M10: 10 | N10: 7 | O10: 2 | P10: 2 | Q10: =SUM(O10:P10) -> 4 | R10: 0 | S10: 3 | T10: 0 | U10: 3 | V10: =SUM(T10:U10) -> 3 | W10: 0 | X10: 0 | Y10: 0 | Z10: 0 | AA10: =Y10+Z10 -> 0 | AB10: 40 | AC10: 64 | AD10: 13 | AE10: 21 | AF10: =AD10+AE10 -> 34 | AG10: 45 | AH10: 22 | AI10: 7 | AJ10: 6 | AK10: =AI10+AJ10 -> 13 | AL10: 15 | AM10: 88 | AN10: 5 | AO10: 7 | AP10: =AN10+AO10 -> 12 | AQ10: 5 | AR10: 9 | AS10: 5 | AT10: 1 | AU10: =AS10+AT10 -> 6 | AV10: 0 | AW10: 0 | AX10: 0 | AY10: 0 | AZ10: =AX10+AY10 -> 0 | BA10: 0 | BB10: 0 | BC10: 0 | BD10: 0 | BE10: =BC10+BD10 -> 0 | BF10: 0 | BG10: 1 | BH10: 1 | BI10: 0 | BJ10: =BH10+BI10 -> 1 | BK10: 0 | BL10: 0 | BM10: 0 | BN10: 0 | BO10: =BM10+BN10 -> 0 | BP10: 0 | BQ10: 0 | BR10: 0 | BS10: 1 | BT10: =BR10+BS10 -> 1 | BU10: =C10+M10+AB10+AG10+AL10+AQ10+AV10+BA10+BF10+BP10+H10+BK10+R10 -> 120 | BV10: =D10+N10+AC10+AH10+AM10+AR10+AW10+BB10+BG10+BQ10+I10+BL10+S10+X10 -> 239 | BW10: =E10+O10+AD10+AI10+AN10+AS10+AX10+BC10+BH10+BR10+J10+BM10+T10 -> 35 | BX10: =F10+P10+AE10+AJ10+AO10+AT10+AY10+BD10+BI10+BS10+K10+BN10+U10 -> 70 | BY10: =G10+Q10+AF10+AK10+AP10+AU10+AZ10+BE10+BJ10+BT10+L10+BO10+V10 -> 105 | BZ10: 1 | CA10: =IF(BZ10=1,BW10,"0") -> 35 | CB10: =IF(BZ10=1,BX10,"0") -> 70 | CC10: =CA10+CB10 -> 105 | CD10: =IF(BZ10=2,BW10,"0") -> 0 | CE10: =IF(BZ10=2,BX10,"0") -> 0 | CF10: =CD10+CE10 -> 0 | CG10: =IF(CC10=2,BZ10,"0") -> 0 | CH10: =IF(CC10=2,CA10,"0") -> 0 | CI10: =CG10+CH10 -> 0
B11: การท่องเที่ยว | C11: 5 | D11: 7 | E11: 2 | F11: 1 | G11: =E11+F11 -> 3 | H11: 0 | I11: 18 | J11: 5 | K11: 9 | L11: =SUM(J11:K11) -> 14 | M11: 5 | N11: 2 | O11: 0 | P11: 0 | Q11: =SUM(O11:P11) -> 0 | R11: 0 | S11: 9 | T11: 2 | U11: 5 | V11: =SUM(T11:U11) -> 7 | W11: 0 | X11: 0 | Y11: 0 | Z11: 0 | AA11: =Y11+Z11 -> 0 | AB11: 45 | AC11: =48+41 -> 89 | AD11: 10 | AE11: 23 | AF11: =AD11+AE11 -> 33 | AG11: 45 | AH11: 41 | AI11: 9 | AJ11: 15 | AK11: =AI11+AJ11 -> 24 | AL11: 15 | AM11: 159 | AN11: 9 | AO11: 17 | AP11: =AN11+AO11 -> 26 | AQ11: 5 | AR11: 15 | AS11: 2 | AT11: 5 | AU11: =AS11+AT11 -> 7 | AV11: 0 | AW11: 0 | AX11: 0 | AY11: 0 | AZ11: =AX11+AY11 -> 0 | BA11: 0 | BB11: 0 | BC11: 0 | BD11: 0 | BE11: =BC11+BD11 -> 0 | BF11: 0 | BG11: 0 | BH11: 0 | BI11: 0 | BJ11: =BH11+BI11 -> 0 | BK11: 0 | BL11: 0 | BM11: 0 | BN11: 0 | BO11: =BM11+BN11 -> 0 | BP11: 0 | BQ11: 0 | BR11: 0 | BS11: 0 | BT11: =BR11+BS11 -> 0 | BU11: =C11+M11+AB11+AG11+AL11+AQ11+AV11+BA11+BF11+BP11+H11+BK11+R11 -> 120 | BV11: =D11+N11+AC11+AH11+AM11+AR11+AW11+BB11+BG11+BQ11+I11+BL11+S11+X11 -> 340 | BW11: =E11+O11+AD11+AI11+AN11+AS11+AX11+BC11+BH11+BR11+J11+BM11+T11 -> 39 | BX11: =F11+P11+AE11+AJ11+AO11+AT11+AY11+BD11+BI11+BS11+K11+BN11+U11 -> 75 | BY11: =G11+Q11+AF11+AK11+AP11+AU11+AZ11+BE11+BJ11+BT11+L11+BO11+V11 -> 114 | BZ11: 1 | CA11: =IF(BZ11=1,BW11,"0") -> 39 | CB11: =IF(BZ11=1,BX11,"0") -> 75 | CC11: =CA11+CB11 -> 114 | CD11: =IF(BZ11=2,BW11,"0") -> 0 | CE11: =IF(BZ11=2,BX11,"0") -> 0 | CF11: =CD11+CE11 -> 0 | CG11: =IF(CC11=2,BZ11,"0") -> 0 | CH11: =IF(CC11=2,CA11,"0") -> 0 | CI11: =CG11+CH11 -> 0
B12: พลศึกษา | C12: 2 | D12: 3 | E12: 0 | F12: 0 | G12: =E12+F12 -> 0 | H12: 0 | I12: 14 | J12: 8 | K12: 3 | L12: =SUM(J12:K12) -> 11 | M12: 0 | N12: 0 | O12: 0 | P12: 0 | Q12: =SUM(O12:P12) -> 0 | R12: 0 | S12: 0 | T12: 0 | U12: 0 | V12: =SUM(T12:U12) -> 0 | W12: 0 | X12: 0 | Y12: 0 | Z12: 0 | AA12: =Y12+Z12 -> 0 | AB12: 25 | AC12: 155 | AD12: 18 | AE12: 4 | AF12: =AD12+AE12 -> 22 | AG12: 20 | AH12: 107 | AI12: 31 | AJ12: 3 | AK12: =AI12+AJ12 -> 34 | AL12: 10 | AM12: 151 | AN12: 18 | AO12: 1 | AP12: =AN12+AO12 -> 19 | AQ12: 3 | AR12: 41 | AS12: 8 | AT12: 3 | AU12: =AS12+AT12 -> 11 | AV12: 0 | AW12: 0 | AX12: 0 | AY12: 0 | AZ12: =AX12+AY12 -> 0 | BA12: 0 | BB12: 0 | BC12: 0 | BD12: 0 | BE12: =BC12+BD12 -> 0 | BF12: 0 | BG12: 7 | BH12: 4 | BI12: 1 | BJ12: =SUM(BH12:BI12) -> 5 | BK12: 0 | BL12: 0 | BM12: 0 | BN12: 0 | BO12: =BM12+BN12 -> 0 | BP12: 0 | BQ12: 0 | BR12: 0 | BS12: 0 | BT12: =BR12+BS12 -> 0 | BU12: =C12+M12+AB12+AG12+AL12+AQ12+AV12+BA12+BF12+BP12+H12+BK12+R12 -> 60 | BV12: =D12+N12+AC12+AH12+AM12+AR12+AW12+BB12+BG12+BQ12+I12+BL12+S12+X12 -> 478 | BW12: =E12+O12+AD12+AI12+AN12+AS12+AX12+BC12+BH12+BR12+J12+BM12+T12 -> 87 | BX12: =F12+P12+AE12+AJ12+AO12+AT12+AY12+BD12+BI12+BS12+K12+BN12+U12 -> 15 | BY12: =G12+Q12+AF12+AK12+AP12+AU12+AZ12+BE12+BJ12+BT12+L12+BO12+V12 -> 102 | BZ12: 1 | CA12: =IF(BZ12=1,BW12,"0") -> 87 | CB12: =IF(BZ12=1,BX12,"0") -> 15 | CC12: =CA12+CB12 -> 102 | CD12: =IF(BZ12=2,BW12,"0") -> 0 | CE12: =IF(BZ12=2,BX12,"0") -> 0 | CF12: =CD12+CE12 -> 0 | CG12: =IF(CC12=2,BZ12,"0") -> 0 | CH12: =IF(CC12=2,CA12,"0") -> 0 | CI12: =CG12+CH12 -> 0
B13: ภาษาอังกฤษเพื่อการสื่อสาร | C13: 10 | D13: 10 | E13: 0 | F13: 3 | G13: =E13+F13 -> 3 | H13: 0 | I13: 20 | J13: 3 | K13: 17 | L13: =SUM(J13:K13) -> 20 | M13: 10 | N13: 4 | O13: 1 | P13: 0 | Q13: =O13+P13 -> 1 | R13: 0 | S13: 3 | T13: 1 | U13: 1 | V13: =T13+U13 -> 2 | W13: 0 | X13: 0 | Y13: 0 | Z13: 0 | AA13: =Y13+Z13 -> 0 | AB13: 20 | AC13: =62+24 -> 86 | AD13: 15 | AE13: 10 | AF13: =AD13+AE13 -> 25 | AG13: 35 | AH13: 18 | AI13: 5 | AJ13: 7 | AK13: =AI13+AJ13 -> 12 | AL13: 35 | AM13: 313 | AN13: 31 | AO13: 36 | AP13: =AN13+AO13 -> 67 | AQ13: 10 | AR13: 0 | AS13: 1 | AT13: 1 | AU13: =AS13+AT13 -> 2 | AV13: 0 | AW13: 0 | AX13: 0 | AY13: 0 | AZ13: =AX13+AY13 -> 0 | BA13: 0 | BB13: 0 | BC13: 0 | BD13: 0 | BE13: =BC13+BD13 -> 0 | BF13: 0 | BG13: 2 | BH13: 0 | BI13: 1 | BJ13: =BH13+BI13 -> 1 | BK13: 0 | BL13: 1 | BM13: 0 | BN13: 0 | BO13: =BM13+BN13 -> 0 | BP13: 0 | BQ13: 0 | BR13: 1 | BS13: 0 | BT13: =BR13+BS13 -> 1 | BU13: =C13+M13+AB13+AG13+AL13+AQ13+AV13+BA13+BF13+BP13+H13+BK13+R13 -> 120 | BV13: =D13+N13+AC13+AH13+AM13+AR13+AW13+BB13+BG13+BQ13+I13+BL13+S13+X13 -> 457 | BW13: =E13+O13+AD13+AI13+AN13+AS13+AX13+BC13+BH13+BR13+J13+BM13+T13 -> 58 | BX13: =F13+P13+AE13+AJ13+AO13+AT13+AY13+BD13+BI13+BS13+K13+BN13+U13 -> 76 | BY13: =G13+Q13+AF13+AK13+AP13+AU13+AZ13+BE13+BJ13+BT13+L13+BO13+V13 -> 134 | BZ13: 1 | CA13: =IF(BZ13=1,BW13,"0") -> 58 | CB13: =IF(BZ13=1,BX13,"0") -> 76 | CC13: =CA13+CB13 -> 134 | CD13: =IF(BZ13=2,BW13,"0") -> 0 | CE13: =IF(BZ13=2,BX13,"0") -> 0 | CF13: =CD13+CE13 -> 0 | CG13: =IF(CC13=2,BZ13,"0") -> 0 | CH13: =IF(CC13=2,CA13,"0") -> 0 | CI13: =CG13+CH13 -> 0
B14: ภาษาไทยและภาษาจีนเพื่ออุตสาหกรรมการบริการ | C14: 5 | D14: 0 | E14: 0 | F14: 0 | G14: =E14+F14 -> 0 | H14: 0 | I14: 23 | J14: 1 | K14: 11 | L14: =SUM(J14:K14) -> 12 | M14: 5 | N14: 0 | O14: 0 | P14: 0 | Q14: =O14+P14 -> 0 | R14: 0 | S14: 5 | T14: 0 | U14: 2 | V14: =T14+U14 -> 2 | W14: 0 | X14: 0 | Y14: 0 | Z14: 0 | AA14: =Y14+Z14 -> 0 | AB14: 35 | AC14: =52+9 -> 61 | AD14: 3 | AE14: 23 | AF14: =AD14+AE14 -> 26 | AG14: 5 | AH14: 19 | AI14: 3 | AJ14: 7 | AK14: =AI14+AJ14 -> 10 | AL14: 5 | AM14: 83 | AN14: 1 | AO14: 14 | AP14: =AN14+AO14 -> 15 | AQ14: 5 | AR14: 8 | AS14: 0 | AT14: 2 | AU14: =AS14+AT14 -> 2 | AV14: 0 | AW14: 0 | AX14: 0 | AY14: 0 | AZ14: =AX14+AY14 -> 0 | BA14: 0 | BB14: 0 | BC14: 0 | BD14: 0 | BE14: =BC14+BD14 -> 0 | BF14: 0 | BG14: 1 | BH14: 0 | BI14: 1 | BJ14: =BH14+BI14 -> 1 | BK14: 0 | BL14: 0 | BM14: 0 | BN14: 0 | BO14: =BM14+BN14 -> 0 | BP14: 0 | BQ14: 0 | BR14: 0 | BS14: 0 | BT14: =BR14+BS14 -> 0 | BU14: =C14+M14+AB14+AG14+AL14+AQ14+AV14+BA14+BF14+BP14+H14+BK14+R14 -> 60 | BV14: =D14+N14+AC14+AH14+AM14+AR14+AW14+BB14+BG14+BQ14+I14+BL14+S14+X14 -> 200 | BW14: =E14+O14+AD14+AI14+AN14+AS14+AX14+BC14+BH14+BR14+J14+BM14+T14 -> 8 | BX14: =F14+P14+AE14+AJ14+AO14+AT14+AY14+BD14+BI14+BS14+K14+BN14+U14 -> 60 | BY14: =G14+Q14+AF14+AK14+AP14+AU14+AZ14+BE14+BJ14+BT14+L14+BO14+V14 -> 68 | BZ14: 1 | CA14: =IF(BZ14=1,BW14,"0") -> 8 | CB14: =IF(BZ14=1,BX14,"0") -> 60 | CC14: =CA14+CB14 -> 68 | CD14: =IF(BZ14=2,BW14,"0") -> 0 | CE14: =IF(BZ14=2,BX14,"0") -> 0 | CF14: =CD14+CE14 -> 0 | CG14: =IF(CC14=2,BZ14,"0") -> 0 | CH14: =IF(CC14=2,CA14,"0") -> 0 | CI14: =CG14+CH14 -> 0
B15: อุตสาหกรรมการบริการการบิน | C15: 5 | D15: 2 | E15: 0 | F15: 1 | G15: =E15+F15 -> 1 | H15: 0 | I15: 30 | J15: 4 | K15: 17 | L15: =SUM(J15:K15) -> 21 | M15: 10 | N15: 1 | O15: 1 | P15: 0 | Q15: =O15+P15 -> 1 | R15: 0 | S15: 4 | T15: 1 | U15: 0 | V15: =T15+U15 -> 1 | W15: 0 | X15: 0 | Y15: 0 | Z15: 0 | AA15: =Y15+Z15 -> 0 | AB15: 15 | AC15: 51 | AD15: 7 | AE15: 16 | AF15: =AD15+AE15 -> 23 | AG15: 15 | AH15: 25 | AI15: 4 | AJ15: 6 | AK15: =AI15+AJ15 -> 10 | AL15: 20 | AM15: 90 | AN15: 4 | AO15: 5 | AP15: =AN15+AO15 -> 9 | AQ15: 5 | AR15: 9 | AS15: 1 | AT15: 6 | AU15: =AS15+AT15 -> 7 | AV15: 0 | AW15: 0 | AX15: 0 | AY15: 0 | AZ15: =AX15+AY15 -> 0 | BA15: 0 | BB15: 0 | BC15: 0 | BD15: 0 | BE15: =BC15+BD15 -> 0 | BF15: 0 | BG15: 0 | BH15: 0 | BI15: 0 | BJ15: =BH15+BI15 -> 0 | BK15: 0 | BL15: 0 | BM15: 0 | BN15: 0 | BO15: =BM15+BN15 -> 0 | BP15: 0 | BQ15: 0 | BR15: 0 | BS15: 0 | BT15: =BR15+BS15 -> 0 | BU15: =C15+M15+AB15+AG15+AL15+AQ15+AV15+BA15+BF15+BP15+H15+BK15+R15 -> 70 | BV15: =D15+N15+AC15+AH15+AM15+AR15+AW15+BB15+BG15+BQ15+I15+BL15+S15+X15 -> 212 | BW15: =E15+O15+AD15+AI15+AN15+AS15+AX15+BC15+BH15+BR15+J15+BM15+T15 -> 22 | BX15: =F15+P15+AE15+AJ15+AO15+AT15+AY15+BD15+BI15+BS15+K15+BN15+U15 -> 51 | BY15: =G15+Q15+AF15+AK15+AP15+AU15+AZ15+BE15+BJ15+BT15+L15+BO15+V15 -> 73 | BZ15: 1 | CA15: =IF(BZ15=1,BW15,"0") -> 22 | CB15: =IF(BZ15=1,BX15,"0") -> 51 | CC15: =CA15+CB15 -> 73 | CD15: =IF(BZ15=2,BW15,"0") -> 0 | CE15: =IF(BZ15=2,BX15,"0") -> 0 | CF15: =CD15+CE15 -> 0 | CG15: =IF(CC15=2,BZ15,"0") -> 0 | CH15: =IF(CC15=2,CA15,"0") -> 0 | CI15: =CG15+CH15 -> 0
B16: รวมในหลักสูตร | C16: =SUM(C10:C15) -> 32 | D16: =SUM(D10:D15) -> 31 | E16: =SUM(E10:E15) -> 3 | F16: =SUM(F10:F15) -> 8 | G16: =SUM(G10:G15) -> 11 | H16: =SUM(H10:H15) -> 0 | I16: =SUM(I10:I15) -> 141 | J16: =SUM(J10:J15) -> 22 | ... BT16: =SUM(BT10:BT15) -> 2 | BU16: =C16+M16+AB16+AG16+AL16+AQ16+AV16+BA16+BF16+BP16+H16+BK16+R16 -> 550 | BV16: =D16+N16+AC16+AH16+AM16+AR16+AW16+BB16+BG16+BQ16+I16+BL16+S16+X16 -> 1926 | BW16: =E16+O16+AD16+AI16+AN16+AS16+AX16+BC16+BH16+BR16+J16+BM16+T16 -> 249 | BX16: =F16+P16+AE16+AJ16+AO16+AT16+AY16+BD16+BI16+BS16+K16+BN16+U16 -> 347 | BY16: =G16+Q16+AF16+AK16+AP16+AU16+AZ16+BE16+BJ16+BT16+L16+BO16+V16 -> 596 | CA16: =SUM(CA10:CA15) -> 249 | CB16: =SUM(CB10:CB15) -> 347 | CC16: =SUM(CC10:CC15) -> 596 | CD16: =SUM(CD10:CD13) -> 0 | CE16: =SUM(CE10:CE13) -> 0 | CF16: =SUM(CF10:CF13) -> 0 | CG16: =SUM(CG10:CG13) -> 0 | CH16: =SUM(CH10:CH13) -> 0 | CI16: =SUM(CI10:CI13) -> 0
B17: ระดับปริญญาตรี - หลักสูตรศิลปศาสตรบัณฑิต (หลักสูตรนานาชาติ)
B18: ภาษาอังกฤษเพื่ออาชีพนานาชาติ | C18: 5 | D18: 0 | E18: 0 | F18: 0 | G18: =E18+F18 -> 0 | H18: 0 | I18: 1 | J18: 1 | K18: 0 | L18: =SUM(J18:K18) -> 1 | M18: 5 | N18: 1 | O18: 0 | P18: 0 | Q18: =O18+P18 -> 0 | R18: 0 | S18: 0 | T18: 0 | U18: 0 | V18: =T18+U18 -> 0 | W18: 0 | X18: 0 | Y18: 0 | Z18: 0 | AA18: =Y18+Z18 -> 0 | AB18: 10 | AC18: 2 | AD18: 0 | AE18: 0 | AF18: =AD18+AE18 -> 0 | AG18: 15 | AH18: 2 | AI18: 1 | AJ18: 0 | AK18: =AI18+AJ18 -> 1 | AL18: 10 | AM18: 25 | AN18: 1 | AO18: 1 | AP18: =AN18+AO18 -> 2 | AQ18: 5 | AR18: 2 | AS18: 0 | AT18: 0 | AU18: =AS18+AT18 -> 0 | AV18: 0 | AW18: 0 | AX18: 0 | AY18: 0 | AZ18: =AX18+AY18 -> 0 | BA18: 0 | BB18: 0 | BC18: 0 | BD18: 0 | BE18: =BC18+BD18 -> 0 | BF18: 0 | BG18: 1 | BH18: 0 | BI18: 1 | BJ18: =BH18+BI18 -> 1 | BK18: 0 | BL18: 0 | BM18: 0 | BN18: 0 | BO18: =BM18+BN18 -> 0 | BP18: 0 | BQ18: 0 | BR18: 0 | BS18: 0 | BT18: =BR18+BS18 -> 0 | BU18: =C18+M18+AB18+AG18+AL18+AQ18+AV18+BA18+BF18+BP18+H18+BK18+R18 -> 50 | BV18: =D18+N18+AC18+AH18+AM18+AR18+AW18+BB18+BG18+BQ18+I18+BL18+S18+X18 -> 34 | BW18: =E18+O18+AD18+AI18+AN18+AS18+AX18+BC18+BH18+BR18+J18+BM18+T18 -> 3 | BX18: =F18+P18+AE18+AJ18+AO18+AT18+AY18+BD18+BI18+BS18+K18+BN18+U18 -> 2 | BY18: =G18+Q18+AF18+AK18+AP18+AU18+AZ18+BE18+BJ18+BT18+L18+BO18+V18 -> 5 | BZ18: 1 | CA18: =IF(BZ18=1,BW18,"0") -> 3 | CB18: =IF(BZ18=1,BX18,"0") -> 2 | CC18: =CA18+CB18 -> 5 | CD18: =IF(BZ18=2,BW18,"0") -> 0 | CE18: =IF(BZ18=2,BX18,"0") -> 0 | CF18: =CD18+CE18 -> 0 | CG18: =IF(CC18=2,BZ18,"0") -> 0 | CH18: =IF(CC18=2,CA18,"0") -> 0 | CI18: =CG18+CH18 -> 0
B19: รวมในหลักสูตร | C19: =SUM(C18) -> 5 | D19: =SUM(D18) -> 0 | E19: =SUM(E18) -> 0 | F19: =SUM(F18) -> 0 | G19: =SUM(G18) -> 0 | H19: =SUM(H18) -> 0 | I19: =SUM(I18) -> 1 | J19: =SUM(J18) -> 1 | ... BT19: =SUM(BT18) -> 0 | BU19: =C19+M19+AB19+AG19+AL19+AQ19+AV19+BA19+BF19+BP19+H19+BK19+R19 -> 50 | BV19: =D19+N19+AC19+AH19+AM19+AR19+AW19+BB19+BG19+BQ19+I19+BL19+S19 -> 34 | BW19: =E19+O19+AD19+AI19+AN19+AS19+AX19+BC19+BH19+BR19+J19+BM19+T19 -> 3 | BX19: =F19+P19+AE19+AJ19+AO19+AT19+AY19+BD19+BI19+BS19+K19+BN19+U19 -> 2 | BY19: =G19+Q19+AF19+AK19+AP19+AU19+AZ19+BE19+BJ19+BT19+L19+BO19+V19 -> 5 | CA19: =SUM(CA18) -> 3 | CB19: =SUM(CB18) -> 2 | CC19: =SUM(CC18) -> 5 | CD19: =SUM(CD18) -> 0 | CE19: =SUM(CE18) -> 0 | CF19: =SUM(CF18) -> 0 | CG19: =SUM(CG18) -> 0 | CH19: =SUM(CH18) -> 0 | CI19: =SUM(CI18) -> 0
B20: ระดับปริญญาตรี - หลักสูตรศิลปศาสตรบัณฑิต (วุฒิ ปวส. เทียบโอน)
B21: การจัดการการโรงแรม | C21: 30 | D21: 5 | E21: 0 | F21: 0 | G21: =E21+F21 -> 0 | H21: 0 | I21: 1 | J21: 0 | K21: 0 | L21: =SUM(J21:K21) -> 0 | M21: 20 | N21: 3 | O21: 0 | P21: 0 | Q21: =O21+P21 -> 0 | R21: 0 | S21: 4 | T21: 0 | U21: 0 | V21: =T21+U21 -> 0 | W21: 0 | X21: 0 | Y21: 0 | Z21: 0 | AA21: =Y21+Z21 -> 0 | AB21: 0 | AC21: 0 | AD21: 0 | AE21: 0 | AF21: =AD21+AE21 -> 0 | AG21: 0 | AH21: 0 | AI21: 0 | AJ21: 0 | AK21: =AI21+AJ21 -> 0 | AL21: 0 | AM21: 0 | AN21: 0 | AO21: 0 | AP21: =AN21+AO21 -> 0 | AQ21: 0 | AR21: 0 | AS21: 0 | AT21: 0 | AU21: =AS21+AT21 -> 0 | AV21: 0 | AW21: 0 | AX21: 0 | AY21: 0 | AZ21: =AX21+AY21 -> 0 | BA21: 0 | BB21: 0 | BC21: 0 | BD21: 0 | BE21: =BC21+BD21 -> 0 | BF21: 0 | BG21: 0 | BH21: 0 | BI21: 0 | BJ21: =BH21+BI21 -> 0 | BK21: 0 | BL21: 0 | BM21: 0 | BN21: 0 | BO21: =BM21+BN21 -> 0 | BP21: 0 | BQ21: 0 | BR21: 0 | BS21: 0 | BT21: =BR21+BS21 -> 0 | BU21: =C21+M21+AB21+AG21+AL21+AQ21+AV21+BA21+BF21+BP21+H21+BK21+R21 -> 50 | BV21: =D21+N21+AC21+AH21+AM21+AR21+AW21+BB21+BG21+BQ21+I21+BL21+S21+X21 -> 13 | BW21: =E21+O21+AD21+AI21+AN21+AS21+AX21+BC21+BH21+BR21+J21+BM21+T21 -> 0 | BX21: =F21+P21+AE21+AJ21+AO21+AT21+AY21+BD21+BI21+BS21+K21+BN21+U21 -> 0 | BY21: =G21+Q21+AF21+AK21+AP21+AU21+AZ21+BE21+BJ21+BT21+L21+BO21+V21 -> 0 | BZ21: 1 | CA21: =IF(BZ21=1,BW21,"0") -> 0 | CB21: =IF(BZ21=1,BX21,"0") -> 0 | CC21: =CA21+CB21 -> 0 | CD21: =IF(BZ21=2,BW21,"0") -> 0 | CE21: =IF(BZ21=2,BX21,"0") -> 0 | CF21: =CD21+CE21 -> 0 | CG21: =IF(CC21=2,BZ21,"0") -> 0 | CH21: =IF(CC21=2,CA21,"0") -> 0 | CI21: =CG21+CH21 -> 0
B22: รวมในหลักสูตร | C22: =SUM(C21) -> 30 | D22: =SUM(D21) -> 5 | E22: =SUM(E21) -> 0 | F22: =SUM(F21) -> 0 | G22: =SUM(G21) -> 0 | H22: =SUM(H21) -> 0 | I22: =SUM(I21) -> 1 | J22: =SUM(J21) -> 0 | ... BT22: =SUM(BT21) -> 0 | BU22: =C22+M22+AB22+AG22+AL22+AQ22+AV22+BA22+BF22+BP22+H22+BK22+R22 -> 50 | BV22: =D22+N22+AC22+AH22+AM22+AR22+AW22+BB22+BG22+BQ22+I22+BL22+S22+X22 -> 13 | BW22: =E22+O22+AD22+AI22+AN22+AS22+AX22+BC22+BH22+BR22+J22+BM22+T22 -> 0 | BX22: =F22+P22+AE22+AJ22+AO22+AT22+AY22+BD22+BI22+BS22+K22+BN22+U22 -> 0 | BY22: =G22+Q22+AF22+AK22+AP22+AU22+AZ22+BE22+BJ22+BT22+L22+BO22+V22 -> 0 | CA22: =SUM(CA21) -> 0 | CB22: =SUM(CB21) -> 0 | CC22: =SUM(CA22:CB22) -> 0 | CD22: =SUM(CD21) -> 0 | CE22: =SUM(CE21) -> 0 | CF22: =SUM(CD22:CE22) -> 0 | CG22: =SUM(CG21) -> 0 | CH22: =SUM(CH21) -> 0 | CI22: =SUM(CG22:CH22) -> 0
B23: รวมภาคปกติ | C23: =C16+C22+C19 -> 67 | D23: =D16+D22+D19 -> 36 | E23: =E16+E22+E19 -> 3 | F23: =F16+F22+F19 -> 8 | G23: =G16+G22+G19 -> 11 | H23: =H16+H22+H19 -> 0 | I23: =I16+I22+I19 -> 143 | J23: =J16+J22+J19 -> 23 | ... BT23: =BT16+BT22+BT19 -> 2 | BU23: =C23+M23+AB23+AG23+AL23+AQ23+AV23+BA23+BF23+BP23+H23+BK23+R23 -> 650 | BV23: =D23+N23+AC23+AH23+AM23+AR23+AW23+BB23+BG23+BQ23+I23+BL23+S23+X23 -> 1973 | BW23: =E23+O23+AD23+AI23+AN23+AS23+AX23+BC23+BH23+BR23+J23+BM23+T23 -> 252 | BX23: =F23+P23+AE23+AJ23+AO23+AT23+AY23+BD23+BI23+BS23+K23+BN23+U23 -> 349 | BY23: =G23+Q23+AF23+AK23+AP23+AU23+AZ23+BE23+BJ23+BT23+L23+BO23+V23 -> 601 | CA23: =CA16+CA22+CA19 -> 252 | CB23: =CB16+CB22+CB19 -> 349 | CC23: =CC16+CC22+CC19 -> 601 | CD23: =CD16+CD22+CD19 -> 0 | CE23: =CE16+CE22+CE19 -> 0 | CF23: =CF16+CF22+CF19 -> 0 | CG23: =CG16+CG22+CG19 -> 0 | CH23: =CH16+CH22+CH19 -> 0 | CI23: =CI16+CI22+CI19 -> 0
B24: ภาคพิเศษ
B25: ระดับปริญญาตรี - หลักสูตรศิลปศาสตรบัณฑิต (วุฒิ ปวช./ม.6)
B26: การจัดการการโรงแรม | C26: 0 | D26: 0 | E26: 0 | F26: 0 | G26: =E26+F26 -> 0 | H26: 0 | I26: 0 | J26: 0 | K26: 0 | L26: =SUM(J26:K26) -> 0 | M26: 0 | N26: 0 | O26: 0 | P26: 0 | Q26: =O26+P26 -> 0 | R26: 0 | S26: 2 | T26: 0 | U26: 0 | V26: =T26+U26 -> 0 | W26: 0 | X26: 0 | Y26: 0 | Z26: 0 | AA26: =Y26+Z26 -> 0 | AB26: 0 | AC26: 0 | AD26: 0 | AE26: 0 | AF26: =AD26+AE26 -> 0 | AG26: 30 | AH26: 8 | AI26: 0 | AJ26: 0 | AK26: =AI26+AJ26 -> 0 | AL26: 10 | AM26: 25 | AN26: 0 | AO26: 0 | AP26: =AN26+AO26 -> 0 | AQ26: 5 | AR26: 1 | AS26: 0 | AT26: 0 | AU26: =AS26+AT26 -> 0 | AV26: 0 | AW26: 0 | AX26: 0 | AY26: 0 | AZ26: =AX26+AY26 -> 0 | BA26: 0 | BB26: 0 | BC26: 0 | BD26: 0 | BE26: =BC26+BD26 -> 0 | BF26: 0 | BG26: 0 | BH26: 0 | BI26: 0 | BJ26: =BH26+BI26 -> 0 | BK26: 0 | BL26: 0 | BM26: 0 | BN26: 0 | BO26: =BM26+BN26 -> 0 | BP26: 0 | BQ26: 0 | BR26: 0 | BS26: 0 | BT26: =BR26+BS26 -> 0 | BU26: =C26+M26+AB26+AG26+AL26+AQ26+AV26+BA26+BF26+BP26+H26+BK26+R26 -> 45 | BV26: =D26+N26+AC26+AH26+AM26+AR26+AW26+BB26+BG26+BQ26+I26+BL26+S26+X26 -> 36 | BW26: =E26+O26+AD26+AI26+AN26+AS26+AX26+BC26+BH26+BR26+J26+BM26+T26 -> 0 | BX26: =F26+P26+AE26+AJ26+AO26+AT26+AY26+BD26+BI26+BS26+K26+BN26+U26 -> 0 | BY26: =G26+Q26+AF26+AK26+AP26+AU26+AZ26+BE26+BJ26+BT26+L26+BO26+V26 -> 0 | BZ26: 1 | CA26: =IF(BZ26=1,BW26,"0") -> 0 | CB26: =IF(BZ26=1,BX26,"0") -> 0 | CC26: =CA26+CB26 -> 0 | CD26: =IF(BZ26=2,BW26,"0") -> 0 | CE26: =IF(BZ26=2,BX26,"0") -> 0 | CF26: =CD26+CE26 -> 0 | CG26: =IF(CC26=2,BZ26,"0") -> 0 | CH26: =IF(CC26=2,CA26,"0") -> 0 | CI26: =CG26+CH26 -> 0
B27: ภาษาอังกฤษเพื่อการสื่อสาร | C27: 5 | D27: 0 | E27: 0 | F27: 0 | G27: =E27+F27 -> 0 | H27: 0 | I27: 0 | J27: 0 | K27: 0 | L27: =SUM(J27:K27) -> 0 | M27: 5 | N27: 1 | O27: 0 | P27: 0 | Q27: =O27+P27 -> 0 | R27: 0 | S27: 4 | T27: 0 | U27: 0 | V27: =T27+U27 -> 0 | W27: 0 | X27: 0 | Y27: 0 | Z27: 0 | AA27: =Y27+Z27 -> 0 | AB27: 10 | AC27: 1 | AD27: 0 | AE27: 0 | AF27: =AD27+AE27 -> 0 | AG27: 10 | AH27: 0 | AI27: 0 | AJ27: 0 | AK27: =AI27+AJ27 -> 0 | AL27: 20 | AM27: 39 | AN27: 0 | AO27: 0 | AP27: =AN27+AO27 -> 0 | AQ27: 5 | AR27: 5 | AS27: 0 | AT27: 0 | AU27: =AS27+AT27 -> 0 | AV27: 0 | AW27: 0 | AX27: 0 | AY27: 0 | AZ27: =AX27+AY27 -> 0 | BA27: 0 | BB27: 0 | BC27: 0 | BD27: 0 | BE27: =BC27+BD27 -> 0 | BF27: 0 | BG27: 0 | BH27: 0 | BI27: 0 | BJ27: =BH27+BI27 -> 0 | BK27: 0 | BL27: 0 | BM27: 0 | BN27: 0 | BO27: =BM27+BN27 -> 0 | BP27: 0 | BQ27: 0 | BR27: 0 | BS27: 0 | BT27: =BR27+BS27 -> 0 | BU27: =C27+M27+AB27+AG27+AL27+AQ27+AV27+BA27+BF27+BP27+H27+BK27+R27 -> 55 | BV27: =D27+N27+AC27+AH27+AM27+AR27+AW27+BB27+BG27+BQ27+I27+BL27+S27+X27 -> 50 | BW27: =E27+O27+AD27+AI27+AN27+AS27+AX27+BC27+BH27+BR27+J27+BM27+T27 -> 0 | BX27: =F27+P27+AE27+AJ27+AO27+AT27+AY27+BD27+BI27+BS27+K27+BN27+U27 -> 0 | BY27: =G27+Q27+AF27+AK27+AP27+AU27+AZ27+BE27+BJ27+BT27+L27+BO27+V27 -> 0
B28: อุตสาหกรรมการบริการการบิน | C28: 0 | D28: 0 | E28: 0 | F28: 0 | G28: =E28+F28 -> 0 | H28: 0 | I28: 0 | J28: 0 | K28: 0 | L28: =SUM(J28:K28) -> 0 | M28: 0 | N28: 0 | O28: 0 | P28: 0 | Q28: =O28+P28 -> 0 | R28: 0 | S28: 2 | T28: 0 | U28: 0 | V28: =T28+U28 -> 0 | W28: 0 | X28: 0 | Y28: 0 | Z28: 0 | AA28: =Y28+Z28 -> 0 | AB28: 0 | AC28: 0 | AD28: 0 | AE28: 0 | AF28: =AD28+AE28 -> 0 | AG28: 15 | AH28: 6 | AI28: 0 | AJ28: 0 | AK28: =AI28+AJ28 -> 0 | AL28: 5 | AM28: 19 | AN28: 0 | AO28: 0 | AP28: =AN28+AO28 -> 0 | AQ28: 5 | AR28: 0 | AS28: 0 | AT28: 0 | AU28: =AS28+AT28 -> 0 | AV28: 0 | AW28: 0 | AX28: 0 | AY28: 0 | AZ28: =AX28+AY28 -> 0 | BA28: 0 | BB28: 0 | BC28: 0 | BD28: 0 | BE28: =BC28+BD28 -> 0 | BF28: 0 | BG28: 0 | BH28: 0 | BI28: 0 | BJ28: =BH28+BI28 -> 0 | BK28: 0 | BL28: 0 | BM28: 0 | BN28: 0 | BO28: =BM28+BN28 -> 0 | BP28: 0 | BQ28: 0 | BR28: 0 | BS28: 0 | BT28: =BR28+BS28 -> 0 | BU28: =C28+M28+AB28+AG28+AL28+AQ28+AV28+BA28+BF28+BP28+H28+BK28+R28 -> 25 | BV28: =D28+N28+AC28+AH28+AM28+AR28+AW28+BB28+BG28+BQ28+I28+BL28+S28+X28 -> 27 | BW28: =E28+O28+AD28+AI28+AN28+AS28+AX28+BC28+BH28+BR28+J28+BM28+T28 -> 0 | BX28: =F28+P28+AE28+AJ28+AO28+AT28+AY28+BD28+BI28+BS28+K28+BN28+U28 -> 0 | BY28: =G28+Q28+AF28+AK28+AP28+AU28+AZ28+BE28+BJ28+BT28+L28+BO28+V28 -> 0 | BZ28: 1 | CA28: =IF(BZ28=1,BW28,"0") -> 0 | CB28: =IF(BZ28=1,BX28,"0") -> 0 | CC28: =CA28+CB28 -> 0 | CD28: =IF(BZ28=2,BW28,"0") -> 0 | CE28: =IF(BZ28=2,BX28,"0") -> 0 | CF28: =CD28+CE28 -> 0 | CG28: =IF(CC28=2,BZ28,"0") -> 0 | CH28: =IF(CC28=2,CA28,"0") -> 0 | CI28: =CG28+CH28 -> 0
B29: รวมในหลักสูตร | C29: =SUM(C26:C28) -> 5 | D29: =SUM(D26:D28) -> 0 | E29: =SUM(E26:E28) -> 0 | F29: =SUM(F26:F28) -> 0 | G29: =SUM(G26:G28) -> 0 | H29: =SUM(H26:H28) -> 0 | I29: =SUM(I26:I28) -> 0 | J29: =SUM(J26:J28) -> 0 | ... BM29: =SUM(BM26:BM28) -> 0 | BN29: 0 | BO29: =SUM(BO26:BO28) -> 0 | BP29: =SUM(BP26:BP28) -> 0 | BQ29: =SUM(BQ26:BQ28) -> 0 | BR29: =SUM(BR26:BR28) -> 0 | BS29: =SUM(BS26:BS28) -> 0 | BT29: =SUM(BT26:BT28) -> 0 | BU29: =C29+M29+AB29+AG29+AL29+AQ29+AV29+BA29+BF29+BP29+H29+BK29+R29 -> 125 | BV29: =D29+N29+AC29+AH29+AM29+AR29+AW29+BB29+BG29+BQ29+I29+BL29+S29+X29 -> 113 | BW29: =E29+O29+AD29+AI29+AN29+AS29+AX29+BC29+BH29+BR29+J29+BM29+T29 -> 0 | BX29: =F29+P29+AE29+AJ29+AO29+AT29+AY29+BD29+BI29+BS29+K29+BN29+U29 -> 0 | BY29: =G29+Q29+AF29+AK29+AP29+AU29+AZ29+BE29+BJ29+BT29+L29+BO29+V29 -> 0 | CA29: =SUM(CA26:CA28) -> 0 | CB29: =SUM(CB26:CB28) -> 0 | CC29: =SUM(CC26:CC28) -> 0 | CD29: =SUM(CD28) -> 0 | CE29: =SUM(CE28) -> 0 | CF29: =SUM(CD29:CE29) -> 0 | CG29: =SUM(CG28) -> 0 | CH29: =SUM(CH28) -> 0 | CI29: =SUM(CG29:CH29) -> 0
B30: ระดับปริญญาตรี - หลักสูตรศิลปศาสตรบัณฑิต (วุฒิ ปวส. เทียบโอน)
B31: การจัดการการโรงแรม | C31: 0 | D31: 0 | E31: 0 | F31: 2 | G31: =E31+F31 -> 2 | H31: 0 | I31: 1 | J31: 0 | K31: 1 | L31: =SUM(J31:K31) -> 1 | M31: 0 | N31: 0 | O31: 0 | P31: 1 | Q31: =O31+P31 -> 1 | R31: 0 | S31: 0 | T31: 0 | U31: 3 | V31: =T31+U31 -> 3 | W31: 0 | X31: 0 | Y31: 0 | Z31: 0 | AA31: =Y31+Z31 -> 0 | AB31: 0 | AC31: 0 | AD31: 0 | AE31: 0 | AF31: =AD31+AE31 -> 0 | AG31: 0 | AH31: 0 | AI31: 0 | AJ31: 0 | AK31: =AI31+AJ31 -> 0 | AL31: 0 | AM31: 0 | AN31: 0 | AO31: 0 | AP31: =AN31+AO31 -> 0 | AQ31: 0 | AR31: 0 | AS31: 0 | AT31: 0 | AU31: =AS31+AT31 -> 0 | AV31: 0 | AW31: 0 | AX31: 0 | AY31: 0 | AZ31: =AX31+AY31 -> 0 | BA31: 0 | BB31: 0 | BE31: =BC31+BD31 -> 0 | BF31: 0 | BG31: 3 | BH31: 2 | BI31: 1 | BJ31: =BH31+BI31 -> 3 | BK31: 0 | BL31: 0 | BM31: 0 | BN31: 0 | BO31: =BM31+BN31 -> 0 | BP31: 0 | BQ31: 0 | BR31: 0 | BS31: 0 | BT31: =BR31+BS31 -> 0 | BU31: =C31+M31+AB31+AG31+AL31+AQ31+AV31+BA31+BF31+BP31+H31+BK31+R31 -> 0 | BV31: =D31+N31+AC31+AH31+AM31+AR31+AW31+BB31+BG31+BQ31+I31+BL31+S31+X31 -> 4 | BW31: =E31+O31+AD31+AI31+AN31+AS31+AX31+BC31+BH31+BR31+J31+BM31+T31 -> 2 | BX31: =F31+P31+AE31+AJ31+AO31+AT31+AY31+BD31+BI31+BS31+K31+BN31+U31 -> 8 | BY31: =G31+Q31+AF31+AK31+AP31+AU31+AZ31+BE31+BJ31+BT31+L31+BO31+V31 -> 10 | BZ31: 1 | CA31: =IF(BZ31=1,BW31,"0") -> 2 | CB31: =IF(BZ31=1,BX31,"0") -> 8 | CC31: =CA31+CB31 -> 10 | CD31: =IF(BZ31=2,BW31,"0") -> 0 | CE31: =IF(BZ31=2,BX31,"0") -> 0 | CF31: =CD31+CE31 -> 0 | CG31: =IF(CC31=2,BZ31,"0") -> 0 | CH31: =IF(CC31=2,CA31,"0") -> 0 | CI31: =CG31+CH31 -> 0
B32: รวมในหลักสูตร | C32: =SUM(C31) -> 0 | D32: =SUM(D31) -> 0 | E32: =SUM(E31) -> 0 | F32: =SUM(F31) -> 2 | G32: =SUM(G31) -> 2 | H32: =SUM(H31) -> 0 | I32: =SUM(I31) -> 1 | J32: =SUM(J31) -> 0 | ... BT32: =SUM(BT31) -> 0 | BU32: =C32+M32+AB32+AG32+AL32+AQ32+AV32+BA32+BF32+BP32+H32+BK32+R32 -> 0 | BV32: =D32+N32+AC32+AH32+AM32+AR32+AW32+BB32+BG32+BQ32+I32+BL32+S32+X32 -> 4 | BW32: =E32+O32+AD32+AI32+AN32+AS32+AX32+BC32+BH32+BR32+J32+BM32+T32 -> 2 | BX32: =F32+P32+AE32+AJ32+AO32+AT32+AY32+BD32+BI32+BS32+K32+BN32+U32 -> 8 | BY32: =G32+Q32+AF32+AK32+AP32+AU32+AZ32+BE32+BJ32+BT32+L32+BO32+V32 -> 10 | BZ32: 1 | CA32: =IF(BZ32=1,BW32,"0") -> 2 | CB32: =IF(BZ32=1,BX32,"0") -> 8 | CC32: =CA32+CB32 -> 10 | CD32: =IF(BZ32=2,BW32,"0") -> 0 | CE32: =IF(BZ32=2,BX32,"0") -> 0 | CF32: =CD32+CE32 -> 0 | CG32: =IF(CC32=2,BZ32,"0") -> 0 | CH32: =IF(CC32=2,CA32,"0") -> 0 | CI32: =CG32+CH32 -> 0
B33: รวมภาคพิเศษ | C33: =C32+C29 -> 5 | D33: =D32+D29 -> 0 | E33: =E32+E29 -> 0 | F33: =F32+F29 -> 2 | G33: =G32+G29 -> 2 | H33: =H32+H29 -> 0 | I33: =I32+I29 -> 1 | J33: =J32+J29 -> 0 | ... BT33: =BT32+BT29 -> 0 | BU33: =C33+M33+AB33+AG33+AL33+AQ33+AV33+BA33+BF33+BP33+H33+BK33+R33 -> 125 | BV33: =D33+N33+AC33+AH33+AM33+AR33+AW33+BB33+BG33+BQ33+I33+BL33+S33+X33 -> 117 | BW33: =E33+O33+AD33+AI33+AN33+AS33+AX33+BC33+BH33+BR33+J33+BM33+T33 -> 2 | BX33: =F33+P33+AE33+AJ33+AO33+AT33+AY33+BD33+BI33+BS33+K33+BN33+U33 -> 8 | BY33: =G33+Q33+AF33+AK33+AP33+AU33+AZ33+BE33+BJ33+BT33+L33+BO33+V33 -> 10 | CA33: =CA32+CA29 -> 2 | CB33: =CB32+CB29 -> 8 | CC33: =CC32+CC29 -> 10 | CD33: =CD29 -> 0 | CE33: =CE29 -> 0 | CF33: =CF29 -> 0 | CG33: =CG29 -> 0 | CH33: =CH29 -> 0 | CI33: =CI29 -> 0
B34: รวมทั้งคณะ | C34: =C23+C33 -> 72 | D34: =D23+D33 -> 36 | E34: =E23+E33 -> 3 | F34: =F23+F33 -> 10 | G34: =G23+G33 -> 13 | H34: =H23+H33 -> 0 | I34: =I23+I33 -> 144 | J34: =J23+J33 -> 23 | ... BT34: =BT23+BT33 -> 2 | BU34: =C34+M34+AB34+AG34+AL34+AQ34+AV34+BA34+BF34+BP34+H34+BK34+R34 -> 775 | BV34: =D34+N34+AC34+AH34+AM34+AR34+AW34+BB34+BG34+BQ34+I34+BL34+S34+X34 -> 2090 | BW34: =E34+O34+AD34+AI34+AN34+AS34+AX34+BC34+BH34+BR34+J34+BM34+T34 -> 254 | BX34: =F34+P34+AE34+AJ34+AO34+AT34+AY34+BD34+BI34+BS34+K34+BN34+U34 -> 357 | BY34: =G34+Q34+AF34+AK34+AP34+AU34+AZ34+BE34+BJ34+BT34+L34+BO34+V34 -> 611 | CA34: =CA23+CA33 -> 254 | CB34: =CB23+CB33 -> 357 | CC34: =CC23+CC33 -> 611 | CD34: =CD23 -> 0 | CE34: =CE23 -> 0 | CF34: =CF23 -> 0 | CG34: =CG23 -> 0 | CH34: =CH23 -> 0 | CI34: =CI23 -> 0
A35: คณะครุศาสตร์อุตสาหกรรม
B36: ภาคปกติ
B37: ระดับปริญญาตรี - หลักสูตรครุศาสตร์อุตสาหกรรมบัณฑิต (วุฒิ ปวช./ม.6)
B38: วิศวกรรมคอมพิวเตอร์ | C38: 20 | D38: 12 | E38: 3 | F38: 2 | G38: =E38+F38 -> 5 | H38: 0 | I38: 10 | J38: 7 | K38: 2 | L38: =SUM(J38:K38) -> 9 | M38: 10 | N38: 12 | O38: 2 | P38: 0 | Q38: =O38+P38 -> 2 | R38: 0 | S38: 5 | T38: 1 | U38: 2 | V38: =T38+U38 -> 3 | W38: 0 | X38: 0 | Y38: 0 | Z38: 0 | AA38: =Y38+Z38 -> 0 | AB38: 10 | AC38: 14 | AD38: 3 | AE38: 0 | AF38: =AD38+AE38 -> 3 | AG38: 10 | AH38: 11 | AI38: 3 | AJ38: 2 | AK38: =AI38+AJ38 -> 5 | AL38: 8 | AM38: 42 | AN38: 5 | AO38: 4 | AP38: =AN38+AO38 -> 9 | AQ38: 2 | AR38: 7 | AS38: 1 | AT38: 3 | AU38: =AS38+AT38 -> 4 | AV38: 0 | AW38: 0 | AX38: 0 | AY38: 0 | AZ38: =AX38+AY38 -> 0 | BA38: 0 | BE38: =BC38+BD38 -> 0 | BF38: 0 | BG38: 15 | BH38: 9 | BI38: 5 | BJ38: =BH38+BI38 -> 14 | BK38: 0 | BL38: 0 | BM38: 0 | BN38: 0 | BO38: =SUM(BM38:BN38) -> 0 | BP38: 0 | BQ38: 0 | BR38: 0 | BS38: 0 | BT38: =SUM(BR38:BS38) -> 0 | BU38: =C38+M38+AB38+AG38+AL38+AQ38+AV38+BA38+BF38+BP38+H38+BK38+R38 -> 60 | BV38: =D38+N38+AC38+AH38+AM38+AR38+AW38+BB38+BG38+BQ38+I38+BL38+S38+X38 -> 128 | BW38: =E38+O38+AD38+AI38+AN38+AS38+AX38+BC38+BH38+BR38+J38+BM38+T38 -> 34 | BX38: =F38+P38+AE38+AJ38+AO38+AT38+AY38+BD38+BI38+BS38+K38+BN38+U38 -> 20 | BY38: =G38+Q38+AF38+AK38+AP38+AU38+AZ38+BE38+BJ38+BT38+L38+BO38+V38 -> 54 | BZ38: 2 | CA38: =IF(BZ38=1,BW38,"0") -> 0 | CB38: =IF(BZ38=1,BX38,"0") -> 0 | CC38: =CA38+CB38 -> 0 | CD38: =IF(BZ38=2,BW38,"0") -> 34 | CE38: =IF(BZ38=2,BX38,"0") -> 20 | CF38: =CD38+CE38 -> 54 | CG38: =IF(CC38=2,BZ38,"0") -> 0 | CH38: =IF(CC38=2,CA38,"0") -> 0 | CI38: =CG38+CH38 -> 0
B39: วิศวกรรมเครื่องกล | C39: 20 | D39: 11 | E39: 6 | F39: 0 | G39: =E39+F39 -> 6 | H39: 0 | I39: 4 | J39: 3 | K39: 1 | L39: =SUM(J39:K39) -> 4 | M39: 10 | N39: 2 | O39: 0 | P39: 0 | Q39: =O39+P39 -> 0 | R39: 0 | S39: 8 | T39: 4 | U39: 0 | V39: =T39+U39 -> 4 | W39: 0 | X39: 0 | Y39: 0 | Z39: 0 | AA39: =Y39+Z39 -> 0 | AB39: 10 | AC39: 17 | AD39: 3 | AE39: 1 | AF39: =AD39+AE39 -> 4 | AG39: 10 | AH39: 8 | AI39: 2 | AJ39: 0 | AK39: =AI39+AJ39 -> 2 | AL39: 0 | AM39: 0 | AN39: 0 | AO39: 0 | AP39: =AN39+AO39 -> 0 | AQ39: 10 | AR39: 1 | AS39: 0 | AT39: 1 | AU39: =AS39+AT39 -> 1 | AV39: 0 | AW39: 0 | AX39: 0 | AY39: 0 | AZ39: =AX39+AY39 -> 0 | BA39: 0 | BE39: =BC39+BD39 -> 0 | BF39: 0 | BG39: 34 | BH39: 30 | BI39: 4 | BJ39: =BH39+BI39 -> 34 | BK39: 0 | BL39: 0 | BM39: 0 | BN39: 0 | BO39: =SUM(BM39:BN39) -> 0 | BP39: 0 | BQ39: 0 | BR39: 0 | BS39: 0 | BT39: =SUM(BR39:BS39) -> 0 | BU39: =C39+M39+AB39+AG39+AL39+AQ39+AV39+BA39+BF39+BP39+H39+BK39+R39 -> 60 | BV39: =D39+N39+AC39+AH39+AM39+AR39+AW39+BB39+BG39+BQ39+I39+BL39+S39+X39 -> 85 | BW39: =E39+O39+AD39+AI39+AN39+AS39+AX39+BC39+BH39+BR39+J39+BM39+T39 -> 48 | BX39: =F39+P39+AE39+AJ39+AO39+AT39+AY39+BD39+BI39+BS39+K39+BN39+U39 -> 7 | BY39: =G39+Q39+AF39+AK39+AP39+AU39+AZ39+BE39+BJ39+BT39+L39+BO39+V39 -> 55 | BZ39: 2 | CA39: =IF(BZ39=1,BW39,"0") -> 0 | CB39: =IF(BZ39=1,BX39,"0") -> 0 | CC39: =CA39+CB39 -> 0 | CD39: =IF(BZ39=2,BW39,"0") -> 48 | CE39: =IF(BZ39=2,BX39,"0") -> 7 | CF39: =CD39+CE39 -> 55 | CG39: =IF(CC39=2,BZ39,"0") -> 0 | CH39: =IF(CC39=2,CA39,"0") -> 0 | CI39: =CG39+CH39 -> 0
B40: วิศวกรรมไฟฟ้า | C40: 20 | D40: 14 | E40: 6 | F40: 2 | G40: =E40+F40 -> 8 | H40: 0 | I40: 7 | J40: 4 | K40: 3 | L40: =SUM(J40:K40) -> 7 | M40: 10 | N40: 4 | O40: 0 | P40: 1 | Q40: =O40+P40 -> 1 | R40: 0 | S40: 12 | T40: 4 | U40: 1 | V40: =T40+U40 -> 5 | W40: 0 | X40: 0 | Y40: 0 | Z40: 0 | AA40: =Y40+Z40 -> 0 | AB40: 10 | AC40: =9+8 -> 17 | AD40: 4 | AE40: 2 | AF40: =AD40+AE40 -> 6 | AG40: 10 | AH40: =9+2 -> 11 | AI40: 4 | AJ40: 3 | AK40: =AI40+AJ40 -> 7 | AL40: 0 | AM40: 0 | AN40: 0 | AO40: 0 | AP40: =AN40+AO40 -> 0 | AQ40: 10 | AR40: 2 | AS40: 0 | AT40: 1 | AU40: =AS40+AT40 -> 1 | AV40: 0 | AW40: 0 | AX40: 0 | AY40: 0 | AZ40: =AX40+AY40 -> 0 | BA40: 0 | BE40: =BC40+BD40 -> 0 | BF40: 0 | BG40: 15 | BH40: 10 | BI40: 4 | BJ40: =BH40+BI40 -> 14 | BK40: 0 | BL40: 0 | BM40: 0 | BN40: 0 | BO40: =SUM(BM40:BN40) -> 0 | BP40: 0 | BQ40: 1 | BR40: 0 | BS40: 0 | BT40: =SUM(BR40:BS40) -> 0 | BU40: =C40+M40+AB40+AG40+AL40+AQ40+AV40+BA40+BF40+BP40+H40+BK40+R40 -> 60 | BV40: =D40+N40+AC40+AH40+AM40+AR40+AW40+BB40+BG40+BQ40+I40+BL40+S40+X40 -> 83 | BW40: =E40+O40+AD40+AI40+AN40+AS40+AX40+BC40+BH40+BR40+J40+BM40+T40 -> 32 | BX40: =F40+P40+AE40+AJ40+AO40+AT40+AY40+BD40+BI40+BS40+K40+BN40+U40 -> 17 | BY40: =G40+Q40+AF40+AK40+AP40+AU40+AZ40+BE40+BJ40+BT40+L40+BO40+V40 -> 49 | BZ40: 2 | CA40: =IF(BZ40=1,BW40,"0") -> 0 | CB40: =IF(BZ40=1,BX40,"0") -> 0 | CC40: =CA40+CB40 -> 0 | CD40: =IF(BZ40=2,BW40,"0") -> 32 | CE40: =IF(BZ40=2,BX40,"0") -> 17 | CF40: =CD40+CE40 -> 49 | CG40: =IF(CC40=2,BZ40,"0") -> 0 | CH40: =IF(CC40=2,CA40,"0") -> 0 | CI40: =CG40+CH40 -> 0
B41: วิศวกรรมอิเล็กทรอนิกส์ | C41: 10 | D41: 3 | E41: 1 | F41: 0 | G41: =E41+F41 -> 1 | H41: 0 | I41: 4 | J41: 4 | K41: 0 | L41: =SUM(J41:K41) -> 4 | M41: 5 | N41: 1 | O41: 1 | P41: 1 | Q41: =O41+P41 -> 2 | R41: 0 | S41: 2 | T41: 2 | U41: 0 | V41: =T41+U41 -> 2 | W41: 0 | X41: 0 | Y41: 0 | Z41: 0 | AA41: =Y41+Z41 -> 0 | AB41: 10 | AC41: 3 | AD41: 1 | AE41: 0 | AF41: =AD41+AE41 -> 1 | AG41: 10 | AH41: 0 | AI41: 0 | AJ41: 0 | AK41: =AI41+AJ41 -> 0 | AL41: 20 | AM41: 38 | AN41: 3 | AO41: 9 | AP41: =AN41+AO41 -> 12 | AQ41: 5 | AR41: 2 | AS41: 0 | AT41: 1 | AU41: =AS41+AT41 -> 1 | AV41: 0 | AW41: 0 | AX41: 0 | AY41: 0 | AZ41: =AX41+AY41 -> 0 | BA41: 0 | BE41: =BC41+BD41 -> 0 | BF41: 0 | BG41: 10 | BH41: 4 | BI41: 4 | BJ41: =BH41+BI41 -> 8 | BK41: 0 | BL41: 0 | BM41: 0 | BN41: 0 | BO41: =SUM(BM41:BN41) -> 0 | BP41: 0 | BQ41: 0 | BR41: 0 | BS41: 0 | BT41: =SUM(BR41:BS41) -> 0 | BU41: =C41+M41+AB41+AG41+AL41+AQ41+AV41+BA41+BF41+BP41+H41+BK41+R41 -> 60 | BV41: =D41+N41+AC41+AH41+AM41+AR41+AW41+BB41+BG41+BQ41+I41+BL41+S41+X41 -> 63 | BW41: =E41+O41+AD41+AI41+AN41+AS41+AX41+BC41+BH41+BR41+J41+BM41+T41 -> 16 | BX41: =F41+P41+AE41+AJ41+AO41+AT41+AY41+BD41+BI41+BS41+K41+BN41+U41 -> 15 | BY41: =G41+Q41+AF41+AK41+AP41+AU41+AZ41+BE41+BJ41+BT41+L41+BO41+V41 -> 31 | BZ41: 2 | CA41: =IF(BZ41=1,BW41,"0") -> 0 | CB41: =IF(BZ41=1,BX41,"0") -> 0 | CC41: =CA41+CB41 -> 0 | CD41: =IF(BZ41=2,BW41,"0") -> 16 | CE41: =IF(BZ41=2,BX41,"0") -> 15 | CF41: =CD41+CE41 -> 31 | CG41: =IF(CC41=2,BZ41,"0") -> 0 | CH41: =IF(CC41=2,CA41,"0") -> 0 | CI41: =CG41+CH41 -> 0
...

Sheet กราฟ
A1: คณะศิลปศาสตร์ | B1: =นักศึกษาเข้าใหม่!BY34 -> 611
A2: คณะครุศาสตร์อุตสาหกรรม | B2: =นักศึกษาเข้าใหม่!BY73 -> 586
A3: คณะเทคโนโลยีการเกษตร | B3: =นักศึกษาเข้าใหม่!BY88 -> 283
A4: คณะวิศวกรรมศาสตร์ | B4: =นักศึกษาเข้าใหม่!BY141 -> 1457
A5: คณะบริหารธุรกิจ | B5: =นักศึกษาเข้าใหม่!BY183 -> 1737
A6: คณะเทคโนโลยีคหกรรมศาสตร์ | B6: =นักศึกษาเข้าใหม่!BY200 -> 375
A7: คณะศิลปกรรมศาสตร์ | B7: =นักศึกษาเข้าใหม่!BY220 -> 439
A8: คณะเทคโนโลยีสื่อสารมวลชน | B8: =นักศึกษาเข้าใหม่!BY244 -> 362
A9: คณะวิทยาศาสตร์และเทคโนโลยี | B9: =นักศึกษาเข้าใหม่!BY263 -> 399
A10: คณะสถาปัตยกรรมศาสตร์ | B10: =นักศึกษาเข้าใหม่!BY271 -> 206
A11: คณะการแพทย์บูรณาการ | B11: =นักศึกษาเข้าใหม่!BY282 -> 141
A12: คณะพยาบาลศาสตร์ | B12: =นักศึกษาเข้าใหม่!BY289 -> 132
B13: =SUM(B1:B12) -> 6728
