Workbook

Sheet นักศึกษาทั้งหมด
A1: จำนวนนักศึกษาทั้งหมด ปีการศึกษา 2569
A2: จำแนกตามคณะ สาขาวิชา ระดับการศึกษา และเพศ
A3: คณะ/สาขาวิชา | C3: ระดับปริญญาตรี
C4: จำนวนนักศึกษาทั้งหมด | G4: ผลผลิต | P4: กลุ่มอุตสาหกรรมเป้าหมาย (14 S-Curve)
G5: ด้านสังคมศาสตร์ | J5: ด้านวิทยาศาสตร์ | M5: ด้านวิทยาศาสตร์สุขภาพ
C6: ชาย | D6: หญิง | E6: รวม | G6: ชาย | H6: หญิง | I6: รวม | J6: ชาย | K6: หญิง | L6: รวม | M6: ชาย | N6: หญิง | O6: รวม
A7: คณะศิลปศาสตร์
B8: ภาคปกติ
B9: ระดับปริญญาตรี - หลักสูตรศิลปศาสตรบัณฑิต (วุฒิ ปวช./ม.6)
B10: การจัดการการโรงแรม | C10: 159 | D10: 384 | E10: =C10+D10 -> 543 | F10: 1 | G10: =IF(F10=1,C10,"0") -> 159 | H10: =IF(F10=1,D10,"0") -> 384 | I10: =G10+H10 -> 543 | J10: =IF(F10=2,C10,"0") -> 0 | K10: =IF(F10=2,D10,"0") -> 0 | L10: =J10+K10 -> 0 | M10: =IF(F10=3,C10,"0") -> 0 | N10: =IF(F10=3,D10,"0") -> 0 | O10: =IF(F10=3,E10,"0") -> 0 | P10: อุตสาหกรรมการท่องเที่ยวกลุ่มรายได้ดีและการท่องเที่ยวเชิงสุขภาพ
B11: การท่องเที่ยว | C11: 121 | D11: 332 | E11: =C11+D11 -> 453 | F11: 1 | G11: =IF(F11=1,C11,"0") -> 121 | H11: =IF(F11=1,D11,"0") -> 332 | I11: =G11+H11 -> 453 | J11: =IF(F11=2,C11,"0") -> 0 | K11: =IF(F11=2,D11,"0") -> 0 | L11: =J11+K11 -> 0 | M11: =IF(F11=3,C11,"0") -> 0 | N11: =IF(F11=3,D11,"0") -> 0 | O11: =IF(F11=3,E11,"0") -> 0 | P11: อุตสาหกรรมการท่องเที่ยวกลุ่มรายได้ดีและการท่องเที่ยวเชิงสุขภาพ
B12: พลศึกษา | C12: 266 | D12: 60 | E12: =C12+D12 -> 326 | F12: 1 | G12: =IF(F12=1,C12,"0") -> 266 | H12: =IF(F12=1,D12,"0") -> 60 | I12: =G12+H12 -> 326 | J12: =IF(F12=2,C12,"0") -> 0 | K12: =IF(F12=2,D12,"0") -> 0 | L12: =J12+K12 -> 0 | M12: =IF(F12=3,C12,"0") -> 0 | N12: =IF(F12=3,D12,"0") -> 0 | O12: =IF(F12=3,E12,"0") -> 0 | P12: อุตสาหกรรมการแพทย์ครบวงจร
B13: ภาษาไทยและภาษาจีนเพื่ออุตสาหกรรมการบริการ | C13: 17 | D13: 170 | E13: =C13+D13 -> 187 | F13: 1 | G13: =IF(F13=1,C13,"0") -> 17 | H13: =IF(F13=1,D13,"0") -> 170 | I13: =G13+H13 -> 187 | J13: =IF(F13=2,C13,"0") -> 0 | K13: =IF(F13=2,D13,"0") -> 0 | L13: =J13+K13 -> 0 | M13: =IF(F13=3,C13,"0") -> 0 | N13: =IF(F13=3,D13,"0") -> 0 | O13: =IF(F13=3,E13,"0") -> 0 | P13: อุตสาหกรรมการท่องเที่ยวกลุ่มรายได้ดีและการท่องเที่ยวเชิงสุขภาพ/อุตสาหกรรมพัฒนาคนและการศึกษา
B14: ภาษาอังกฤษเพื่อการสื่อสาร | C14: 175 | D14: 311 | E14: =C14+D14 -> 486 | F14: 1 | G14: =IF(F14=1,C14,"0") -> 175 | H14: =IF(F14=1,D14,"0") -> 311 | I14: =G14+H14 -> 486 | J14: =IF(F14=2,C14,"0") -> 0 | K14: =IF(F14=2,D14,"0") -> 0 | L14: =J14+K14 -> 0 | M14: =IF(F14=3,C14,"0") -> 0 | N14: =IF(F14=3,D14,"0") -> 0 | O14: =IF(F14=3,E14,"0") -> 0 | P14: อุตสาหกรรมการท่องเที่ยวกลุ่มรายได้ดีและการท่องเที่ยวเชิงสุขภาพ
B15: อุตสาหกรรมการบริการการบิน | C15: 70 | D15: 239 | E15: =C15+D15 -> 309 | F15: 1 | G15: =IF(F15=1,C15,"0") -> 70 | H15: =IF(F15=1,D15,"0") -> 239 | I15: =G15+H15 -> 309 | J15: =IF(F15=2,C15,"0") -> 0 | K15: =IF(F15=2,D15,"0") -> 0 | L15: =J15+K15 -> 0 | M15: =IF(F15=3,C15,"0") -> 0 | N15: =IF(F15=3,D15,"0") -> 0 | O15: =IF(F15=3,E15,"0") -> 0 | P15: อุตสาหกรรมขนส่งและการบิน
B16: รวมในหลักสูตร | C16: =SUM(C10:C15) -> 808 | D16: =SUM(D10:D15) -> 1496 | E16: =SUM(E10:E15) -> 2304 | G16: =SUM(G10:G15) -> 808 | H16: =SUM(H10:H15) -> 1496 | I16: =SUM(I10:I15) -> 2304 | J16: =SUM(J10:J15) -> 0 | K16: =SUM(K10:K15) -> 0 | L16: =SUM(L10:L15) -> 0 | M16: =SUM(M10:M15) -> 0 | N16: =SUM(N10:N15) -> 0 | O16: =SUM(O10:O15) -> 0
B17: ระดับปริญญาตรี - หลักสูตรศิลปศาสตรบัณฑิต (หลักสูตรนานาชาติ)
B18: ภาษาอังกฤษเพื่ออาชีพนานาชาติ | C18: 14 | D18: 29 | E18: =C18+D18 -> 43 | F18: 1 | G18: =IF(F18=1,C18,"0") -> 14 | H18: =IF(F18=1,D18,"0") -> 29 | I18: =G18+H18 -> 43 | J18: =IF(F18=2,C18,"0") -> 0 | K18: =IF(F18=2,D18,"0") -> 0 | L18: =J18+K18 -> 0 | M18: =IF(F18=3,C18,"0") -> 0 | N18: =IF(F18=3,D18,"0") -> 0 | O18: =IF(F18=3,E18,"0") -> 0 | P18: อุตสาหกรรมพัฒนาคนและการศึกษา
B19: รวมในหลักสูตร | C19: =SUM(C18) -> 14 | D19: =SUM(D18) -> 29 | E19: =SUM(E18) -> 43 | G19: =SUM(G18) -> 14 | H19: =SUM(H18) -> 29 | I19: =SUM(I18) -> 43 | J19: =SUM(J18) -> 0 | K19: =SUM(K18) -> 0 | L19: =SUM(L18) -> 0 | M19: =SUM(M18) -> 0 | N19: =SUM(N18) -> 0 | O19: =SUM(O18) -> 0
B20: ระดับปริญญาตรี - หลักสูตรศิลปศาสตรบัณฑิต (วุฒิ ปวส. เทียบโอน)
B21: การจัดการการโรงแรม | C21: 10 | D21: 30 | E21: =C21+D21 -> 40 | F21: 1 | G21: =IF(F21=1,C21,"0") -> 10 | H21: =IF(F21=1,D21,"0") -> 30 | I21: =G21+H21 -> 40 | J21: =SUM(N21) -> 0 | K21: =SUM(N25) -> 0 | L21: =J21+K21 -> 0 | M21: =IF(F21=3,C21,"0") -> 0 | N21: =IF(F21=3,D21,"0") -> 0 | O21: =IF(F21=3,E21,"0") -> 0 | P21: อุตสาหกรรมการท่องเที่ยวกลุ่มรายได้ดีและการท่องเที่ยวเชิงสุขภาพ
B22: รวมในหลักสูตร | C22: =SUM(C21) -> 10 | D22: =SUM(D21) -> 30 | E22: =SUM(E21) -> 40 | G22: =SUM(G21) -> 10 | H22: =SUM(H21) -> 30 | I22: =SUM(I21) -> 40 | J22: =SUM(J21) -> 0 | K22: =SUM(K21) -> 0 | L22: =SUM(L21) -> 0 | M22: =SUM(M21) -> 0 | N22: =SUM(N21) -> 0 | O22: =SUM(O21) -> 0
B23: รวมภาคปกติ | C23: =C16+C22+C19 -> 832 | D23: =D16+D22+D19 -> 1555 | E23: =E16+E22+E19 -> 2387 | F23: =F16+F22+F19 -> 0 | G23: =G16+G22+G19 -> 832 | H23: =H16+H22+H19 -> 1555 | I23: =I16+I22+I19 -> 2387 | J23: =J16+J22+J19 -> 0 | ... O23: =O16+O22+O19 -> 0
B24: ภาคพิเศษ
B25: ระดับปริญญาตรี - หลักสูตรศิลปศาสตรบัณฑิต (วุฒิ ปวช./ม.6)
B26: การจัดการการโรงแรม | C26: 21 | D26: 26 | E26: =C26+D26 -> 47 | F26: 1 | G26: =IF(F26=1,C26,"0") -> 21 | H26: =IF(F26=1,D26,"0") -> 26 | I26: =G26+H26 -> 47 | J26: =SUM(N26) -> 0 | K26: =SUM(N33) -> 0 | L26: =J26+K26 -> 0 | M26: =IF(F26=3,C26,"0") -> 0 | N26: =IF(F26=3,D26,"0") -> 0 | O26: =IF(F26=3,E26,"0") -> 0 | P26: อุตสาหกรรมการท่องเที่ยวกลุ่มรายได้ดีและการท่องเที่ยวเชิงสุขภาพ
B27: ภาษาอังกฤษเพื่อการสื่อสาร | C27: 28 | D27: 32 | E27: =C27+D27 -> 60 | F27: 1 | G27: =IF(F27=1,C27,"0") -> 28 | H27: =IF(F27=1,D27,"0") -> 32 | I27: =G27+H27 -> 60 | J27: =SUM(N27) -> 0 | K27: =SUM(N34) -> 0 | L27: =J27+K27 -> 0 | M27: =IF(F27=3,C27,"0") -> 0 | N27: =IF(F27=3,D27,"0") -> 0 | O27: =IF(F27=3,E27,"0") -> 0 | P27: อุตสาหกรรมการท่องเที่ยวกลุ่มรายได้ดีและการท่องเที่ยวเชิงสุขภาพ
B28: รวมในหลักสูตร | C28: =SUM(C26:C27) -> 49 | D28: =SUM(D26:D27) -> 58 | E28: =SUM(E26:E27) -> 107 | G28: =SUM(G26:G27) -> 49 | H28: =SUM(H26:H27) -> 58 | I28: =SUM(I26:I27) -> 107 | J28: =SUM(J27) -> 0 | K28: =SUM(K27) -> 0 | L28: =SUM(L27) -> 0 | M28: =SUM(M27) -> 0 | N28: =SUM(N27) -> 0 | O28: =SUM(O27) -> 0
B29: ระดับปริญญาตรี - หลักสูตรศิลปศาสตรบัณฑิต (วุฒิ ปวส. เทียบโอน)
B30: การจัดการการโรงแรม | C30: 2 | D30: 8 | E30: =C30+D30 -> 10 | F30: 1 | G30: =IF(F30=1,C30,"0") -> 2 | H30: =IF(F30=1,D30,"0") -> 8 | I30: =G30+H30 -> 10 | J30: =SUM(N30) -> 0 | K30: =SUM(N37) -> 0 | L30: =J30+K30 -> 0 | M30: =IF(F30=3,C30,"0") -> 0 | N30: =IF(F30=3,D30,"0") -> 0 | O30: =IF(F30=3,E30,"0") -> 0 | P30: อุตสาหกรรมการท่องเที่ยวกลุ่มรายได้ดีและการท่องเที่ยวเชิงสุขภาพ
B31: รวมในหลักสูตร | C31: =SUM(C30) -> 2 | D31: =SUM(D30) -> 8 | E31: =SUM(E30) -> 10 | F31: =SUM(F30) -> 1 | G31: =SUM(G30) -> 2 | H31: =SUM(H30) -> 8 | I31: =SUM(I30) -> 10 | J31: =SUM(J30) -> 0 | ... O31: =SUM(O30) -> 0
B32: รวมภาคพิเศษ | C32: =C31+C28 -> 51 | D32: =D31+D28 -> 66 | E32: =E31+E28 -> 117 | F32: =F31+F28 -> 1 | G32: =G31+G28 -> 51 | H32: =H31+H28 -> 66 | I32: =I31+I28 -> 117 | J32: =J31+J28 -> 0 | ... O32: =O31+O28 -> 0
B33: รวมทั้งคณะ | C33: =C23+C32 -> 883 | D33: =D23+D32 -> 1621 | E33: =E23+E32 -> 2504 | F33: =F23+F32 -> 1 | G33: =G23+G32 -> 883 | H33: =H23+H32 -> 1621 | I33: =I23+I32 -> 2504 | J33: =J23+J32 -> 0 | ... O33: =O23+O32 -> 0
A34: คณะครุศาสตร์อตุสาหกรรม
B35: ภาคปกติ
B36: ระดับปริญญาตรี - หลักสูตรครุศาสตร์อุตสาหกรรมบัณฑิต (วุฒิ ปวช./ม.6)
B37: วิศวกรรมคอมพิวเตอร์ | C37: 153 | D37: 76 | E37: =C37+D37 -> 229 | F37: 2 | G37: =IF(F37=1,C37,"0") -> 0 | H37: =IF(F37=1,D37,"0") -> 0 | I37: =G37+H37 -> 0 | J37: =IF(F37=2,C37,"0") -> 153 | K37: =IF(F37=2,D37,"0") -> 76 | L37: =J37+K37 -> 229 | M37: =IF(F37=3,C37,"0") -> 0 | N37: =IF(F37=3,D37,"0") -> 0 | O37: =IF(F37=3,E37,"0") -> 0 | P37: อุตสาหกรรมอิเล็กทรอนิกส์อัจฉริยะ/อุตสาหกรรมหุ่นยนต์เพื่ออุตสาหกรรม
B38: วิศวกรรมเครื่องกล | C38: 167 | D38: 22 | E38: =C38+D38 -> 189 | F38: 2 | G38: =IF(F38=1,C38,"0") -> 0 | H38: =IF(F38=1,D38,"0") -> 0 | I38: =G38+H38 -> 0 | J38: =IF(F38=2,C38,"0") -> 167 | K38: =IF(F38=2,D38,"0") -> 22 | L38: =J38+K38 -> 189 | M38: =IF(F38=3,C38,"0") -> 0 | N38: =IF(F38=3,D38,"0") -> 0 | O38: =IF(F38=3,E38,"0") -> 0 | P38: อุตสาหกรรมหุ่นยนต์เพื่ออุตสาหกรรม
B39: วิศวกรรมไฟฟ้า | C39: 123 | D39: 49 | E39: =C39+D39 -> 172 | F39: 2 | G39: =IF(F39=1,C39,"0") -> 0 | H39: =IF(F39=1,D39,"0") -> 0 | I39: =G39+H39 -> 0 | J39: =IF(F39=2,C39,"0") -> 123 | K39: =IF(F39=2,D39,"0") -> 49 | L39: =J39+K39 -> 172 | M39: =IF(F39=3,C39,"0") -> 0 | N39: =IF(F39=3,D39,"0") -> 0 | O39: =IF(F39=3,E39,"0") -> 0 | P39: อุตสาหกรรมอิเล็กทรอนิกส์อัจฉริยะ
B40: วิศวกรรมอิเล็กทรอนิกส์ | C40: 40 | D40: 31 | E40: =C40+D40 -> 71 | F40: 2 | G40: =IF(F40=1,C40,"0") -> 0 | H40: =IF(F40=1,D40,"0") -> 0 | I40: =G40+H40 -> 0 | J40: =IF(F40=2,C40,"0") -> 40 | K40: =IF(F40=2,D40,"0") -> 31 | L40: =J40+K40 -> 71 | M40: =IF(F40=3,C40,"0") -> 0 | N40: =IF(F40=3,D40,"0") -> 0 | O40: =IF(F40=3,E40,"0") -> 0 | P40: อุตสาหกรรมอิเล็กทรอนิกส์อัจฉริยะ
B41: วิศวกรรมอิเล็กทรอนิกส์และระบบอัตโนมัติ | C41: 34 | D41: 14 | E41: =C41+D41 -> 48 | F41: 2 | G41: =IF(F41=1,C41,"0") -> 0 | H41: =IF(F41=1,D41,"0") -> 0 | I41: =G41+H41 -> 0 | J41: =IF(F41=2,C41,"0") -> 34 | K41: =IF(F41=2,D41,"0") -> 14 | L41: =J41+K41 -> 48 | M41: =IF(F41=3,C41,"0") -> 0 | N41: =IF(F41=3,D41,"0") -> 0 | O41: =IF(F41=3,E41,"0") -> 0 | P41: อุตสาหกรรมอิเล็กทรอนิกส์อัจฉริยะ
B42: วิศวกรรมอุตสาหการ | C42: 105 | D42: 71 | E42: =C42+D42 -> 176 | F42: 2 | G42: =IF(F42=1,C42,"0") -> 0 | H42: =IF(F42=1,D42,"0") -> 0 | I42: =G42+H42 -> 0 | J42: =IF(F42=2,C42,"0") -> 105 | K42: =IF(F42=2,D42,"0") -> 71 | L42: =J42+K42 -> 176 | M42: =IF(F42=3,C42,"0") -> 0 | N42: =IF(F42=3,D42,"0") -> 0 | O42: =IF(F42=3,E42,"0") -> 0 | P42: อุตสาหกรรมหุ่นยนต์เพื่ออุตสาหกรรม
B43: รวมในหลักสูตร | C43: =SUM(C37:C42) -> 622 | D43: =SUM(D37:D42) -> 263 | E43: =SUM(E37:E42) -> 885 | G43: =SUM(G37:G42) -> 0 | H43: =SUM(H37:H42) -> 0 | I43: =SUM(I37:I42) -> 0 | J43: =SUM(J37:J42) -> 622 | K43: =SUM(K37:K42) -> 263 | L43: =SUM(L37:L42) -> 885 | M43: =SUM(M37:M42) -> 0 | N43: =SUM(N37:N42) -> 0 | O43: =SUM(O37:O42) -> 0
B44: ระดับปริญญาตรี - หลักสูตรครุศาสตร์อุตสาหกรรมบัณฑิต (วุฒิ ปวช./ม.6 ได้รับใบประกอบวิชาชีพครู)
B45: วิศวกรรมคอมพิวเตอร์ | C45: 6 | D45: 1 | E45: =C45+D45 -> 7 | F45: 2 | G45: =IF(F45=1,C45,"0") -> 0 | H45: =IF(F45=1,D45,"0") -> 0 | I45: =G45+H45 -> 0 | J45: =IF(F45=2,C45,"0") -> 6 | K45: =IF(F45=2,D45,"0") -> 1 | L45: =J45+K45 -> 7 | M45: =IF(F45=3,C45,"0") -> 0 | N45: =IF(F45=3,D45,"0") -> 0 | O45: =IF(F45=3,E45,"0") -> 0 | P45: อุตสาหกรรมอิเล็กทรอนิกส์อัจฉริยะ/อุตสาหกรรมหุ่นยนต์เพื่ออุตสาหกรรม
B46: วิศวกรรมอุตสาหการ | C46: 1 | D46: 0 | E46: =C46+D46 -> 1 | F46: 2 | G46: =IF(F46=1,C46,"0") -> 0 | H46: =IF(F46=1,D46,"0") -> 0 | I46: =G46+H46 -> 0 | J46: =IF(F46=2,C46,"0") -> 1 | K46: =IF(F46=2,D46,"0") -> 0 | L46: =J46+K46 -> 1 | M46: =IF(F46=3,C46,"0") -> 0 | N46: =IF(F46=3,D46,"0") -> 0 | O46: =IF(F46=3,E46,"0") -> 0 | P46: อุตสาหกรรมหุ่นยนต์เพื่ออุตสาหกรรม
B47: วิศวกรรมอิเล็กทรอนิกส์และโทรคมนาคม-โทรคมนาคม | C47: 1 | D47: 0 | E47: =C47+D47 -> 1 | F47: 2 | G47: =IF(F47=1,C47,"0") -> 0 | H47: =IF(F47=1,D47,"0") -> 0 | I47: =G47+H47 -> 0 | J47: =IF(F47=2,C47,"0") -> 1 | K47: =IF(F47=2,D47,"0") -> 0 | L47: =J47+K47 -> 1 | M47: =IF(F47=3,C47,"0") -> 0 | N47: =IF(F47=3,D47,"0") -> 0 | O47: =IF(F47=3,E47,"0") -> 0 | P47: อุตสาหกรรมอิเล็กทรอนิกส์อัจฉริยะ | Q47: *
B48: รวมในหลักสูตร | C48: =SUM(C45:C47) -> 8 | D48: =SUM(D45:D47) -> 1 | E48: =SUM(E45:E47) -> 9 | G48: =SUM(G45:G47) -> 0 | H48: =SUM(H45:H47) -> 0 | I48: =SUM(I45:I47) -> 0 | J48: =SUM(J45:J47) -> 8 | K48: =SUM(K45:K47) -> 1 | L48: =SUM(L45:L47) -> 9 | M48: =SUM(M45:M47) -> 0 | N48: =SUM(N45:N47) -> 0 | O48: =SUM(O45:O47) -> 0
B49: ระดับปริญญาตรี - หลักสูตรศึกษาศาสตรบัณฑิต (วุฒิ ปวช./ม.6)
B50: เทคโนโลยีดิจิทัลเพื่อการศึกษา | C50: 27 | D50: 17 | E50: =C50+D50 -> 44 | F50: 2 | G50: =IF(F50=1,C50,"0") -> 0 | H50: =IF(F50=1,D50,"0") -> 0 | I50: =G50+H50 -> 0 | J50: =IF(F50=2,C50,"0") -> 27 | K50: =IF(F50=2,D50,"0") -> 17 | L50: =J50+K50 -> 44 | M50: =IF(F50=3,C50,"0") -> 0 | N50: =IF(F50=3,D50,"0") -> 0 | O50: =IF(F50=3,E50,"0") -> 0 | P50: อุตสาหกรรมพัฒนาคนและการศึกษา
B51: เทคโนโลยีดิจิทัลเพื่อการศึกษาและคอมพิวเตอร์ศึกษา | C51: 74 | D51: 43 | E51: =C51+D51 -> 117 | F51: 2 | G51: =IF(F51=1,C51,"0") -> 0 | H51: =IF(F51=1,D51,"0") -> 0 | I51: =G51+H51 -> 0 | J51: =IF(F51=2,C51,"0") -> 74 | K51: =IF(F51=2,D51,"0") -> 43 | L51: =J51+K51 -> 117 | M51: =IF(F51=3,C51,"0") -> 0 | N51: =IF(F51=3,D51,"0") -> 0 | O51: =IF(F51=3,E51,"0") -> 0 | P51: อุตสาหกรรมการพัฒนาทรัพยากรมนุษย์และการวิจัยและพัฒนา
B52: เทคโนโลยีและสื่อสารการศึกษา | C52: 81 | D52: 103 | E52: =C52+D52 -> 184 | F52: 2 | G52: =IF(F52=1,C52,"0") -> 0 | H52: =IF(F52=1,D52,"0") -> 0 | I52: =G52+H52 -> 0 | J52: =IF(F52=2,C52,"0") -> 81 | K52: =IF(F52=2,D52,"0") -> 103 | L52: =J52+K52 -> 184 | M52: =IF(F52=3,C52,"0") -> 0 | N52: =IF(F52=3,D52,"0") -> 0 | O52: =IF(F52=3,E52,"0") -> 0 | P52: อุตสาหกรรมพัฒนาคนและการศึกษา
B53: รวมในหลักสูตร | C53: =SUM(C50:C52) -> 182 | D53: =SUM(D50:D52) -> 163 | E53: =SUM(E50:E52) -> 345 | G53: =SUM(G52:G52) -> 0 | H53: =SUM(H52:H52) -> 0 | I53: =SUM(I52:I52) -> 0 | J53: =SUM(J50:J52) -> 182 | K53: =SUM(K50:K52) -> 163 | L53: =SUM(L50:L52) -> 345 | M53: =SUM(M50:M52) -> 0 | N53: =SUM(N50:N52) -> 0 | O53: =SUM(O50:O52) -> 0
B54: ระดับปริญญาตรี - หลักสูตรวิทยาศาสตรบัณฑิต (วุฒิ ปวช./ม.6)
B55: นวัตกรรมการเรียนรู้และเทคโนโลยีสารสนเทศ | C55: 252 | D55: 51 | E55: =C55+D55 -> 303 | F55: 2 | G55: =IF(F55=1,C55,"0") -> 0 | H55: =IF(F55=1,D55,"0") -> 0 | I55: =G55+H55 -> 0 | J55: =IF(F55=2,C55,"0") -> 252 | K55: =IF(F55=2,D55,"0") -> 51 | L55: =J55+K55 -> 303 | M55: =IF(F55=3,C55,"0") -> 0 | N55: =IF(F55=3,D55,"0") -> 0 | O55: =IF(F55=3,E55,"0") -> 0 | P55: อุตสาหกรรมพัฒนาคนและการศึกษา
B56: รวมในหลักสูตร | C56: =C55 -> 252 | D56: =D55 -> 51 | E56: =E55 -> 303 | G56: =G55 -> 0 | H56: =H55 -> 0 | I56: =I55 -> 0 | J56: =J55 -> 252 | K56: =K55 -> 51 | L56: =L55 -> 303 | M56: =M55 -> 0 | N56: =N55 -> 0 | O56: =O55 -> 0
B57: ระดับปริญญาตรี - หลักสูตรอุตสาหกรรมศาสตรบัณฑิต (วุฒิ ปวช./ม.6)
B58: เทคโนโลยีบริหารงานก่อสร้าง | C58: 100 | D58: 33 | E58: =C58+D58 -> 133 | F58: 2 | G58: =IF(F58=1,C58,"0") -> 0 | H58: =IF(F58=1,D58,"0") -> 0 | I58: =G58+H58 -> 0 | J58: =IF(F58=2,C58,"0") -> 100 | K58: =IF(F58=2,D58,"0") -> 33 | L58: =J58+K58 -> 133 | M58: =IF(F58=3,C58,"0") -> 0 | N58: =IF(F58=3,D58,"0") -> 0 | O58: =IF(F58=3,E58,"0") -> 0 | P58: อุตสาหกรรมอิเล็กทรอนิกส์อัจฉริยะ
B59: รวมในหลักสูตร | C59: =SUM(C58:C58) -> 100 | D59: =SUM(D58:D58) -> 33 | E59: =SUM(E58:E58) -> 133 | G59: =SUM(G58:G58) -> 0 | H59: =SUM(H58:H58) -> 0 | I59: =SUM(I58:I58) -> 0 | J59: =SUM(J58:J58) -> 100 | K59: =SUM(K58:K58) -> 33 | L59: =SUM(L58:L58) -> 133 | M59: =SUM(M58:M58) -> 0 | N59: =SUM(N58:N58) -> 0 | O59: =SUM(O58:O58) -> 0
B60: ระดับปริญญาตรี - หลักสูตรวิศวกรรมศาสตรบัณฑิต (วุฒิ ปวช./ม.6)
B61: วิศวกรรมเมคคาทรอนิกส์ | C61: 100 | D61: 23 | E61: =C61+D61 -> 123 | F61: 2 | G61: =IF(F61=1,C61,"0") -> 0 | H61: =IF(F61=1,D61,"0") -> 0 | I61: =G61+H61 -> 0 | J61: =IF(F61=2,C61,"0") -> 100 | K61: =IF(F61=2,D61,"0") -> 23 | L61: =J61+K61 -> 123 | M61: =IF(F61=3,C61,"0") -> 0 | N61: =IF(F61=3,D61,"0") -> 0 | O61: =IF(F61=3,E61,"0") -> 0 | P61: อุตสาหกรรมหุ่นยนต์เพื่ออุตสาหกรรม
B62: รวมในหลักสูตร | C62: =C61 -> 100 | D62: =D61 -> 23 | E62: =E61 -> 123 | G62: =G61 -> 0 | H62: =H61 -> 0 | I62: =I61 -> 0 | J62: =J61 -> 100 | K62: =K61 -> 23 | L62: =L61 -> 123 | M62: =M61 -> 0 | N62: =N61 -> 0 | O62: =O61 -> 0
B63: ระดับปริญญาตรี - หลักสูตรอุตสาหกรรมศาสตรบัณฑิต (วุฒิ ปวส. ต่อเนื่อง)
B64: เทคโนโลยีการผลิต | C64: 96 | D64: 13 | E64: =C64+D64 -> 109 | F64: 2 | G64: =IF(F64=1,C64,"0") -> 0 | H64: =IF(F64=1,D64,"0") -> 0 | I64: =G64+H64 -> 0 | J64: =IF(F64=2,C64,"0") -> 96 | K64: =IF(F64=2,D64,"0") -> 13 | L64: =J64+K64 -> 109 | M64: =IF(F64=3,C64,"0") -> 0 | N64: =IF(F64=3,D64,"0") -> 0 | O64: =IF(F64=3,E64,"0") -> 0 | P64: อุตสาหกรรมหุ่นยนต์เพื่ออุตสาหกรรม
B65: อิเล็กทรอนิกส์อัจฉริยะ | C65: 46 | D65: 7 | E65: =C65+D65 -> 53 | F65: 2 | G65: =IF(F65=1,C65,"0") -> 0 | H65: =IF(F65=1,D65,"0") -> 0 | I65: =G65+H65 -> 0 | J65: =IF(F65=2,C65,"0") -> 46 | K65: =IF(F65=2,D65,"0") -> 7 | L65: =J65+K65 -> 53 | M65: =IF(F65=3,C65,"0") -> 0 | N65: =IF(F65=3,D65,"0") -> 0 | O65: =IF(F65=3,E65,"0") -> 0 | P65: อุตสาหกรรมอิเล็กทรอนิกส์อัจฉริยะ
B66: รวมในหลักสูตร | C66: =SUM(C64:C65) -> 142 | D66: =SUM(D64:D65) -> 20 | E66: =SUM(E64:E65) -> 162 | G66: =G65 -> 0 | H66: =H65 -> 0 | I66: =I65 -> 0 | J66: =SUM(J64:J65) -> 142 | K66: =SUM(K64:K65) -> 20 | L66: =SUM(L64:L65) -> 162 | M66: =SUM(M64:M65) -> 0 | N66: =SUM(N64:N65) -> 0 | O66: =SUM(O64:O65) -> 0
B67: ระดับปริญญาตรี - หลักสูตรวิศวกรรมศาสตรบัณฑิต (วุฒิ ปวส. เทียบโอน)
B68: วิศวกรรมเมคคาทรอนิกส์ | C68: 221 | D68: 59 | E68: =C68+D68 -> 280 | F68: 2 | G68: =IF(F68=1,C68,"0") -> 0 | H68: =IF(F68=1,D68,"0") -> 0 | I68: =G68+H68 -> 0 | J68: =IF(F68=2,C68,"0") -> 221 | K68: =IF(F68=2,D68,"0") -> 59 | L68: =J68+K68 -> 280 | M68: =IF(F68=3,C68,"0") -> 0 | N68: =IF(F68=3,D68,"0") -> 0 | O68: =IF(F68=3,E68,"0") -> 0 | P68: อุตสาหกรรมหุ่นยนต์เพื่ออุตสาหกรรม
B69: รวมในหลักสูตร | C69: =C68 -> 221 | D69: =D68 -> 59 | E69: =E68 -> 280 | F69: =F68 -> 2 | G69: =G68 -> 0 | H69: =H68 -> 0 | I69: =I68 -> 0 | J69: =J68 -> 221 | ... O69: =O68 -> 0
B70: รวมภาคปกติ | C70: =C43+C48+C53+C56+C59+C62+C66+C69 -> 1627 | D70: =D43+D48+D53+D56+D59+D62+D66+D69 -> 613 | E70: =E43+E48+E53+E56+E59+E62+E66+E69 -> 2240 | G70: =G43+G48+G53+G56+G59+G62+G66+G69 -> 0 | H70: =H43+H48+H53+H56+H59+H62+H66+H69 -> 0 | I70: =I43+I48+I53+I56+I59+I62+I66+I69 -> 0 | J70: =J43+J48+J53+J56+J59+J62+J66+J69 -> 1627 | K70: =K43+K48+K53+K56+K59+K62+K66+K69 -> 613 | L70: =L43+L48+L53+L56+L59+L62+L66+L69 -> 2240 | M70: =M43+M48+M53+M56+M59+M62+M66+M69 -> 0 | N70: =N43+N48+N53+N56+N59+N62+N66+N69 -> 0 | O70: =O43+O48+O53+O56+O59+O62+O66+O69 -> 0
B71: ภาคพิเศษ
B72: ระดับปริญญาตรี - หลักสูตรอุตสาหกรรมศาสตรบัณฑิต (วุฒิ ปวส. ต่อเนื่อง)
B73: เทคโนโลยีการผลิต | C73: 34 | D73: 3 | E73: =C73+D73 -> 37 | F73: 2 | G73: =IF(F73=1,C73,"0") -> 0 | H73: =IF(F73=1,D73,"0") -> 0 | I73: =G73+H73 -> 0 | J73: =IF(F73=2,C73,"0") -> 34 | K73: =IF(F73=2,D73,"0") -> 3 | L73: =J73+K73 -> 37 | M73: =IF(F73=3,C73,"0") -> 0 | N73: =IF(F73=3,D73,"0") -> 0 | O73: =IF(F73=3,E73,"0") -> 0 | P73: อุตสาหกรรมหุ่นยนต์เพื่ออุตสาหกรรม
B74: รวมในหลักสูตร | C74: =SUM(C73:C73) -> 34 | D74: =SUM(D73:D73) -> 3 | E74: =SUM(E73:E73) -> 37 | F74: =SUM(F73:F73) -> 2 | G74: =SUM(G73:G73) -> 0 | H74: =SUM(H73:H73) -> 0 | I74: =SUM(I73:I73) -> 0 | J74: =SUM(J73:J73) -> 34 | ... O74: =SUM(O73:O73) -> 0
B75: ระดับปริญญาตรี - หลักสูตรวิศวกรรมศาสตรบัณฑิต (วุฒิ ปวส. เทียบโอน)
B76: วิศวกรรมเมคคาทรอนิกส์ | C76: 10 | D76: 0 | E76: =C76+D76 -> 10 | F76: 2 | G76: =IF(F76=1,C76,"0") -> 0 | H76: =IF(F76=1,D76,"0") -> 0 | I76: =G76+H76 -> 0 | J76: =IF(F76=2,C76,"0") -> 10 | K76: =IF(F76=2,D76,"0") -> 0 | L76: =J76+K76 -> 10 | M76: =IF(I76=2,F76,"0") -> 0 | N76: =IF(I76=2,G76,"0") -> 0 | O76: =IF(H76=3,E76,"0") -> 0 | P76: อุตสาหกรรมหุ่นยนต์เพื่ออุตสาหกรรม
B77: รวมในหลักสูตร | C77: =SUM(C76:C76) -> 10 | D77: =SUM(D76:D76) -> 0 | E77: =SUM(E76:E76) -> 10 | F77: =SUM(F76:F76) -> 2 | G77: =SUM(G76:G76) -> 0 | H77: =SUM(H76:H76) -> 0 | I77: =SUM(I76:I76) -> 0 | J77: =SUM(J76:J76) -> 10 | ... O77: =SUM(O76:O76) -> 0
B78: รวมภาคพิเศษ | C78: =C74+C77 -> 44 | D78: =D74+D77 -> 3 | E78: =E74+E77 -> 47 | G78: =G74+G77 -> 0 | H78: =H74+H77 -> 0 | I78: =I74+I77 -> 0 | J78: =J74+J77 -> 44 | K78: =K74+K77 -> 3 | L78: =L74+L77 -> 47 | M78: =M74+M77 -> 0 | N78: =N74+N77 -> 0 | O78: =O74+O77 -> 0
B79: รวมทั้งคณะ | C79: =C70+C78 -> 1671 | D79: =D70+D78 -> 616 | E79: =E70+E78 -> 2287 | G79: =G70+G78 -> 0 | H79: =H70+H78 -> 0 | I79: =I70+I78 -> 0 | J79: =J70+J78 -> 1671 | K79: =K70+K78 -> 616 | L79: =L70+L78 -> 2287 | M79: =M70+M78 -> 0 | N79: =N70+N78 -> 0 | O79: =O70+O78 -> 0
A80: คณะเทคโนโลยีการเกษตร
B81: ภาคปกติ
B82: ระดับปริญญาตรี - หลักสูตรวิทยาศาสตรบัณฑิต (วุฒิ ปวช./ม.6)
B83: การผลิตพืช | C83: 100 | D83: 64 | E83: =C83+D83 -> 164 | F83: 2 | G83: =IF(F83=1,C83,"0") -> 0 | H83: =IF(F83=1,D83,"0") -> 0 | I83: =G83+H83 -> 0 | J83: =IF(F83=2,C83,"0") -> 100 | K83: =IF(F83=2,D83,"0") -> 64 | L83: =J83+K83 -> 164 | M83: =IF(F83=3,C83,"0") -> 0 | N83: =IF(F83=3,D83,"0") -> 0 | O83: =IF(F83=3,E83,"0") -> 0 | P83: อุตสาหกรรมการเกษตรและเทคโนโลยีชีวภาพ
B84: การพยาบาลสัตว์ | C84: 6 | D84: 74 | E84: =C84+D84 -> 80 | F84: 2 | G84: =IF(F84=1,C84,"0") -> 0 | H84: =IF(F84=1,D84,"0") -> 0 | I84: =G84+H84 -> 0 | J84: =IF(F84=2,C84,"0") -> 6 | K84: =IF(F84=2,D84,"0") -> 74 | L84: =J84+K84 -> 80 | M84: =IF(F84=3,C84,"0") -> 0 | N84: =IF(F84=3,D84,"0") -> 0 | O84: =IF(F84=3,E84,"0") -> 0 | P84: อุตสาหกรรมการเกษตรและเทคโนโลยีชีวภาพ
B85: เทคโนโลยีภูมิทัศน์ | C85: 77 | D85: 45 | E85: =C85+D85 -> 122 | F85: 2 | G85: =IF(F85=1,C85,"0") -> 0 | H85: =IF(F85=1,D85,"0") -> 0 | I85: =G85+H85 -> 0 | J85: =IF(F85=2,C85,"0") -> 77 | K85: =IF(F85=2,D85,"0") -> 45 | L85: =J85+K85 -> 122 | M85: =IF(F85=3,C85,"0") -> 0 | N85: =IF(F85=3,D85,"0") -> 0 | O85: =IF(F85=3,E85,"0") -> 0 | P85: อุตสาหกรรมการเกษตรและเทคโนโลยีชีวภาพ
B86: เทคโนโลยีอาหาร | C86: 39 | D86: 76 | E86: =C86+D86 -> 115 | F86: 2 | G86: =IF(F86=1,C86,"0") -> 0 | H86: =IF(F86=1,D86,"0") -> 0 | I86: =G86+H86 -> 0 | J86: =IF(F86=2,C86,"0") -> 39 | K86: =IF(F86=2,D86,"0") -> 76 | L86: =J86+K86 -> 115 | M86: =IF(F86=3,C86,"0") -> 0 | N86: =IF(F86=3,D86,"0") -> 0 | O86: =IF(F86=3,E86,"0") -> 0 | P86: อุตสาหกรรมการแปรรูปอาหาร
B87: ประมง | C87: 94 | D87: 46 | E87: =C87+D87 -> 140 | F87: 2 | G87: =IF(F87=1,C87,"0") -> 0 | H87: =IF(F87=1,D87,"0") -> 0 | I87: =G87+H87 -> 0 | J87: =IF(F87=2,C87,"0") -> 94 | K87: =IF(F87=2,D87,"0") -> 46 | L87: =J87+K87 -> 140 | M87: =IF(F87=3,C87,"0") -> 0 | N87: =IF(F87=3,D87,"0") -> 0 | O87: =IF(F87=3,E87,"0") -> 0 | P87: อุตสาหกรรมการเกษตรและเทคโนโลยีชีวภาพ
B88: วิทยาศาสตร์และเทคโนโลยีการอาหาร | C88: 20 | D88: 52 | E88: =C88+D88 -> 72 | F88: 2 | G88: =IF(F88=1,C88,"0") -> 0 | H88: =IF(F88=1,D88,"0") -> 0 | I88: =G88+H88 -> 0 | J88: =IF(F88=2,C88,"0") -> 20 | K88: =IF(F88=2,D88,"0") -> 52 | L88: =J88+K88 -> 72 | M88: =IF(F88=3,C88,"0") -> 0 | N88: =IF(F88=3,D88,"0") -> 0 | O88: =IF(F88=3,E88,"0") -> 0 | P88: อุตสาหกรรมการแปรรูปอาหาร
B89: สัตวศาสตร์ | C89: 93 | D89: 204 | E89: =C89+D89 -> 297 | F89: 2 | G89: =IF(F89=1,C89,"0") -> 0 | H89: =IF(F89=1,D89,"0") -> 0 | I89: =G89+H89 -> 0 | J89: =IF(F89=2,C89,"0") -> 93 | K89: =IF(F89=2,D89,"0") -> 204 | L89: =J89+K89 -> 297 | M89: =IF(F89=3,C89,"0") -> 0 | N89: =IF(F89=3,D89,"0") -> 0 | O89: =IF(F89=3,E89,"0") -> 0 | P89: อุตสาหกรรมการเกษตรและเทคโนโลยีชีวภาพ
B90: รวมในหลักสูตร | C90: =SUM(C83:C89) -> 429 | D90: =SUM(D83:D89) -> 561 | E90: =SUM(E83:E89) -> 990 | G90: =SUM(G83:G89) -> 0 | H90: =SUM(H83:H89) -> 0 | I90: =SUM(I83:I89) -> 0 | J90: =SUM(J83:J89) -> 429 | K90: =SUM(K83:K89) -> 561 | L90: =SUM(L83:L89) -> 990 | M90: =SUM(M83:M89) -> 0 | N90: =SUM(N83:N89) -> 0 | O90: =SUM(O83:O89) -> 0
B91: ระดับปริญญาตรี - หลักสูตรวิทยาศาสตรบัณฑิต (วุฒิ ปวส.ต่อเนื่อง)
B92: เทคโนโลยีอาหาร | C92: 1 | D92: 5 | E92: =SUM(C92:D92) -> 6 | F92: 2 | G92: =IF(F92=1,C92,"0") -> 0 | H92: =IF(F92=1,D92,"0") -> 0 | I92: =G92+H92 -> 0 | J92: =IF(F92=2,C92,"0") -> 1 | K92: =IF(F92=2,D92,"0") -> 5 | L92: =J92+K92 -> 6 | M92: =IF(F92=3,C92,"0") -> 0 | N92: =IF(F92=3,D92,"0") -> 0 | O92: =IF(F92=3,E92,"0") -> 0 | P92: อุตสาหกรรมการแปรรูปอาหาร
B93: รวมในหลักสูตร | C93: =SUM(C91:C92) -> 1 | D93: =SUM(D91:D92) -> 5 | E93: =SUM(E91:E92) -> 6 | F93: =SUM(F91:F92) -> 2 | G93: =SUM(G91:G92) -> 0 | H93: =SUM(H91:H92) -> 0 | I93: =SUM(I91:I92) -> 0 | J93: =SUM(J91:J92) -> 1 | ... O93: =SUM(O91:O92) -> 0
B94: รวมภาคปกติ | C94: =C90+C93 -> 430 | D94: =D90+D93 -> 566 | E94: =E90+E93 -> 996 | G94: =G90+G93 -> 0 | H94: =H90+H93 -> 0 | I94: =I90+I93 -> 0 | J94: =J90+J93 -> 430 | K94: =K90+K93 -> 566 | L94: =L90+L93 -> 996 | M94: =M90+M93 -> 0 | N94: =N90+N93 -> 0 | O94: =O90+O93 -> 0
B95: รวมทั้งคณะ | C95: =C94 -> 430 | D95: =D94 -> 566 | E95: =E94 -> 996 | G95: =G94 -> 0 | H95: =H94 -> 0 | I95: =I94 -> 0 | J95: =J94 -> 430 | K95: =K94 -> 566 | L95: =L94 -> 996 | M95: =M94 -> 0 | N95: =N94 -> 0 | O95: =O94 -> 0
A96: คณะวิศวกรรมศาสตร์
B97: ภาคปกติ
B98: ระดับปริญญาตรี - หลักสูตรวิศวกรรมศาสตรบัณฑิต (วุฒิ ปวช./ม.6)
B99: วิศวกรรม | C99: 344 | D99: 176 | E99: =SUM(C99:D99) -> 520 | F99: 2 | G99: =IF(F99=1,C99,"0") -> 0 | H99: =IF(F99=1,D99,"0") -> 0 | I99: =G99+H99 -> 0 | J99: =IF(F99=2,C99,"0") -> 344 | K99: =IF(F99=2,D99,"0") -> 176 | L99: =J99+K99 -> 520 | M99: =IF(F99=3,C99,"0") -> 0 | N99: =IF(F99=3,D99,"0") -> 0 | O99: =IF(F99=3,E99,"0") -> 0
B100: วิศวกรรมการผลิตวัสดุสิ่งทอที่ยั่งยืน | C100: 53 | D100: 43 | E100: =SUM(C100:D100) -> 96 | F100: 2 | G100: =IF(F100=1,C100,"0") -> 0 | H100: =IF(F100=1,D100,"0") -> 0 | I100: =G100+H100 -> 0 | J100: =IF(F100=2,C100,"0") -> 53 | K100: =IF(F100=2,D100,"0") -> 43 | L100: =J100+K100 -> 96 | M100: =IF(F100=3,C100,"0") -> 0 | N100: =IF(F100=3,D100,"0") -> 0 | O100: =IF(F100=3,E100,"0") -> 0 | P100: อุตสาหกรรมยานยนต์สมัยใหม่
...

Sheet กราฟ
A1: 1.ศิลปศาสตร์ | B1: =นักศึกษาทั้งหมด!E33 -> 2504
A2: 2.ครุศาสตร์อุตสาหกรรม | B2: =นักศึกษาทั้งหมด!E79 -> 2287
A3: 3.เทคโนโลยีการเกษตร | B3: =นักศึกษาทั้งหมด!E95 -> 996
A4: 4.วิศวกรรมศาสตร์ | B4: =นักศึกษาทั้งหมด!E163 -> 5238
A5: 5.บริหารธุรกิจ | B5: =นักศึกษาทั้งหมด!E210 -> 6086
A6: 6.เทคโนโลยีคหกรรมศาสตร์ | B6: =นักศึกษาทั้งหมด!E230 -> 1369
A7: 7.ศิลปกรรมศาสตร์ | B7: =นักศึกษาทั้งหมด!E257 -> 1591
A8: 8.เทคโนโลยีสื่อสารมวลชน | B8: =นักศึกษาทั้งหมด!E284 -> 1512
A9: 9.วิทยาศาสตร์และเทคโนโลยี | B9: =นักศึกษาทั้งหมด!E308 -> 1388
A10: 10.สถาปัตยกรรมศาสตร์ | B10: =นักศึกษาทั้งหมด!E316 -> 824
A11: 11.ะการแพทย์บูรณาการ | B11: =นักศึกษาทั้งหมด!E327 -> 479
A12: 12.พยาบาลศาสตร์ | B12: =นักศึกษาทั้งหมด!E334 -> 473
B13: =SUM(B1:B12) -> 24747
