Workbook

Sheet นักศึกษาทั้งหมด
A1: จำนวนนักศึกษาทั้งหมด ปีการศึกษา 2569
A2: จำแนกตามคณะ สาขาวิชา ระดับการศึกษา และเพศ
A3: คณะ/สาขาวิชา | C3: ระดับปริญญาตรี
C4: จำนวนนักศึกษาทั้งหมด | G4: ผลผลิต | P4: กลุ่มอุตสาหกรรมเป้าหมาย (14 S-Curve)
G5: ด้านสังคมศาสตร์ | J5: ด้านวิทยาศาสตร์ | M5: ด้านวิทยาศาสตร์สุขภาพ
C6: ชาย | D6: หญิง | E6: รวม | G6: ชาย | H6: หญิง | I6: รวม | J6: ชาย | K6: หญิง | L6: รวม | M6: ชาย | N6: หญิง | O6: รวม
A7: คณะศิลปศาสตร์
B8: ภาคปกติ
B9: ระดับปริญญาตรี - หลักสูตรศิลปศาสตรบัณฑิต (วุฒิ ปวช./ม.6)
B10: การจัดการการโรงแรม | C10: 159 | D10: 384 | E10: =C10+D10 -> 543 | F10: 1 | G10: =IF(F10=1,C10,"0") -> 159 | H10: =IF(F10=1,D10,"0") -> 384 | I10: =G10+H10 -> 543 | J10: =IF(F10=2,C10,"0") -> 0 | K10: =IF(F10=2,D10,"0") -> 0 | L10: =J10+K10 -> 0 | M10: =IF(F10=3,C10,"0") -> 0 | N10: =IF(F10=3,D10,"0") -> 0 | O10: =IF(F10=3,E10,"0") -> 0 | P10: อุตสาหกรรมการท่องเที่ยวกลุ่มรายได้ดีและการท่องเที่ยวเชิงสุขภาพ
B11: การท่องเที่ยว | C11: 121 | D11: 332 | E11: =C11+D11 -> 453 | F11: 1 | G11: =IF(F11=1,C11,"0") -> 121 | H11: =IF(F11=1,D11,"0") -> 332 | I11: =G11+H11 -> 453 | J11: =IF(F11=2,C11,"0") -> 0 | K11: =IF(F11=2,D11,"0") -> 0 | L11: =J11+K11 -> 0 | M11: =IF(F11=3,C11,"0") -> 0 | N11: =IF(F11=3,D11,"0") -> 0 | O11: =IF(F11=3,E11,"0") -> 0 | P11: อุตสาหกรรมการท่องเที่ยวกลุ่มรายได้ดีและการท่องเที่ยวเชิงสุขภาพ
B12: พลศึกษา | C12: 266 | D12: 60 | E12: =C12+D12 -> 326 | F12: 1 | G12: =IF(F12=1,C12,"0") -> 266 | H12: =IF(F12=1,D12,"0") -> 60 | I12: =G12+H12 -> 326 | J12: =IF(F12=2,C12,"0") -> 0 | K12: =IF(F12=2,D12,"0") -> 0 | L12: =J12+K12 -> 0 | M12: =IF(F12=3,C12,"0") -> 0 | N12: =IF(F12=3,D12,"0") -> 0 | O12: =IF(F12=3,E12,"0") -> 0 | P12: อุตสาหกรรมการแพทย์ครบวงจร
B13: ภาษาไทยและภาษาจีนเพื่ออุตสาหกรรมการบริการ | C13: 17 | D13: 170 | E13: =C13+D13 -> 187 | F13: 1 | G13: =IF(F13=1,C13,"0") -> 17 | H13: =IF(F13=1,D13,"0") -> 170 | I13: =G13+H13 -> 187 | J13: =IF(F13=2,C13,"0") -> 0 | K13: =IF(F13=2,D13,"0") -> 0 | L13: =J13+K13 -> 0 | M13: =IF(F13=3,C13,"0") -> 0 | N13: =IF(F13=3,D13,"0") -> 0 | O13: =IF(F13=3,E13,"0") -> 0 | P13: อุตสาหกรรมการท่องเที่ยวกลุ่มรายได้ดีและการท่องเที่ยวเชิงสุขภาพ/อุตสาหกรรมพัฒนาคนและการศึกษา
B14: ภาษาอังกฤษเพื่อการสื่อสาร | C14: 175 | D14: 311 | E14: =C14+D14 -> 486 | F14: 1 | G14: =IF(F14=1,C14,"0") -> 175 | H14: =IF(F14=1,D14,"0") -> 311 | I14: =G14+H14 -> 486 | J14: =IF(F14=2,C14,"0") -> 0 | K14: =IF(F14=2,D14,"0") -> 0 | L14: =J14+K14 -> 0 | M14: =IF(F14=3,C14,"0") -> 0 | N14: =IF(F14=3,D14,"0") -> 0 | O14: =IF(F14=3,E14,"0") -> 0 | P14: อุตสาหกรรมการท่องเที่ยวกลุ่มรายได้ดีและการท่องเที่ยวเชิงสุขภาพ
B15: อุตสาหกรรมการบริการการบิน | C15: 70 | D15: 239 | E15: =C15+D15 -> 309 | F15: 1 | G15: =IF(F15=1,C15,"0") -> 70 | H15: =IF(F15=1,D15,"0") -> 239 | I15: =G15+H15 -> 309 | J15: =IF(F15=2,C15,"0") -> 0 | K15: =IF(F15=2,D15,"0") -> 0 | L15: =J15+K15 -> 0 | M15: =IF(F15=3,C15,"0") -> 0 | N15: =IF(F15=3,D15,"0") -> 0 | O15: =IF(F15=3,E15,"0") -> 0 | P15: อุตสาหกรรมขนส่งและการบิน
B16: รวมในหลักสูตร | C16: =SUM(C10:C15) -> 808 | D16: =SUM(D10:D15) -> 1496 | E16: =SUM(E10:E15) -> 2304 | G16: =SUM(G10:G15) -> 808 | H16: =SUM(H10:H15) -> 1496 | I16: =SUM(I10:I15) -> 2304 | J16: =SUM(J10:J15) -> 0 | K16: =SUM(K10:K15) -> 0 | L16: =SUM(L10:L15) -> 0 | M16: =SUM(M10:M15) -> 0 | N16: =SUM(N10:N15) -> 0 | O16: =SUM(O10:O15) -> 0
B17: ระดับปริญญาตรี - หลักสูตรศิลปศาสตรบัณฑิต (หลักสูตรนานาชาติ)
B18: ภาษาอังกฤษเพื่ออาชีพนานาชาติ | C18: 14 | D18: 29 | E18: =C18+D18 -> 43 | F18: 1 | G18: =IF(F18=1,C18,"0") -> 14 | H18: =IF(F18=1,D18,"0") -> 29 | I18: =G18+H18 -> 43 | J18: =IF(F18=2,C18,"0") -> 0 | K18: =IF(F18=2,D18,"0") -> 0 | L18: =J18+K18 -> 0 | M18: =IF(F18=3,C18,"0") -> 0 | N18: =IF(F18=3,D18,"0") -> 0 | O18: =IF(F18=3,E18,"0") -> 0 | P18: อุตสาหกรรมพัฒนาคนและการศึกษา
B19: รวมในหลักสูตร | C19: =SUM(C18) -> 14 | D19: =SUM(D18) -> 29 | E19: =SUM(E18) -> 43 | G19: =SUM(G18) -> 14 | H19: =SUM(H18) -> 29 | I19: =SUM(I18) -> 43 | J19: =SUM(J18) -> 0 | K19: =SUM(K18) -> 0 | L19: =SUM(L18) -> 0 | M19: =SUM(M18) -> 0 | N19: =SUM(N18) -> 0 | O19: =SUM(O18) -> 0
B20: ระดับปริญญาตรี - หลักสูตรศิลปศาสตรบัณฑิต (วุฒิ ปวส. เทียบโอน)
B21: การจัดการการโรงแรม | C21: 10 | D21: 30 | E21: =C21+D21 -> 40 | F21: 1 | G21: =IF(F21=1,C21,"0") -> 10 | H21: =IF(F21=1,D21,"0") -> 30 | I21: =G21+H21 -> 40 | J21: =SUM(N21) -> 0 | K21: =SUM(N25) -> 0 | L21: =J21+K21 -> 0 | M21: =IF(F21=3,C21,"0") -> 0 | N21: =IF(F21=3,D21,"0") -> 0 | O21: =IF(F21=3,E21,"0") -> 0 | P21: อุตสาหกรรมการท่องเที่ยวกลุ่มรายได้ดีและการท่องเที่ยวเชิงสุขภาพ
B22: รวมในหลักสูตร | C22: =SUM(C21) -> 10 | D22: =SUM(D21) -> 30 | E22: =SUM(E21) -> 40 | G22: =SUM(G21) -> 10 | H22: =SUM(H21) -> 30 | I22: =SUM(I21) -> 40 | J22: =SUM(J21) -> 0 | K22: =SUM(K21) -> 0 | L22: =SUM(L21) -> 0 | M22: =SUM(M21) -> 0 | N22: =SUM(N21) -> 0 | O22: =SUM(O21) -> 0
B23: รวมภาคปกติ | C23: =C16+C22+C19 -> 832 | D23: =D16+D22+D19 -> 1555 | E23: =E16+E22+E19 -> 2387 | F23: =F16+F22+F19 -> 0 | G23: =G16+G22+G19 -> 832 | H23: =H16+H22+H19 -> 1555 | I23: =I16+I22+I19 -> 2387 | J23: =J16+J22+J19 -> 0 | ... O23: =O16+O22+O19 -> 0
B24: ภาคพิเศษ
B25: ระดับปริญญาตรี - หลักสูตรศิลปศาสตรบัณฑิต (วุฒิ ปวช./ม.6)
B26: การจัดการการโรงแรม | C26: 21 | D26: 26 | E26: =C26+D26 -> 47 | F26: 1 | G26: =IF(F26=1,C26,"0") -> 21 | H26: =IF(F26=1,D26,"0") -> 26 | I26: =G26+H26 -> 47 | J26: =SUM(N26) -> 0 | K26: =SUM(N33) -> 0 | L26: =J26+K26 -> 0 | M26: =IF(F26=3,C26,"0") -> 0 | N26: =IF(F26=3,D26,"0") -> 0 | O26: =IF(F26=3,E26,"0") -> 0 | P26: อุตสาหกรรมการท่องเที่ยวกลุ่มรายได้ดีและการท่องเที่ยวเชิงสุขภาพ
B27: ภาษาอังกฤษเพื่อการสื่อสาร | C27: 28 | D27: 32 | E27: =C27+D27 -> 60 | F27: 1 | G27: =IF(F27=1,C27,"0") -> 28 | H27: =IF(F27=1,D27,"0") -> 32 | I27: =G27+H27 -> 60 | J27: =SUM(N27) -> 0 | K27: =SUM(N34) -> 0 | L27: =J27+K27 -> 0 | M27: =IF(F27=3,C27,"0") -> 0 | N27: =IF(F27=3,D27,"0") -> 0 | O27: =IF(F27=3,E27,"0") -> 0 | P27: อุตสาหกรรมการท่องเที่ยวกลุ่มรายได้ดีและการท่องเที่ยวเชิงสุขภาพ
B28: รวมในหลักสูตร | C28: =SUM(C26:C27) -> 49 | D28: =SUM(D26:D27) -> 58 | E28: =SUM(E26:E27) -> 107 | G28: =SUM(G26:G27) -> 49 | H28: =SUM(H26:H27) -> 58 | I28: =SUM(I26:I27) -> 107 | J28: =SUM(J27) -> 0 | K28: =SUM(K27) -> 0 | L28: =SUM(L27) -> 0 | M28: =SUM(M27) -> 0 | N28: =SUM(N27) -> 0 | O28: =SUM(O27) -> 0
B29: ระดับปริญญาตรี - หลักสูตรศิลปศาสตรบัณฑิต (วุฒิ ปวส. เทียบโอน)
B30: การจัดการการโรงแรม | C30: 2 | D30: 8 | E30: =C30+D30 -> 10 | F30: 1 | G30: =IF(F30=1,C30,"0") -> 2 | H30: =IF(F30=1,D30,"0") -> 8 | I30: =G30+H30 -> 10 | J30: =SUM(N30) -> 0 | K30: =SUM(N37) -> 0 | L30: =J30+K30 -> 0 | M30: =IF(F30=3,C30,"0") -> 0 | N30: =IF(F30=3,D30,"0") -> 0 | O30: =IF(F30=3,E30,"0") -> 0 | P30: อุตสาหกรรมการท่องเที่ยวกลุ่มรายได้ดีและการท่องเที่ยวเชิงสุขภาพ
B31: รวมในหลักสูตร | C31: =SUM(C30) -> 2 | D31: =SUM(D30) -> 8 | E31: =SUM(E30) -> 10 | F31: =SUM(F30) -> 1 | G31: =SUM(G30) -> 2 | H31: =SUM(H30) -> 8 | I31: =SUM(I30) -> 10 | J31: =SUM(J30) -> 0 | ... O31: =SUM(O30) -> 0
B32: รวมภาคพิเศษ | C32: =C31+C28 -> 51 | D32: =D31+D28 -> 66 | E32: =E31+E28 -> 117 | F32: =F31+F28 -> 1 | G32: =G31+G28 -> 51 | H32: =H31+H28 -> 66 | I32: =I31+I28 -> 117 | J32: =J31+J28 -> 0 | ... O32: =O31+O28 -> 0
B33: รวมทั้งคณะ | C33: =C23+C32 -> 883 | D33: =D23+D32 -> 1621 | E33: =E23+E32 -> 2504 | F33: =F23+F32 -> 1 | G33: =G23+G32 -> 883 | H33: =H23+H32 -> 1621 | I33: =I23+I32 -> 2504 | J33: =J23+J32 -> 0 | ... O33: =O23+O32 -> 0
A34: คณะครุศาสตร์อตุสาหกรรม
B35: ภาคปกติ
B36: ระดับปริญญาตรี - หลักสูตรครุศาสตร์อุตสาหกรรมบัณฑิต (วุฒิ ปวช./ม.6)
B37: วิศวกรรมคอมพิวเตอร์ | C37: 153 | D37: 76 | E37: =C37+D37 -> 229 | F37: 2 | G37: =IF(F37=1,C37,"0") -> 0 | H37: =IF(F37=1,D37,"0") -> 0 | I37: =G37+H37 -> 0 | J37: =IF(F37=2,C37,"0") -> 153 | K37: =IF(F37=2,D37,"0") -> 76 | L37: =J37+K37 -> 229 | M37: =IF(F37=3,C37,"0") -> 0 | N37: =IF(F37=3,D37,"0") -> 0 | O37: =IF(F37=3,E37,"0") -> 0 | P37: อุตสาหกรรมอิเล็กทรอนิกส์อัจฉริยะ/อุตสาหกรรมหุ่นยนต์เพื่ออุตสาหกรรม
B38: วิศวกรรมเครื่องกล | C38: 167 | D38: 22 | E38: =C38+D38 -> 189 | F38: 2 | G38: =IF(F38=1,C38,"0") -> 0 | H38: =IF(F38=1,D38,"0") -> 0 | I38: =G38+H38 -> 0 | J38: =IF(F38=2,C38,"0") -> 167 | K38: =IF(F38=2,D38,"0") -> 22 | L38: =J38+K38 -> 189 | M38: =IF(F38=3,C38,"0") -> 0 | N38: =IF(F38=3,D38,"0") -> 0 | O38: =IF(F38=3,E38,"0") -> 0 | P38: อุตสาหกรรมหุ่นยนต์เพื่ออุตสาหกรรม
B39: วิศวกรรมไฟฟ้า | C39: 123 | D39: 49 | E39: =C39+D39 -> 172 | F39: 2 | G39: =IF(F39=1,C39,"0") -> 0 | H39: =IF(F39=1,D39,"0") -> 0 | I39: =G39+H39 -> 0 | J39: =IF(F39=2,C39,"0") -> 123 | K39: =IF(F39=2,D39,"0") -> 49 | L39: =J39+K39 -> 172 | M39: =IF(F39=3,C39,"0") -> 0 | N39: =IF(F39=3,D39,"0") -> 0 | O39: =IF(F39=3,E39,"0") -> 0 | P39: อุตสาหกรรมอิเล็กทรอนิกส์อัจฉริยะ
B40: วิศวกรรมอิเล็กทรอนิกส์ | C40: 40 | D40: 31 | E40: =C40+D40 -> 71 | F40: 2 | G40: =IF(F40=1,C40,"0") -> 0 | H40: =IF(F40=1,D40,"0") -> 0 | I40: =G40+H40 -> 0 | J40: =IF(F40=2,C40,"0") -> 40 | K40: =IF(F40=2,D40,"0") -> 31 | L40: =J40+K40 -> 71 | M40: =IF(F40=3,C40,"0") -> 0 | N40: =IF(F40=3,D40,"0") -> 0 | O40: =IF(F40=3,E40,"0") -> 0 | P40: อุตสาหกรรมอิเล็กทรอนิกส์อัจฉริยะ
...

Sheet กราฟ
A1: 1.ศิลปศาสตร์ | B1: =นักศึกษาทั้งหมด!E33 -> 2504
A2: 2.ครุศาสตร์อุตสาหกรรม | B2: =นักศึกษาทั้งหมด!E79 -> 2287
A3: 3.เทคโนโลยีการเกษตร | B3: =นักศึกษาทั้งหมด!E95 -> 996
A4: 4.วิศวกรรมศาสตร์ | B4: =นักศึกษาทั้งหมด!E163 -> 5238
A5: 5.บริหารธุรกิจ | B5: =นักศึกษาทั้งหมด!E210 -> 6086
A6: 6.เทคโนโลยีคหกรรมศาสตร์ | B6: =นักศึกษาทั้งหมด!E230 -> 1369
A7: 7.ศิลปกรรมศาสตร์ | B7: =นักศึกษาทั้งหมด!E257 -> 1591
A8: 8.เทคโนโลยีสื่อสารมวลชน | B8: =นักศึกษาทั้งหมด!E284 -> 1512
A9: 9.วิทยาศาสตร์และเทคโนโลยี | B9: =นักศึกษาทั้งหมด!E308 -> 1388
A10: 10.สถาปัตยกรรมศาสตร์ | B10: =นักศึกษาทั้งหมด!E316 -> 824
A11: 11.ะการแพทย์บูรณาการ | B11: =นักศึกษาทั้งหมด!E327 -> 479
A12: 12.พยาบาลศาสตร์ | B12: =นักศึกษาทั้งหมด!E334 -> 473
B13: =SUM(B1:B12) -> 24747
